Felt | Verdi |
AlreadyApplied | True |
Aperture | 5.6 |
ApertureValue | 5.6 |
AutoLateralCA | 0 |
BitsPerSample (1) | 16 16 16 |
BitsPerSample | 8 |
Blacks2012 | 0 |
BlueHue | 0 |
BlueSaturation | 0 |
CameraProfile | Adobe Standard |
CircleOfConfusion | 0.015 mm |
Clarity2012 | +29 |
ColorComponents | 3 |
ColorMode | RGB |
ColorNoiseReduction | 25 |
ColorNoiseReductionDetail | 50 |
ColorSpace | Uncalibrated |
ColorTemperature | 4500 |
Contrast | Normal |
Contrast2012 | 0 |
ConvertToGrayscale | False |
CreateDate (1) | 2013:07:27 01:22 |
CreateDate | 2013:07:27 01:22:00 |
CreatorTool | Adobe Photoshop CS6 (Windows) |
CropAngle | 0 |
CropBottom | 0.958071 |
CropConstrainToWarp | 0 |
CropHeight | 2838 |
CropLeft | 0.084034 |
CropRight | 1 |
CropTop | 0.02935 |
CropUnit | pixels |
CropWidth | 4191 |
CustomRendered | Normal |
DateCreated (1) | 2013:07:27 |
DateCreated | 2013:07:27 01:22 |
DateTimeOriginal | 2013:07:27 01:22:00 |
DefringeGreenAmount | 0 |
DefringeGreenHueHi | 60 |
DefringeGreenHueLo | 40 |
DefringePurpleAmount | 0 |
DefringePurpleHueHi | 70 |
DefringePurpleHueLo | 30 |
DigitalZoomRatio | 0 |
ExifImageHeight | 1500 |
ExifImageWidth | 1016 |
Exposure2012 | -1.31 |
ExposureCompensation | +1 |
ExposureMode | Auto |
ExposureProgram | Aperture-priority AE |
ExposureTime | 1/125 |
Flash | Off, Did not fire |
FNumber | 5.6 |
FocalLength | 24.0 mm |
FocalLength35efl | 24.0 mm (35 mm equivalent: 49.0 mm) |
FocalLengthIn35mmFormat | 49 mm |
Format | image/jpeg |
FOV | 40.3 deg |
GainControl | High gain up |
GrainAmount | 0 |
GreenHue | 0 |
GreenSaturation | 0 |
HasCrop | True |
HasSettings | True |
Highlights2012 | -55 |
HueAdjustmentAqua | 0 |
HueAdjustmentBlue | 0 |
HueAdjustmentGreen | 0 |
HueAdjustmentMagenta | 0 |
HueAdjustmentOrange | 0 |
HueAdjustmentPurple | 0 |
HueAdjustmentRed | 0 |
HueAdjustmentYellow | 0 |
HyperfocalDistance | 6.99 m |
ICCProfileName | ProPhoto RGB |
ImageHeight (1) | 4191 |
ImageHeight | 1500 |
ImageSize | 1016x1500 |
ImageWidth (1) | 2838 |
ImageWidth | 1016 |
ISO | 800 |
Lens | LUMIX G VARIO 14-42/F3.5-5.6 |
LensManualDistortionAmount | +7 |
LensModel | LUMIX G VARIO 14-42/F3.5-5.6 |
LensProfileEnable | 0 |
LensProfileSetup | LensDefaults |
LensSerialNumber | 31SG41706491 |
LightSource | Unknown |
LightValue | 8.9 |
LuminanceAdjustmentAqua | 0 |
LuminanceAdjustmentBlue | 0 |
LuminanceAdjustmentGreen | 0 |
LuminanceAdjustmentMagenta | 0 |
LuminanceAdjustmentOrange | 0 |
LuminanceAdjustmentPurple | 0 |
LuminanceAdjustmentRed | 0 |
LuminanceAdjustmentYellow | 0 |
LuminanceNoiseReductionContrast | 0 |
LuminanceNoiseReductionDetail | 50 |
LuminanceSmoothing | 8 |
Make | Panasonic |
MaxApertureValue | 4.5 |
Megapixels | 1.5 |
MeteringMode | Multi-segment |
Model | DMC-GX1 |
ModifyDate (1) | 2013:07:29 06:23:19+02:00 |
ModifyDate | 2013:07:29 06:23:19 |
Orientation | Horizontal (normal) |
PaintCorrectionActive | true |
PaintCorrectionAmount | 1.000000 |
PaintCorrectionBrightness | 0.000000 |
PaintCorrectionClarity2012 (2) | 0.379310 |
PaintCorrectionClarity2012 | 0.000000 |
PaintCorrectionContrast2012 (1) | -0.057470 |
PaintCorrectionContrast2012 (2) | -0.172410 |
PaintCorrectionContrast2012 | -0.034480 |
PaintCorrectionDefringe | 0.000000 |
PaintCorrectionExposure2012 (1) | 0.241500 |
PaintCorrectionExposure2012 (2) | 0.149500 |
PaintCorrectionExposure2012 | 0.103500 |
PaintCorrectionHighlights2012 (1) | -0.034480 |
PaintCorrectionHighlights2012 (2) | -0.379310 |
PaintCorrectionHighlights2012 | 0.425290 |
PaintCorrectionHue | 0.000000 |
PaintCorrectionLuminanceNoise (2) | -0.885060 |
PaintCorrectionLuminanceNoise | 0.000000 |
PaintCorrectionMaskCenterWeight | 0.070315 |
PaintCorrectionMaskFlow (2) | 0.555000 |
PaintCorrectionMaskFlow | 0.800000 |
PaintCorrectionMaskRadius (1) | 0.068127 |
PaintCorrectionMaskRadius (10) | 0.050633 |
PaintCorrectionMaskRadius (11) | 0.050200 |
PaintCorrectionMaskRadius (12) | 0.050789 |
PaintCorrectionMaskRadius (13) | 0.050380 |
PaintCorrectionMaskRadius (14) | 0.034095 |
PaintCorrectionMaskRadius (15) | 0.034073 |
PaintCorrectionMaskRadius (16) | 0.076448 |
PaintCorrectionMaskRadius (17) | 0.076683 |
PaintCorrectionMaskRadius (18) | 0.077251 |
PaintCorrectionMaskRadius (19) | 0.076466 |
PaintCorrectionMaskRadius (20) | 0.076302 |
PaintCorrectionMaskRadius (21) | 0.050930 |
PaintCorrectionMaskRadius (22) | 0.025866 |
PaintCorrectionMaskRadius (23) | 0.018005 |
PaintCorrectionMaskRadius (24) | 0.018012 |
PaintCorrectionMaskRadius (25) | 0.025772 |
PaintCorrectionMaskRadius (26) | 0.025718 |
PaintCorrectionMaskRadius (27) | 0.061786 |
PaintCorrectionMaskRadius (28) | 0.061307 |
PaintCorrectionMaskRadius (29) | 0.061011 |
PaintCorrectionMaskRadius (3) | 0.068154 |
PaintCorrectionMaskRadius (30) | 0.059783 |
PaintCorrectionMaskRadius (4) | 0.068196 |
PaintCorrectionMaskRadius (5) | 0.068203 |
PaintCorrectionMaskRadius (6) | 0.068022 |
PaintCorrectionMaskRadius (7) | 0.050734 |
PaintCorrectionMaskRadius (8) | 0.050862 |
PaintCorrectionMaskRadius (9) | 0.050686 |
PaintCorrectionMaskRadius | 0.060609 |
PaintCorrectionMaskValue (3) | 0.674000 |
PaintCorrectionMaskValue | 0.764000 |
PaintCorrectionMaskWhat | Mask/Paint |
PaintCorrectionMoire | 0.000000 |
PaintCorrectionSaturation (3) | 0.287360 |
PaintCorrectionSaturation | 0.000000 |
PaintCorrectionShadows2012 (1) | 0.540230 |
PaintCorrectionShadows2012 (2) | 0.770110 |
PaintCorrectionShadows2012 | -0.264370 |
PaintCorrectionSharpness (1) | 0.563220 |
PaintCorrectionSharpness (2) | 0.747130 |
PaintCorrectionSharpness | 0.000000 |
PaintCorrectionTemperature | 0.000000 |
PaintCorrectionTint | 0.000000 |
PaintCorrectionWhat | Correction |
ParametricDarks | 0 |
ParametricHighlights | 0 |
ParametricHighlightSplit | 75 |
ParametricLights | 0 |
ParametricMidtoneSplit | 50 |
ParametricShadows | 0 |
ParametricShadowSplit | 25 |
PerspectiveHorizontal | +10 |
PerspectiveRotate | 0.0 |
PerspectiveScale | 100 |
PerspectiveVertical | 0 |
PhotometricInterpretation | RGB |
PlanarConfiguration | Chunky |
PostCropVignetteAmount | -33 |
PostCropVignetteFeather | 68 |
PostCropVignetteHighlightContrast | 52 |
PostCropVignetteMidpoint | 65 |
PostCropVignetteRoundness | +17 |
PostCropVignetteStyle | 1 |
ProcessVersion | 6.7 |
ProfileDescription | ProPhoto RGB |
RedHue | 0 |
RedSaturation | 0 |
Saturation (1) | 0 |
Saturation | Normal |
SaturationAdjustmentAqua | 0 |
SaturationAdjustmentBlue | 0 |
SaturationAdjustmentGreen | 0 |
SaturationAdjustmentMagenta | 0 |
SaturationAdjustmentOrange | 0 |
SaturationAdjustmentPurple | 0 |
SaturationAdjustmentRed | 0 |
SaturationAdjustmentYellow | 0 |
ScaleFactor35efl | 2.0 |
SceneCaptureType | Standard |
SceneType | Directly photographed |
SensingMethod | One-chip color area |
Shadows2012 | 0 |
ShadowTint | 0 |
SharpenDetail | 25 |
SharpenEdgeMasking | 12 |
SharpenRadius | +2.1 |
Sharpness (1) | 70 |
Sharpness | Normal |
ShutterSpeed | 1/125 |
ShutterSpeedValue | 1/125 |
Software | Adobe Photoshop CS6 (Windows) |
SplitToningBalance | 0 |
SplitToningHighlightHue | 0 |
SplitToningHighlightSaturation | 0 |
SplitToningShadowHue | 0 |
SplitToningShadowSaturation | 0 |
Tint | +14 |
ToneCurveName2012 | Linear |
ToneCurvePV2012 | 0, 0, 255, 255 |
ToneCurvePV2012Blue | 0, 0, 255, 255 |
ToneCurvePV2012Green | 0, 0, 255, 255 |
ToneCurvePV2012Red | 0, 0, 255, 255 |
URL_List | |
Version | 7.4 |
Vibrance | 0 |
VignetteAmount | 0 |
WhiteBalance (1) | As Shot |
WhiteBalance | Auto |
Whites2012 | 0 |