Felt | Verdi |
AlreadyApplied | True |
Aperture | 11.0 |
ApertureValue | 11.0 |
ApproximateFocusDistance | 15 |
BitsPerSample | 8 |
BlueHue | 0 |
BlueSaturation | 0 |
Brightness | +50 |
CameraProfile | Adobe Standard |
CFAPattern | [Red,Green][Green,Blue] |
ChromaticAberrationB | 0 |
ChromaticAberrationR | 0 |
CircleOfConfusion | 0.020 mm |
Clarity | 0 |
ColorComponents | 3 |
ColorNoiseReduction | 25 |
ColorNoiseReductionDetail | 50 |
ColorTemperature | 4900 |
Contrast (1) | +59 |
Contrast | Normal |
ConvertToGrayscale | False |
CreateDate (1) | 2013:03:23 17:58:19.40 |
CreateDate | 2013:03:23 17:58:19 |
CreatorTool | Adobe Photoshop Lightroom 3.6 (Macintosh) |
CropAngle | -0.024477 |
CropBottom | 0.64721 |
CropConstrainToWarp | 0 |
CropHeight | 1458 |
CropLeft | 0.227515 |
CropRight | 0.846976 |
CropTop | 0.200801 |
CropUnit | pixels |
CropWidth | 3052 |
CustomRendered | Normal |
DateCreated (1) | 2013:03:23 |
DateCreated | 2013:03:23 17:58:19.40 |
DateTimeOriginal | 2013:03:23 17:58:19 |
Defringe | 0 |
DigitalZoomRatio | 1 |
DOF | 0.60 m (14.70 - 15.31 m) |
Exposure | -0.35 |
ExposureCompensation | 0 |
ExposureMode | Manual |
ExposureProgram | Manual |
ExposureTime | 1/1000 |
FillLight | 40 |
Flash | Off, Did not fire |
FNumber | 11.0 |
FocalLength | 400.0 mm |
FocalLength35efl | 400.0 mm (35 mm equivalent: 600.0 mm) |
FocalLengthIn35mmFormat | 600 mm |
Format | image/jpeg |
FOV | 3.4 deg |
GainControl | Low gain up |
GrainAmount | 0 |
GreenHue | 0 |
GreenSaturation | 0 |
HasCrop | True |
HasSettings | True |
HighlightRecovery | 0 |
HueAdjustmentAqua | 0 |
HueAdjustmentBlue | 0 |
HueAdjustmentGreen | 0 |
HueAdjustmentMagenta | 0 |
HueAdjustmentOrange | 0 |
HueAdjustmentPurple | 0 |
HueAdjustmentRed | 0 |
HueAdjustmentYellow | 0 |
HyperfocalDistance | 726.15 m |
ImageHeight | 1458 |
ImageNumber | 39846 |
ImageSize | 3052x1458 |
ImageWidth | 3052 |
ISO | 500 |
Lens | 80.0-400.0 mm f/4.5-5.6 |
LensID (1) | 101 |
LensID | AF VR Zoom-Nikkor 80-400mm f/4.5-5.6D ED |
LensInfo | 80-400mm f/4.5-5.6 |
LensManualDistortionAmount | 0 |
LensModel | 80.0-400.0 mm f/4.5-5.6 |
LensProfileEnable | 0 |
LensProfileSetup | LensDefaults |
LightSource | Unknown |
LightValue | 14.6 |
LuminanceAdjustmentAqua | 0 |
LuminanceAdjustmentBlue | 0 |
LuminanceAdjustmentGreen | 0 |
LuminanceAdjustmentMagenta | 0 |
LuminanceAdjustmentOrange | 0 |
LuminanceAdjustmentPurple | 0 |
LuminanceAdjustmentRed | 0 |
LuminanceAdjustmentYellow | 0 |
LuminanceNoiseReductionContrast | 0 |
LuminanceNoiseReductionDetail | 50 |
LuminanceSmoothing | 18 |
Make | NIKON CORPORATION |
MaxApertureValue | 5.7 |
Megapixels | 4.4 |
MeteringMode | Multi-segment |
Model | NIKON D7000 |
ModifyDate (1) | 2013:03:23 18:43:49+01:00 |
ModifyDate | 2013:03:23 18:43:49 |
ParametricDarks | 0 |
ParametricHighlights | 0 |
ParametricHighlightSplit | 75 |
ParametricLights | 0 |
ParametricMidtoneSplit | 50 |
ParametricShadows | 0 |
ParametricShadowSplit | 25 |
PerspectiveHorizontal | 0 |
PerspectiveRotate | 0.0 |
PerspectiveScale | 100 |
PerspectiveVertical | 0 |
PostCropVignetteAmount | 0 |
ProcessVersion | 5.7 |
ProfileDescription | sRGB IEC61966-2.1 |
RedHue | 0 |
RedSaturation | 0 |
Saturation (1) | 0 |
Saturation | Normal |
SaturationAdjustmentAqua | 0 |
SaturationAdjustmentBlue | 0 |
SaturationAdjustmentGreen | 0 |
SaturationAdjustmentMagenta | 0 |
SaturationAdjustmentOrange | 0 |
SaturationAdjustmentPurple | 0 |
SaturationAdjustmentRed | 0 |
SaturationAdjustmentYellow | 0 |
ScaleFactor35efl | 1.5 |
SceneCaptureType | Standard |
SceneType | Directly photographed |
SensingMethod | One-chip color area |
SensitivityType | Recommended Exposure Index |
SerialNumber | 6200900 |
Shadows | 5 |
ShadowTint | 0 |
SharpenDetail | 25 |
SharpenEdgeMasking | 19 |
SharpenRadius | +1.8 |
Sharpness (1) | 70 |
Sharpness | Normal |
ShutterSpeed | 1/1000 |
ShutterSpeedValue | 1/1000 |
Software | Adobe Photoshop Lightroom 3.6 (Macintosh) |
SplitToningBalance | 0 |
SplitToningHighlightHue | 0 |
SplitToningHighlightSaturation | 0 |
SplitToningShadowHue | 0 |
SplitToningShadowSaturation | 0 |
SubjectDistance | 15 m |
SubjectDistanceRange | Unknown |
Tint | +6 |
ToneCurve | 0, 0, 32, 22, 64, 56, 128, 128, 192, 196, 255, 255 |
ToneCurveName | Medium Contrast |
Version | 6.6 |
Vibrance | 0 |
VignetteAmount | 0 |
WhiteBalance (1) | As Shot |
WhiteBalance | Auto |