Felt | Verdi |
AlreadyApplied | True |
Aperture | 3.2 |
ApertureValue | 3.2 |
ApproximateFocusDistance | 4294967295 |
Artist | Zoltan Tot |
AutoLateralCA | 0 |
BitsPerSample (1) | 8 8 8 |
BitsPerSample | 8 |
Blacks2012 | -18 |
BlueHue | 0 |
BlueSaturation | 0 |
By-line | Zoltan Tot |
CameraProfile | Adobe Standard |
CFAPattern | [Red,Green][Green,Blue] |
CircleOfConfusion | 0.030 mm |
Clarity2012 | +30 |
ColorComponents | 3 |
ColorMode | RGB |
ColorNoiseReduction | 25 |
ColorNoiseReductionDetail | 20 |
ColorSpace | Uncalibrated |
ColorTemperature | 5550 |
Contrast | Normal |
Contrast2012 | +8 |
ConvertToGrayscale | False |
Copyright | Zoltan ToT |
CopyrightNotice | Zoltan ToT |
CreateDate | 2013:02:13 21:42:32 |
Creator | Zoltan Tot |
CreatorTool | Adobe Photoshop CS6 (Macintosh) |
CropAngle | 2.653554 |
CropBottom | 1 |
CropConstrainToWarp | 1 |
CropLeft | 0.040381 |
CropRight | 0.971123 |
CropTop | -0 |
CustomRendered | Custom |
DateCreated (1) | 2013:02:13 |
DateCreated | 2013:02:13 21:42:32.004 |
DateTimeOriginal | 2013:02:13 21:42:32 |
DefringeGreenAmount | 0 |
DefringeGreenHueHi | 60 |
DefringeGreenHueLo | 40 |
DefringePurpleAmount | 0 |
DefringePurpleHueHi | 70 |
DefringePurpleHueLo | 30 |
DigitalZoomRatio | 1 |
DOF | inf (2.04 m - inf) |
ExifImageHeight | 974 |
ExifImageWidth | 1500 |
Exposure2012 | +0.65 |
ExposureCompensation | 0 |
ExposureMode | Manual |
ExposureProgram | Manual |
ExposureTime | 10 |
Flash | Off, Did not fire |
FNumber | 3.2 |
FocalLength | 14.0 mm |
FocalLength35efl | 14.0 mm (35 mm equivalent: 14.0 mm) |
FocalLengthIn35mmFormat | 14 mm |
Format | image/jpeg |
FOV | 104.3 deg |
GainControl | Low gain up |
GradientBasedCorrActive | true |
GradientBasedCorrAmount | 1.000000 |
GradientBasedCorrBrightness | 0.000000 |
GradientBasedCorrClarity | 0.000000 |
GradientBasedCorrClarity2012 (1) | 0.340000 |
GradientBasedCorrClarity2012 | 0.000000 |
GradientBasedCorrContrast | 0.000000 |
GradientBasedCorrContrast2012 (1) | 0.380000 |
GradientBasedCorrContrast2012 | 0.000000 |
GradientBasedCorrDefringe | 0.000000 |
GradientBasedCorrExposure | 0.000000 |
GradientBasedCorrExposure2012 (1) | 0.062500 |
GradientBasedCorrExposure2012 (2) | 0.100000 |
GradientBasedCorrExposure2012 (3) | -0.025000 |
GradientBasedCorrExposure2012 | 0.300000 |
GradientBasedCorrHighlights2012 (1) | -0.050000 |
GradientBasedCorrHighlights2012 (2) | 1.000000 |
GradientBasedCorrHighlights2012 | 0.190000 |
GradientBasedCorrHue (1) | 241.000000 |
GradientBasedCorrHue | 298.000000 |
GradientBasedCorrLuminanceNoise | 0.060000 |
GradientBasedCorrMaskFullX (1) | 0.467919 |
GradientBasedCorrMaskFullX (2) | 0.987948 |
GradientBasedCorrMaskFullX (3) | 0.213399 |
GradientBasedCorrMaskFullX | 0.498515 |
GradientBasedCorrMaskFullY (1) | 0.005596 |
GradientBasedCorrMaskFullY (2) | 0.571615 |
GradientBasedCorrMaskFullY (3) | 0.612851 |
GradientBasedCorrMaskFullY | 0.979232 |
GradientBasedCorrMaskValue | 1.000000 |
GradientBasedCorrMaskWhat | Mask/Gradient |
GradientBasedCorrMaskZeroX (1) | 0.436103 |
GradientBasedCorrMaskZeroX (2) | 0.548629 |
GradientBasedCorrMaskZeroX (3) | 0.861260 |
GradientBasedCorrMaskZeroX | 0.512838 |
GradientBasedCorrMaskZeroY (1) | 0.976237 |
GradientBasedCorrMaskZeroY (2) | 0.023243 |
GradientBasedCorrMaskZeroY (3) | 0.366109 |
GradientBasedCorrMaskZeroY | 0.602862 |
GradientBasedCorrMoire | 0.000000 |
GradientBasedCorrSaturation (3) | 0.510000 |
GradientBasedCorrSaturation (6) | 1.000000 |
GradientBasedCorrSaturation (7) | -0.510000 |
GradientBasedCorrSaturation | 0.000000 |
GradientBasedCorrShadows2012 (1) | 0.740000 |
GradientBasedCorrShadows2012 (2) | 0.960000 |
GradientBasedCorrShadows2012 | 0.210000 |
GradientBasedCorrSharpness (3) | 0.130000 |
GradientBasedCorrSharpness | 0.000000 |
GradientBasedCorrTemperature (1) | -0.150000 |
GradientBasedCorrTemperature (3) | -0.760000 |
GradientBasedCorrTemperature | 0.000000 |
GradientBasedCorrTint (1) | 0.180000 |
GradientBasedCorrTint (2) | -0.670000 |
GradientBasedCorrTint | 0.000000 |
GradientBasedCorrWhat | Correction |
GrainAmount | 0 |
GreenHue | 0 |
GreenSaturation | 0 |
HasCrop | True |
HasSettings | True |
Highlights2012 | -38 |
HueAdjustmentAqua | 0 |
HueAdjustmentBlue | 0 |
HueAdjustmentGreen | -5 |
HueAdjustmentMagenta | 0 |
HueAdjustmentOrange | 0 |
HueAdjustmentPurple | 0 |
HueAdjustmentRed | 0 |
HueAdjustmentYellow | 0 |
HyperfocalDistance | 2.04 m |
ICCProfileName | Adobe RGB (1998) |
ImageHeight (1) | 1126 |
ImageHeight | 974 |
ImageNumber | 891 |
ImageSize | 1500x974 |
ImageWidth (1) | 1734 |
ImageWidth | 1500 |
ISO | 800 |
Lens | 14.0 mm f/2.8 |
LensID (1) | 74 |
LensID | Samyang AE 14mm f/2.8 ED AS IF UMC |
LensInfo | 14mm f/2.8-1.4 |
LensManualDistortionAmount | 0 |
LensModel | 14.0 mm f/2.8 |
LensProfileEnable | 0 |
LensProfileSetup | LensDefaults |
LightSource | Fine Weather |
LightValue | -3.0 |
LuminanceAdjustmentAqua | +1 |
LuminanceAdjustmentBlue | 0 |
LuminanceAdjustmentGreen | 0 |
LuminanceAdjustmentMagenta | 0 |
LuminanceAdjustmentOrange | 0 |
LuminanceAdjustmentPurple | 0 |
LuminanceAdjustmentRed | 0 |
LuminanceAdjustmentYellow | 0 |
LuminanceNoiseReductionContrast | 4 |
LuminanceNoiseReductionDetail | 10 |
LuminanceSmoothing | 30 |
Make | NIKON CORPORATION |
MaxApertureValue | 2.8 |
Megapixels | 1.5 |
MeteringMode | Center-weighted average |
Model | NIKON D600 |
ModifyDate (1) | 2013:02:14 22:14:23+01:00 |
ModifyDate | 2013:02:14 22:14:23 |
Orientation | Horizontal (normal) |
ParametricDarks | 0 |
ParametricHighlights | 0 |
ParametricHighlightSplit | 75 |
ParametricLights | +11 |
ParametricMidtoneSplit | 50 |
ParametricShadows | 0 |
ParametricShadowSplit | 25 |
PerspectiveHorizontal | 0 |
PerspectiveRotate | 0.0 |
PerspectiveScale | 100 |
PerspectiveVertical | 0 |
PhotometricInterpretation | RGB |
PostCropVignetteAmount | 0 |
ProcessVersion | 6.7 |
ProfileDescription | Adobe RGB (1998) |
Rating | 0 |
RawFileName | _BDS0800.NEF |
RedHue | 0 |
RedSaturation | 0 |
Rights | Zoltan ToT |
Saturation (1) | 0 |
Saturation | Normal |
SaturationAdjustmentAqua | 0 |
SaturationAdjustmentBlue | 0 |
SaturationAdjustmentGreen | 0 |
SaturationAdjustmentMagenta | 0 |
SaturationAdjustmentOrange | 0 |
SaturationAdjustmentPurple | 0 |
SaturationAdjustmentRed | 0 |
SaturationAdjustmentYellow | 0 |
ScaleFactor35efl | 1.0 |
SceneCaptureType | Standard |
SceneType | Directly photographed |
SensingMethod | One-chip color area |
SensitivityType | Recommended Exposure Index |
SerialNumber | 6015639 |
Shadows2012 | -2 |
ShadowTint | 0 |
SharpenDetail | 14 |
SharpenEdgeMasking | 6 |
SharpenRadius | +0.8 |
Sharpness (1) | 7 |
Sharpness | Normal |
ShutterSpeed | 10 |
ShutterSpeedValue | 10 |
Software | Adobe Photoshop CS6 (Macintosh) |
SplitToningBalance | 0 |
SplitToningHighlightHue | 0 |
SplitToningHighlightSaturation | 0 |
SplitToningShadowHue | 0 |
SplitToningShadowSaturation | 0 |
SubjectDistanceRange | Unknown |
Tint | +4 |
ToneCurveName2012 | Linear |
ToneCurvePV2012 | 0, 0, 255, 255 |
ToneCurvePV2012Blue | 0, 0, 255, 255 |
ToneCurvePV2012Green | 0, 0, 255, 255 |
ToneCurvePV2012Red | 0, 0, 255, 255 |
URL_List | |
Version | 7.3 |
Vibrance | +18 |
VignetteAmount | +20 |
VignetteMidpoint | 50 |
WhiteBalance (1) | Custom |
WhiteBalance | Manual |
Whites2012 | +17 |