Felt | Verdi |
AlreadyApplied | True |
Aperture | 8.0 |
ApertureValue | 8.0 |
BitsPerSample | 8 |
BlackClip | 0.024200 |
BlueHue | 0 |
BlueSaturation | 0 |
Brightness | 0 |
CameraProfile | Embedded |
ChromaticAberrationB | 0 |
ChromaticAberrationR | 0 |
Clarity | 0 |
ColorComponents | 1 |
ColorNoiseReduction | 0 |
ColorSaturation | 53.0 |
ColorTemperature | 2.9 |
Contrast | 0 |
ConvertToGrayscale | True |
CreateDate | 2012:01:21 13:16:55 |
CreatorTool | Adobe Photoshop Lightroom 3.4.1 |
DateCreated (1) | 2012:01:21 |
DateCreated | 2012:01:21 13:16:55 |
DateTimeOriginal | 2012:01:21 13:16:55 |
Defringe | 0 |
Exposure | -1.85 |
ExposureTime | 1/180 |
FillLight | 19 |
FNumber | 8.0 |
Gamma | 1.2 |
GrainAmount | 0 |
GrayMixerAqua | -18 |
GrayMixerBlue | +8 |
GrayMixerGreen | -26 |
GrayMixerMagenta | +3 |
GrayMixerOrange | -18 |
GrayMixerPurple | +14 |
GrayMixerRed | -9 |
GrayMixerYellow | -21 |
GreenHue | 0 |
GreenSaturation | 0 |
HasCrop | False |
HasSettings | True |
HighlightRecovery | 100 |
HighlightsSmoothing | 0.0 |
ImageHeight | 758 |
ImageSize | 800x758 |
ImageWidth | 800 |
IncrementalTemperature | -25 |
IncrementalTint | 0 |
ISO | 320 |
LensManualDistortionAmount | 0 |
LensProfileEnable | 0 |
LensProfileSetup | LensDefaults |
LightValue | 11.8 |
LuminanceSmoothing | 0 |
Luminosity | -4.1 |
Megapixels | 0.606 |
Method | Details Enhancer |
Microcontrast | 0.3 |
Microsmoothing | 2.0 |
Model | M8 Digital Camera |
ModifyDate (1) | 2012:03:02 19:50:09+01:00 |
ModifyDate | 2012:03:02 19:50:09 |
PaintCorrectionActive | true |
PaintCorrectionAmount | 1.000000 |
PaintCorrectionBrightness (1) | 0.036483 |
PaintCorrectionBrightness | 0.000000 |
PaintCorrectionClarity (1) | 0.679245 |
PaintCorrectionClarity | 1.000000 |
PaintCorrectionContrast (1) | 0.035525 |
PaintCorrectionContrast | 0.045769 |
PaintCorrectionExposure (1) | 0.047317 |
PaintCorrectionExposure | 0.092202 |
PaintCorrectionHue | 57.000000 |
PaintCorrectionMaskCenterWeight | 0.146956 |
PaintCorrectionMaskFlow | 0.974831 |
PaintCorrectionMaskRadius (3) | 0.007636 |
PaintCorrectionMaskRadius | 0.018689 |
PaintCorrectionMaskValue | 1.000000 |
PaintCorrectionMaskWhat | Mask/Paint |
PaintCorrectionSaturation (1) | -0.053729 |
PaintCorrectionSaturation | 0.000000 |
PaintCorrectionSharpness (1) | 0.232385 |
PaintCorrectionSharpness | 0.260024 |
PaintCorrectionWhat | Correction |
ParametricDarks | 0 |
ParametricHighlights | 0 |
ParametricHighlightSplit | 75 |
ParametricLights | 0 |
ParametricMidtoneSplit | 50 |
ParametricShadows | 0 |
ParametricShadowSplit | 25 |
PerspectiveHorizontal | 0 |
PerspectiveRotate | 0.0 |
PerspectiveScale | 100 |
PerspectiveVertical | 0 |
PostCropVignetteAmount | -19 |
PostCropVignetteFeather | 50 |
PostCropVignetteHighlightContrast | 0 |
PostCropVignetteMidpoint | 50 |
PostCropVignetteRoundness | 0 |
PostCropVignetteStyle | 1 |
ProcessVersion | 5.7 |
ProfileDescription | sRGB IEC61966-2.1 |
RedHue | 0 |
RedSaturation | 0 |
SaturationHighlights | -1.7 |
SaturationShadows | 0.7 |
Shadows | 10 |
ShadowsClipping | 0.0 |
ShadowsSmoothing | 0.0 |
ShadowTint | 0 |
SharpenDetail | 25 |
SharpenEdgeMasking | 0 |
SharpenRadius | +1.0 |
Sharpness | 0 |
ShutterSpeed | 1/180 |
ShutterSpeedValue | 1/180 |
Smoothing | Very High |
SmoothingMode | Light |
Software | Adobe Photoshop Lightroom 3.4.1 |
SplitToningBalance | 0 |
SplitToningHighlightHue | 0 |
SplitToningHighlightSaturation | 0 |
SplitToningShadowHue | 0 |
SplitToningShadowSaturation | 0 |
Strength | 70.0 |
ToneCurve | 0, 0, 255, 255 |
ToneCurveName | Linear |
Version (1) | 3.2 |
Version | 6.4.1 |
VignetteAmount | 0 |
WhiteBalance | Custom |
WhiteClip | 0.304650 |