Felt | Verdi |
Aperture | 3.2 |
ApertureValue | 3.2 |
BitsPerSample | 8 |
BlueHue | 0 |
BlueSaturation | 0 |
ChromaticAberrationR | 0 |
CircleOfConfusion | 0.019 mm |
ColorComponents | 3 |
ColorMode | RGB |
ColorNoiseReduction | 25 |
ColorNoiseReductionDetail | 50 |
ColorSpace (1) | sRGB |
ColorTemperature | 5200 |
ConvertToGrayscale | False |
CreateDate (1) | 2012:02:11 17:04:45.04+01:00 |
CustomRendered | Normal |
DateCreated | 2012:02:11 |
DateTimeDigitized | 2012:02:11 17:04:45+01:00 |
DateTimeOriginal (1) | 2012:02:11 17:04:45+01:00 |
DateTimeOriginal | 2012:02:11 17:04:45 |
Defringe | 0 |
ExifImageWidth | 4272 |
Exposure | 0.00 |
ExposureCompensation | 0 |
ExposureMode | Manual |
ExposureProgram | Manual |
ExposureTime (1) | 1/200 |
Flash | Off, Did not fire |
FlashCompensation | 0 |
FlashFired | False |
FlashFunction | False |
FlashMode | Off |
FlashRedEyeMode | False |
FlashReturn | No return detection |
FNumber | 3.2 |
FocalLength (1) | 178.0 mm |
FocalLength35efl | 178.0 mm (35 mm equivalent: 287.5 mm) |
Format | image/jpeg |
FOV | 7.2 deg |
GrainAmount | 0 |
GreenHue | 0 |
GreenSaturation | 0 |
HasCrop | False |
HasSettings | True |
HighlightRecovery | 14 |
HueAdjustmentBlue | 0 |
HueAdjustmentGreen | 0 |
HueAdjustmentOrange | 0 |
HueAdjustmentRed | 0 |
HueAdjustmentYellow | 0 |
ICCProfileName | sRGB IEC61966-2.1 |
ISO | 400 |
Lens | 70-200mm |
LensID (1) | 131 |
LensInfo | 70-200mm f/? |
LensModel | 70-200mm |
LensProfileEnable | 0 |
LensProfileSetup | LensDefaults |
LightValue | 9.0 |
LuminanceAdjustmentAqua | 0 |
LuminanceAdjustmentBlue | 0 |
LuminanceAdjustmentGreen | 0 |
LuminanceAdjustmentMagenta | 0 |
LuminanceAdjustmentPurple | 0 |
LuminanceAdjustmentRed | 0 |
LuminanceAdjustmentYellow | 0 |
Make (1) | Canon |
MaxApertureValue | 2.8 |
MeteringMode (1) | Center-weighted average |
Model (1) | Canon EOS 450D |
ModifyDate (1) | 2012:02:11 21:24:35+01:00 |
ModifyDate | 2012:02:11 21:32:03 |
Orientation | Horizontal (normal) |
ParametricDarks | 0 |
ParametricLights | 0 |
ParametricMidtoneSplit | 50 |
ParametricShadows | 0 |
PerspectiveRotate | 0.0 |
PerspectiveScale | 100 |
PerspectiveVertical | 0 |
ProcessVersion | 5.7 |
ProfileDescription | sRGB IEC61966-2.1 |
Rating | 0 |
RawFileName | IMG_2331.CR2 |
RedHue | 0 |
RedSaturation | 0 |
Saturation | 0 |
SaturationAdjustmentAqua | 0 |
SaturationAdjustmentBlue | 0 |
SaturationAdjustmentGreen | 0 |
SaturationAdjustmentPurple | 0 |
SaturationAdjustmentRed | 0 |
SaturationAdjustmentYellow | 0 |
SceneCaptureType | Standard |
SerialNumber | 430103251 |
ShadowTint | 0 |
SharpenEdgeMasking | 0 |
Sharpness | 25 |
ShutterSpeedValue | 1/200 |
Software | Elements Organizer 9.0 |
SplitToningBalance | 0 |
SplitToningHighlightHue | 0 |
SubjectDistance | 6.02 m |
ToneCurve | 0, 0, 32, 22, 64, 56, 128, 128, 192, 196, 255, 255 |
Version | 6.5 |
Vibrance | 0 |
WhiteBalance (2) | As Shot |
WhiteBalance | Auto |