Felt | Verdi |
AlreadyApplied | True |
Aperture | 10.0 |
ApertureValue | 10.0 |
ApproximateFocusDistance | 2.84 |
BitsPerSample | 8 |
BlueHue | 0 |
BlueSaturation | 0 |
Brightness | +44 |
CameraProfile | Adobe Standard |
ChromaticAberrationB | 0 |
ChromaticAberrationR | 0 |
CircleOfConfusion | 0.019 mm |
Clarity | -32 |
ColorComponents | 3 |
ColorMode | RGB |
ColorNoiseReduction | 25 |
ColorNoiseReductionDetail | 50 |
ColorSpace | sRGB |
ColorTemperature | 5500 |
Contrast | +22 |
ConvertToGrayscale | False |
CreateDate (1) | 2011:12:07 15:35:25.57 |
CreateDate | 2011:12:07 15:35:25 |
CreatorTool | Adobe Photoshop Lightroom 3.5 (Macintosh) |
CropAngle | 0 |
CropBottom | 0.758929 |
CropConstrainToWarp | 0 |
CropHeight | 1101 |
CropLeft | 0.284722 |
CropRight | 0.780755 |
CropTop | 0.122024 |
CropUnit | pixels |
CropWidth | 1286 |
CustomRendered | Normal |
DateCreated | 2011:12:07 |
DateTimeDigitized | 2011:12:07 15:35:25+01:00 |
DateTimeOriginal (1) | 2011:12:07 15:35:25+01:00 |
DateTimeOriginal | 2011:12:07 15:35:25 |
Defringe | 0 |
DOF | 0.10 m (2.79 - 2.89 m) |
ExifImageHeight | 1101 |
ExifImageWidth | 1286 |
Exposure | +1.35 |
ExposureCompensation | 0 |
ExposureMode | Manual |
ExposureProgram | Manual |
ExposureTime | 1/250 |
FillLight | 0 |
Firmware | 1.0.8 |
Flash | On, Fired |
FlashCompensation | 0 |
FlashFired | True |
FlashFunction | False |
FlashMode | On |
FlashRedEyeMode | False |
FlashReturn | No return detection |
FNumber | 10.0 |
FocalLength | 167.0 mm |
FocalLength35efl | 167.0 mm (35 mm equivalent: 262.7 mm) |
Format | image/jpeg |
FOV | 7.8 deg |
GrainAmount | 0 |
GreenHue | 0 |
GreenSaturation | 0 |
HasCrop | True |
HasSettings | True |
HighlightRecovery | 42 |
HueAdjustmentAqua | 0 |
HueAdjustmentBlue | 0 |
HueAdjustmentGreen | 0 |
HueAdjustmentMagenta | 0 |
HueAdjustmentOrange | 0 |
HueAdjustmentPurple | 0 |
HueAdjustmentRed | 0 |
HueAdjustmentYellow | 0 |
HyperfocalDistance | 145.98 m |
ICCProfileName | sRGB IEC61966-2.1 |
ImageHeight | 1101 |
ImageNumber | 0 |
ImageSize | 1286x1101 |
ImageWidth | 1286 |
ISO | 200 |
Lens | 50-500mm |
LensID (1) | 174 |
LensID | Sigma 50-500mm f/4.5-6.3 APO DG OS HSM |
LensInfo | 50-500mm f/? |
LensManualDistortionAmount | 0 |
LensModel | 50-500mm |
LensProfileEnable | 0 |
LensProfileSetup | LensDefaults |
LensSerialNumber | 0000000000 |
LightValue | 13.6 |
LuminanceAdjustmentAqua | 0 |
LuminanceAdjustmentBlue | 0 |
LuminanceAdjustmentGreen | 0 |
LuminanceAdjustmentMagenta | 0 |
LuminanceAdjustmentOrange | 0 |
LuminanceAdjustmentPurple | 0 |
LuminanceAdjustmentRed | 0 |
LuminanceAdjustmentYellow | 0 |
LuminanceNoiseReductionContrast | 0 |
LuminanceNoiseReductionDetail | 2 |
LuminanceSmoothing | 2 |
Make | Canon |
MaxApertureValue | 5.9 |
Megapixels | 1.4 |
MeteringMode | Partial |
Model | Canon EOS 60D |
ModifyDate (1) | 2011:12:07 20:21:13+01:00 |
ModifyDate | 2011:12:07 20:21:13 |
Orientation | Horizontal (normal) |
ParametricDarks | +13 |
ParametricHighlights | -15 |
ParametricHighlightSplit | 75 |
ParametricLights | +11 |
ParametricMidtoneSplit | 50 |
ParametricShadows | +1 |
ParametricShadowSplit | 25 |
PerspectiveHorizontal | 0 |
PerspectiveRotate | 0.0 |
PerspectiveScale | 100 |
PerspectiveVertical | 0 |
PostCropVignetteAmount | -23 |
PostCropVignetteFeather | 50 |
PostCropVignetteHighlightContrast | 0 |
PostCropVignetteMidpoint | 50 |
PostCropVignetteRoundness | 0 |
PostCropVignetteStyle | 1 |
ProcessVersion | 5.7 |
ProfileDescription | sRGB IEC61966-2.1 |
RecommendedExposureIndex | 200 |
RedHue | 0 |
RedSaturation | 0 |
Saturation | 0 |
SaturationAdjustmentAqua | 0 |
SaturationAdjustmentBlue | 0 |
SaturationAdjustmentGreen | +8 |
SaturationAdjustmentMagenta | 0 |
SaturationAdjustmentOrange | +13 |
SaturationAdjustmentPurple | 0 |
SaturationAdjustmentRed | 0 |
SaturationAdjustmentYellow | 0 |
ScaleFactor35efl | 1.6 |
SceneCaptureType | Standard |
SensitivityType | Recommended Exposure Index |
SerialNumber | 0780444536 |
Shadows | 0 |
ShadowTint | 0 |
SharpenDetail | 45 |
SharpenEdgeMasking | 0 |
SharpenRadius | +1.0 |
Sharpness | 49 |
ShutterSpeed | 1/250 |
ShutterSpeedValue | 1/250 |
Software | Adobe Photoshop CS4 Macintosh |
SplitToningBalance | 0 |
SplitToningHighlightHue | 0 |
SplitToningHighlightSaturation | 0 |
SplitToningShadowHue | 0 |
SplitToningShadowSaturation | 0 |
SubjectDistance | 2.84 m |
Tint | +10 |
ToneCurve | 0, 0, 32, 22, 64, 56, 128, 128, 192, 196, 255, 255 |
ToneCurveName | Medium Contrast |
URL_List | |
Version | 6.5 |
Vibrance | +14 |
VignetteAmount | 0 |
WhiteBalance (1) | Daylight |
WhiteBalance | Auto |