Felt | Verdi |
AlreadyApplied | True |
Aperture | 11.0 |
ApertureValue | 11.0 |
Artist | Kenneth Solfjeld |
BitsPerSample (1) | 16 16 16 |
BitsPerSample | 8 |
BlueHue | 0 |
BlueSaturation | 0 |
Brightness | +50 |
By-line | Kenneth Solfjeld |
CameraProfile | Camera Neutral |
CFAPattern | [Red,Green][Green,Blue] |
ChromaticAberrationB | 0 |
ChromaticAberrationR | 0 |
CircleOfConfusion | 0.020 mm |
Clarity | +15 |
ColorComponents | 3 |
ColorNoiseReduction | 25 |
ColorNoiseReductionDetail | 50 |
ColorSpace | sRGB |
ColorTemperature | 9500 |
Contrast (1) | +25 |
Contrast | Normal |
ConvertToGrayscale | False |
Copyright | Kenneth Solfjeld |
CopyrightFlag | False |
CopyrightNotice | Kenneth Solfjeld |
CreateDate | 2011:10:20 17:38:50 |
CropAngle | 0 |
CropBottom | 0.949657 |
CropConstrainToWarp | 0 |
CropHeight | 3100 |
CropLeft | 0.050343 |
CropRight | 1 |
CropTop | 0 |
CropUnit | pixels |
CropWidth | 4680 |
CustomRendered | Normal |
DateCreated | 2011:10:20 |
DateTimeOriginal | 2011:10:20 17:38:50 |
Defringe | 0 |
DigitalZoomRatio | 1 |
DOF | inf (1.29 m - inf) |
ExifImageHeight | 852 |
ExifImageWidth | 1280 |
Exposure | +0.30 |
ExposureCompensation | 0 |
ExposureMode | Manual |
ExposureProgram | Manual |
ExposureTime | 1 |
FillLight | 0 |
Flash | Off, Did not fire |
FNumber | 11.0 |
FocalLength | 17.0 mm |
FocalLength35efl | 17.0 mm (35 mm equivalent: 25.0 mm) |
FocalLengthIn35mmFormat | 25 mm |
FOV | 71.5 deg |
GainControl | None |
GrainAmount | 0 |
GreenHue | 0 |
GreenSaturation | 0 |
HasCrop | True |
HasSettings | True |
HighlightRecovery | 0 |
HueAdjustmentAqua | 0 |
HueAdjustmentBlue | 0 |
HueAdjustmentGreen | 0 |
HueAdjustmentMagenta | 0 |
HueAdjustmentOrange | 0 |
HueAdjustmentPurple | 0 |
HueAdjustmentRed | 0 |
HueAdjustmentYellow | 0 |
HyperfocalDistance | 1.29 m |
ImageHeight (1) | 3100 |
ImageHeight | 852 |
ImageSize | 1280x852 |
ImageWidth (1) | 4680 |
ImageWidth | 1280 |
ISO | 100 |
LensInfo | 10-20mm f/4-5.6 |
LensManualDistortionAmount | 0 |
LensModel | 10.0-20.0 mm f/4.0-5.6 |
LensProfileChromaticAberrationScale | 100 |
LensProfileDistortionScale | 100 |
LensProfileEnable | 1 |
LensProfileFilename | NIKON CORPORATION (Sigma_10-20mm_F4-5.6_EX_DC_HSM ) - RAW.lcp |
LensProfileName | Adobe (SIGMA 10-20mm F4-5.6 EX DC / HSM, NIKON CORPORATION) |
LensProfileSetup | LensDefaults |
LensProfileVignettingScale | 100 |
LightSource | Unknown |
LightValue | 6.9 |
LuminanceAdjustmentAqua | 0 |
LuminanceAdjustmentBlue | 0 |
LuminanceAdjustmentGreen | 0 |
LuminanceAdjustmentMagenta | 0 |
LuminanceAdjustmentOrange | 0 |
LuminanceAdjustmentPurple | 0 |
LuminanceAdjustmentRed | 0 |
LuminanceAdjustmentYellow | 0 |
LuminanceSmoothing | 0 |
Make | NIKON CORPORATION |
MaxApertureValue | 5.3 |
Megapixels | 1.1 |
MeteringMode | Spot |
Model | NIKON D7000 |
ModifyDate | 2011:10:24 13:57:59 |
Orientation | Horizontal (normal) |
PaintCorrectionActive | true |
PaintCorrectionAmount | 1.000000 |
PaintCorrectionBrightness | 0.000000 |
PaintCorrectionClarity | 0.000000 |
PaintCorrectionContrast (2) | 0.000000 |
PaintCorrectionContrast | 0.121950 |
PaintCorrectionExposure (1) | -0.275000 |
PaintCorrectionExposure (2) | 0.000000 |
PaintCorrectionExposure | 0.150000 |
PaintCorrectionHue | 0.000000 |
PaintCorrectionMaskCenterWeight (4) | 0.236112 |
PaintCorrectionMaskCenterWeight (8) | 0.457052 |
PaintCorrectionMaskCenterWeight | 0.045828 |
PaintCorrectionMaskFlow | 1.000000 |
PaintCorrectionMaskRadius (1) | 0.055809 |
PaintCorrectionMaskRadius (10) | 0.063787 |
PaintCorrectionMaskRadius (11) | 0.063790 |
PaintCorrectionMaskRadius (12) | 0.063806 |
PaintCorrectionMaskRadius (13) | 0.063784 |
PaintCorrectionMaskRadius (14) | 0.063821 |
PaintCorrectionMaskRadius (2) | 0.055885 |
PaintCorrectionMaskRadius (3) | 0.025310 |
PaintCorrectionMaskRadius (4) | 0.025188 |
PaintCorrectionMaskRadius (5) | 0.054560 |
PaintCorrectionMaskRadius (6) | 0.054332 |
PaintCorrectionMaskRadius (7) | 0.054551 |
PaintCorrectionMaskRadius (8) | 0.055883 |
PaintCorrectionMaskRadius (9) | 0.063803 |
PaintCorrectionMaskRadius | 0.064501 |
PaintCorrectionMaskValue (3) | 0.000000 |
PaintCorrectionMaskValue | 1.000000 |
PaintCorrectionMaskWhat | Mask/Paint |
PaintCorrectionSaturation | 0.000000 |
PaintCorrectionSharpness | 0.000000 |
PaintCorrectionWhat | Correction |
ParametricDarks | +58 |
ParametricHighlights | 0 |
ParametricHighlightSplit | 75 |
ParametricLights | +90 |
ParametricMidtoneSplit | 50 |
ParametricShadows | -50 |
ParametricShadowSplit | 25 |
PerspectiveHorizontal | 0 |
PerspectiveRotate | 0.0 |
PerspectiveScale | 100 |
PerspectiveVertical | 0 |
PhotometricInterpretation | RGB |
PlanarConfiguration | Chunky |
PostCropVignetteAmount | 0 |
ProcessVersion | 5.7 |
ProfileDescription | sRGB IEC61966-2.1 |
RedHue | 0 |
RedSaturation | 0 |
Saturation (1) | +30 |
Saturation | Normal |
SaturationAdjustmentAqua | 0 |
SaturationAdjustmentBlue | -52 |
SaturationAdjustmentGreen | 0 |
SaturationAdjustmentMagenta | 0 |
SaturationAdjustmentOrange | +20 |
SaturationAdjustmentPurple | 0 |
SaturationAdjustmentRed | +20 |
SaturationAdjustmentYellow | +20 |
ScaleFactor35efl | 1.5 |
SceneCaptureType | Standard |
SceneType | Directly photographed |
SensingMethod | One-chip color area |
SensitivityType | Recommended Exposure Index |
SerialNumber | 6059753 |
Shadows | 2 |
ShadowTint | 0 |
SharpenDetail | 25 |
SharpenEdgeMasking | 0 |
SharpenRadius | +1.0 |
Sharpness (1) | 0 |
Sharpness | Normal |
ShutterSpeed | 1 |
ShutterSpeedValue | 1 |
Software | Adobe Photoshop CS3 Windows |
SplitToningBalance | 0 |
SplitToningHighlightHue | 0 |
SplitToningHighlightSaturation | 0 |
SplitToningShadowHue | 0 |
SplitToningShadowSaturation | 0 |
SubjectDistance | 4294967295 m |
SubjectDistanceRange | Unknown |
Tint | -15 |
ToneCurve | 0, 0, 255, 255 |
ToneCurveName | Linear |
URL_List | |
Version | 6.5 |
Vibrance | +40 |
VignetteAmount | 0 |
WhiteBalance (1) | Custom |
WhiteBalance | Auto |