Felt | Verdi |
AlreadyApplied | True |
Aperture | 11.0 |
ApertureValue | 11.0 |
ApproximateFocusDistance | 0.3 |
Artist | Edvard Strand Nilsen |
BitsPerSample | 8 |
BlueHue | 0 |
BlueSaturation | 0 |
Brightness | +60 |
By-line | Edvard Strand Nilsen |
CameraProfile | Adobe Standard |
ChromaticAberrationB | 0 |
ChromaticAberrationR | 0 |
CircleOfConfusion | 0.019 mm |
Clarity | +75 |
ColorComponents | 3 |
ColorNoiseReduction | 25 |
ColorNoiseReductionDetail | 50 |
ColorTemperature | 3035 |
Contrast | +69 |
ConvertToGrayscale | False |
Copyright | Edvard S Nilsen |
CopyrightFlag | True |
CopyrightNotice | Edvard S Nilsen |
CreateDate (1) | 2011:09:22 19:42:26.82 |
CreateDate | 2011:09:22 19:42:26 |
Creator | Edvard Strand Nilsen |
CreatorTool | Adobe Photoshop Lightroom 3.4.1 |
CreatorWorkEmail | edvardsnilsen@live.no |
CropAngle | -45 |
CropBottom | 0.472884 |
CropConstrainToWarp | 0 |
CropHeight | 1418 |
CropLeft | 0.224301 |
CropRight | 0.707944 |
CropTop | 0.617977 |
CropUnit | pixels |
CropWidth | 2127 |
CustomRendered | Normal |
DateCreated (1) | 2011:09:22 |
DateCreated | 2011:09:22 19:42:26.82 |
DateTimeOriginal | 2011:09:22 19:42:26 |
Defringe | 0 |
DOF | 0.003 m (0.299 - 0.301 m) |
Exposure | +0.23 |
ExposureCompensation | 0 |
ExposureMode | Auto |
ExposureProgram | Aperture-priority AE |
ExposureTime | 20 |
FillLight | 0 |
Firmware | 1.0.5 |
Flash | Off, Did not fire |
FlashCompensation | 0 |
FNumber | 11.0 |
FocalLength | 100.0 mm |
FocalLength35efl | 100.0 mm (35 mm equivalent: 157.3 mm) |
FOV | 13.1 deg |
GrainAmount | 0 |
GreenHue | 0 |
GreenSaturation | 0 |
HasCrop | True |
HasSettings | True |
HighlightRecovery | 74 |
HueAdjustmentAqua | 0 |
HueAdjustmentBlue | 0 |
HueAdjustmentGreen | 0 |
HueAdjustmentMagenta | -7 |
HueAdjustmentOrange | -5 |
HueAdjustmentPurple | 0 |
HueAdjustmentRed | -2 |
HueAdjustmentYellow | 0 |
HyperfocalDistance | 47.59 m |
ImageHeight | 2127 |
ImageNumber | 0 |
ImageSize | 1418x2127 |
ImageWidth | 1418 |
ISO | 100 |
Lens | EF100mm f/2.8L Macro IS USM |
LensID (1) | 254 |
LensID | Canon EF 100mm f/2.8L Macro IS USM |
LensInfo | 100mm f/? |
LensManualDistortionAmount | 0 |
LensModel | EF100mm f/2.8L Macro IS USM |
LensProfileEnable | 0 |
LensProfileSetup | LensDefaults |
LensSerialNumber | 0000027346 |
LightValue | 2.6 |
LuminanceAdjustmentAqua | 0 |
LuminanceAdjustmentBlue | 0 |
LuminanceAdjustmentGreen | +36 |
LuminanceAdjustmentMagenta | 0 |
LuminanceAdjustmentOrange | 0 |
LuminanceAdjustmentPurple | 0 |
LuminanceAdjustmentRed | -25 |
LuminanceAdjustmentYellow | 0 |
LuminanceSmoothing | 0 |
Make | Canon |
Marked | True |
MaxApertureValue | 2.8 |
Megapixels | 3.0 |
MeteringMode | Spot |
Model | Canon EOS 60D |
ModifyDate (1) | 2011:09:22 20:45:02+02:00 |
ModifyDate | 2011:09:22 20:45:02 |
ParametricDarks | 0 |
ParametricHighlights | -68 |
ParametricHighlightSplit | 75 |
ParametricLights | -43 |
ParametricMidtoneSplit | 50 |
ParametricShadows | -28 |
ParametricShadowSplit | 25 |
PerspectiveHorizontal | 0 |
PerspectiveRotate | 0.0 |
PerspectiveScale | 100 |
PerspectiveVertical | 0 |
PostCropVignetteAmount | 0 |
ProcessVersion | 5.7 |
ProfileDescription | ProPhoto RGB |
RecommendedExposureIndex | 100 |
RedHue | 0 |
RedSaturation | 0 |
Rights | Edvard S Nilsen |
Saturation | +8 |
SaturationAdjustmentAqua | 0 |
SaturationAdjustmentBlue | 0 |
SaturationAdjustmentGreen | +25 |
SaturationAdjustmentMagenta | -34 |
SaturationAdjustmentOrange | -43 |
SaturationAdjustmentPurple | 0 |
SaturationAdjustmentRed | -43 |
SaturationAdjustmentYellow | -7 |
ScaleFactor35efl | 1.6 |
SceneCaptureType | Standard |
SensitivityType | Recommended Exposure Index |
SerialNumber | 0580310057 |
Shadows | 20 |
ShadowTint | 0 |
SharpenDetail | 25 |
SharpenEdgeMasking | 31 |
SharpenRadius | +1.0 |
Sharpness | 98 |
ShutterSpeed | 20 |
ShutterSpeedValue | 20 |
Software | Adobe Photoshop Lightroom 3.4.1 |
SplitToningBalance | 0 |
SplitToningHighlightHue | 0 |
SplitToningHighlightSaturation | 0 |
SplitToningShadowHue | 0 |
SplitToningShadowSaturation | 0 |
SubjectDistance | 0.3 m |
Tint | -1 |
ToneCurve | 0, 0, 32, 22, 64, 56, 128, 128, 192, 196, 255, 255 |
ToneCurveName | Medium Contrast |
Version | 6.4.1 |
Vibrance | +13 |
VignetteAmount | 0 |
WhiteBalance (1) | Custom |
WhiteBalance | Auto |