Felt | Verdi |
AlreadyApplied | True |
BitsPerSample | 8 |
BlueHue | 0 |
BlueSaturation | 0 |
Brightness | +50 |
CameraProfile | Adobe Standard |
ChromaticAberrationB | 0 |
ChromaticAberrationR | 0 |
CircleOfConfusion | 0.031 mm |
Clarity | -11 |
ColorComponents | 1 |
ColorNoiseReduction | 25 |
ColorNoiseReductionDetail | 50 |
ColorTemperature | 5400 |
Contrast | +44 |
ConvertToGrayscale | True |
CreateDate (1) | 2011:09:19 15:14:07.54+02:00 |
CreateDate | 2011:09:19 15:14:07 |
CreatorTool | Adobe Photoshop Lightroom 3.4.1 |
CropAngle | 0 |
CropBottom | 0.992933 |
CropConstrainToWarp | 0 |
CropHeight | 800 |
CropLeft | 0.083471 |
CropRight | 0.72658 |
CropTop | 0.028269 |
CropUnit | pixels |
CropWidth | 800 |
CustomRendered | Normal |
DateCreated (1) | 2011:09:19 |
DateCreated | 2011:09:19 15:14:07.54+02:00 |
DateTimeOriginal | 2011:09:19 15:14:07 |
Defringe | 0 |
Exposure | -0.30 |
ExposureCompensation | -1/3 |
ExposureMode | Auto |
ExposureProgram | Aperture-priority AE |
ExposureTime | 1/1000 |
FillLight | 0 |
Firmware | 2.0.7 |
Flash | Off, Did not fire |
FlashCompensation | 0 |
FocalLength | 50.0 mm |
FocalLength35efl | 50.0 mm (35 mm equivalent: 48.8 mm) |
FOV | 40.5 deg |
GradientBasedCorrActive | true |
GradientBasedCorrAmount | 1.000000 |
GradientBasedCorrBrightness | 0.000000 |
GradientBasedCorrClarity | 0.000000 |
GradientBasedCorrContrast | 0.000000 |
GradientBasedCorrExposure | -0.082353 |
GradientBasedCorrHue | 109.000000 |
GradientBasedCorrMaskFullX | 0.663762 |
GradientBasedCorrMaskFullY | 0.286219 |
GradientBasedCorrMaskValue | 1.000000 |
GradientBasedCorrMaskWhat | Mask/Gradient |
GradientBasedCorrMaskZeroX | 0.456459 |
GradientBasedCorrMaskZeroY | 0.376914 |
GradientBasedCorrSaturation | 0.000000 |
GradientBasedCorrSharpness | 0.000000 |
GradientBasedCorrWhat | Correction |
GrainAmount | 0 |
GrayMixerAqua | -24 |
GrayMixerBlue | -20 |
GrayMixerGreen | -25 |
GrayMixerMagenta | +20 |
GrayMixerOrange | +11 |
GrayMixerPurple | +5 |
GrayMixerRed | +26 |
GrayMixerYellow | -21 |
GreenHue | 0 |
GreenSaturation | 0 |
HasCrop | True |
HasSettings | True |
HighlightRecovery | 5 |
ImageHeight | 800 |
ImageNumber | 0 |
ImageSize | 800x800 |
ImageWidth | 800 |
ISO | 100 |
Keywords | Barnehage, Bror, KrÄkeslottet, Rokkor 58mm f1.2, Trehjulssykkel |
LensManualDistortionAmount | 0 |
LensProfileEnable | 0 |
LensProfileSetup | LensDefaults |
LuminanceSmoothing | 0 |
Make | Canon |
Megapixels | 0.640 |
MeteringMode | Multi-segment |
Model | Canon EOS 5D Mark II |
ModifyDate (1) | 2011:09:20 13:05:17+02:00 |
ModifyDate | 2011:09:20 13:05:17 |
PaintCorrectionActive | true |
PaintCorrectionAmount | 1.000000 |
PaintCorrectionBrightness | 0.000000 |
PaintCorrectionClarity (1) | 0.294118 |
PaintCorrectionClarity (2) | -0.105882 |
PaintCorrectionClarity (4) | 0.000000 |
PaintCorrectionClarity | -0.162791 |
PaintCorrectionContrast (1) | 0.317647 |
PaintCorrectionContrast (2) | 0.000000 |
PaintCorrectionContrast (3) | 0.162791 |
PaintCorrectionContrast | -0.209302 |
PaintCorrectionExposure (1) | 0.011765 |
PaintCorrectionExposure (3) | 0.046512 |
PaintCorrectionExposure (4) | 0.023256 |
PaintCorrectionExposure | 0.000000 |
PaintCorrectionHue (1) | 109.000000 |
PaintCorrectionHue | 247.000000 |
PaintCorrectionMaskCenterWeight (3) | 0.017627 |
PaintCorrectionMaskCenterWeight | 0.000000 |
PaintCorrectionMaskFlow | 1.000000 |
PaintCorrectionMaskRadius (14) | 0.128377 |
PaintCorrectionMaskRadius (4) | 0.105314 |
PaintCorrectionMaskRadius (6) | 0.099084 |
PaintCorrectionMaskRadius (9) | 0.056524 |
PaintCorrectionMaskRadius | 0.047774 |
PaintCorrectionMaskValue | 1.000000 |
PaintCorrectionMaskWhat | Mask/Paint |
PaintCorrectionSaturation | 0.000000 |
PaintCorrectionSharpness (1) | 0.317647 |
PaintCorrectionSharpness (2) | -0.200000 |
PaintCorrectionSharpness (3) | 0.069767 |
PaintCorrectionSharpness | -0.186047 |
PaintCorrectionWhat | Correction |
ParametricDarks | 0 |
ParametricHighlights | 0 |
ParametricHighlightSplit | 75 |
ParametricLights | +14 |
ParametricMidtoneSplit | 50 |
ParametricShadows | 0 |
ParametricShadowSplit | 25 |
PerspectiveHorizontal | 0 |
PerspectiveRotate | 0.0 |
PerspectiveScale | 100 |
PerspectiveVertical | 0 |
PostCropVignetteAmount | 0 |
ProcessVersion | 5.7 |
ProfileDescription | sRGB IEC61966-2.1 |
Rating | 4 |
RedHue | 0 |
RedSaturation | 0 |
ScaleFactor35efl | 1.0 |
SceneCaptureType | Standard |
SerialNumber | 2231301899 |
Shadows | 11 |
ShadowTint | 0 |
SharpenDetail | 25 |
SharpenEdgeMasking | 0 |
SharpenRadius | +1.0 |
Sharpness | 14 |
ShutterSpeed | 1/1000 |
ShutterSpeedValue | 1/1000 |
Software | Adobe Photoshop Lightroom 3.4.1 |
SplitToningBalance | 0 |
SplitToningHighlightHue | 0 |
SplitToningHighlightSaturation | 0 |
SplitToningShadowHue | 0 |
SplitToningShadowSaturation | 0 |
Subject | Barnehage, Bror, KrÄkeslottet, Rokkor 58mm f1.2, Trehjulssykkel |
Tint | 0 |
ToneCurve | 0, 0, 32, 16, 64, 50, 128, 128, 192, 202, 255, 255 |
ToneCurveName | Strong Contrast |
Version | 6.4.1 |
VignetteAmount | 0 |
WhiteBalance (1) | Custom |
WhiteBalance | Auto |