Felt | Verdi |
2011-03-06T15:44:55+01:00 File C:\Users\Lille Yndlingssønnen\Pictures\Nyksund februar 2011\Tiff\Bolge 1.tif saved
2011-03-06T15:45:34+01:00 File C:\Users\Lille Yndlingssønnen\Pictures\Nyksund februar 2011\Tiff\Bolge 1.tif saved
2011-03-06T15:45:51+01:00 File C:\Users\Lille Yndlingssønnen\Pictures\Nyksund februar 2011\Tiff\Bolge 1.tif saved
2011-03-06T15:46:28+01:00 File C:\Users\Lille Yndlingssønnen\Pictures\Nyksund februar 2011\Tiff\jpg\Bolge 1.jpg saved
AlreadyApplied | True |
Aperture | 8.0 |
ApertureValue | 8.0 |
Artist | Vegard Heimly |
BitsPerSample | 8 |
BlueHue | 0 |
BlueSaturation | 0 |
Brightness | 0 |
By-line | Vegard Heimly |
CameraProfile | Adobe Standard |
CFAPattern | [Green,Blue][Red,Green] |
ChromaticAberrationB | 0 |
ChromaticAberrationR | 0 |
CircleOfConfusion | 0.020 mm |
Clarity | +78 |
ColorComponents | 3 |
ColorMode | RGB |
ColorNoiseReduction | 25 |
ColorNoiseReductionDetail | 50 |
ColorSpace | Uncalibrated |
ColorTemperature | 6550 |
Contrast (1) | +80 |
Contrast | Normal |
ConvertToGrayscale | True |
Copyright | Vegard Heimly |
CopyrightFlag | True |
CopyrightNotice | Vegard Heimly |
CreateDate (1) | 2011:02:27 11:37:44.00+01:00 |
CreateDate | 2011:02:27 11:37:44 |
Creator | Vegard Heimly |
CreatorTool | Adobe Photoshop CS5 Windows |
CropAngle | 0 |
CropBottom | 0.486146 |
CropLeft | 0.393635 |
CropRight | 1 |
CropTop | 0 |
CustomRendered | Normal |
DateCreated (1) | 2011:02:27 |
DateCreated | 2011:02:27 11:37:44 |
DateTimeOriginal | 2011:02:27 11:37:44 |
Defringe | 0 |
DigitalZoomRatio | 1 |
DOF | inf (50.55 m - inf) |
ExifImageHeight | 554 |
ExifImageWidth | 1024 |
Exposure | -0.90 |
ExposureCompensation | +1 |
ExposureMode | Auto |
ExposureProgram | Aperture-priority AE |
ExposureTime | 1/125 |
FillLight | 0 |
Flash | No Flash |
FNumber | 8.0 |
FocalLength | 90.0 mm |
FocalLength35efl | 90.0 mm (35 mm equivalent: 135.0 mm) |
FocalLengthIn35mmFormat | 135 mm |
Format | image/jpeg |
FOV | 15.2 deg |
GainControl | None |
GradientBasedCorrActive | true |
GradientBasedCorrAmount | 1.000000 |
GradientBasedCorrBrightness | -0.105000 |
GradientBasedCorrClarity | 0.000000 |
GradientBasedCorrContrast | 0.590000 |
GradientBasedCorrExposure | -0.262500 |
GradientBasedCorrHue | 50.000000 |
GradientBasedCorrMaskFullX | 0.696321 |
GradientBasedCorrMaskFullY | 0.001529 |
GradientBasedCorrMaskValue | 1.000000 |
GradientBasedCorrMaskWhat | Mask/Gradient |
GradientBasedCorrMaskZeroX | 0.695305 |
GradientBasedCorrMaskZeroY | 0.478660 |
GradientBasedCorrSaturation (1) | 0.000000 |
GradientBasedCorrSaturation | 0.250000 |
GradientBasedCorrSharpness | 0.000000 |
GradientBasedCorrWhat | Correction |
GrainAmount | 0 |
GrayMixerAqua | -19 |
GrayMixerBlue | +7 |
GrayMixerGreen | -25 |
GrayMixerMagenta | +4 |
GrayMixerOrange | -16 |
GrayMixerPurple | +14 |
GrayMixerRed | -8 |
GrayMixerYellow | -20 |
GreenHue | 0 |
GreenSaturation | 0 |
HasCrop | True |
HasSettings | True |
HighlightRecovery | 9 |
HyperfocalDistance | 50.55 m |
ICCProfileName | Adobe RGB (1998) |
ImageHeight | 554 |
ImageNumber | 9086 |
ImageSize | 1024x554 |
ImageWidth | 1024 |
ISO | 200 |
Lens | 90.0 mm f/2.8 |
LensID (1) | 248 |
LensID | Tamron SP AF 90mm f/2.8 Di Macro 1:1 (272NII) |
LensInfo | 90mm f/2.8 |
LightSource | Cloudy |
LightValue | 12.0 |
LuminanceSmoothing | 0 |
Make | NIKON CORPORATION |
Marked | True |
MaxApertureValue | 2.8 |
Megapixels | 0.567 |
MeteringMode | Multi-segment |
Model | NIKON D90 |
ModifyDate (1) | 2011:03:06 15:46:28+01:00 |
ModifyDate | 2011:03:06 15:46:28 |
Orientation | Horizontal (normal) |
ParametricDarks | 0 |
ParametricHighlights | -38 |
ParametricHighlightSplit | 75 |
ParametricLights | -46 |
ParametricMidtoneSplit | 50 |
ParametricShadows | 0 |
ParametricShadowSplit | 25 |
PostCropVignetteAmount | 0 |
ProcessVersion | 5.7 |
ProfileDescription | Adobe RGB (1998) |
Rating | 0 |
RawFileName | _DSC0361.NEF |
RedHue | 0 |
RedSaturation | 0 |
Rights | Vegard Heimly |
Saturation | Normal |
ScaleFactor35efl | 1.5 |
SceneCaptureType | Standard |
SceneType | Directly photographed |
SensingMethod | One-chip color area |
SerialNumber | 3243063 |
Shadows | 100 |
ShadowTint | 0 |
SharpenDetail | 4 |
SharpenEdgeMasking | 0 |
SharpenRadius | +0.5 |
Sharpness (1) | 25 |
Sharpness | Normal |
ShutterSpeed | 1/125 |
ShutterSpeedValue | 1/125 |
Software | Adobe Photoshop CS5 Windows |
SplitToningBalance | 0 |
SplitToningHighlightHue | 0 |
SplitToningHighlightSaturation | 0 |
SplitToningShadowHue | 0 |
SplitToningShadowSaturation | 0 |
SubjectDistance | 4294967295 m |
SubjectDistanceRange | Unknown |
Tint | -4 |
ToneCurve | 0, 0, 32, 22, 64, 56, 128, 128, 192, 196, 255, 255 |
ToneCurveName | Medium Contrast |
URL_List | |
Version | 6.0 |
VignetteAmount | 0 |
WhiteBalance (1) | Custom |
WhiteBalance | Manual |