Felt | Verdi |
AlreadyApplied | True |
Aperture | 7.1 |
ApertureValue | 7.1 |
BitsPerSample | 8 |
BlueHue | +10 |
BlueSaturation | -2 |
Brightness | +59 |
CameraProfile | Adobe Standard |
CFAPattern | [Blue,Green][Green,Red] |
ChromaticAberrationB | 0 |
ChromaticAberrationR | 0 |
CircleOfConfusion | 0.020 mm |
Clarity | -7 |
ColorComponents | 3 |
ColorNoiseReduction | 25 |
ColorTemperature | 4213 |
Contrast (2) | +95 |
Contrast | Normal |
ConvertToGrayscale | False |
CreateDate (1) | 2010:12:05 12:19:35.50+01:00 |
CreateDate | 2010:12:05 12:19:35 |
CreatorTool | Adobe Photoshop Lightroom |
CropAngle | 1.7 |
CropBottom | 0.989812 |
CropHeight | 1872 |
CropLeft | 0.078655 |
CropRight | 0.93215 |
CropTop | 0.015354 |
CropUnit | pixels |
CropWidth | 2624 |
CustomRendered | Normal |
DateTimeDigitized | 2010:12:05 12:19:35.50+01:00 |
DateTimeOriginal (1) | 2010:12:05 12:19:35.50+01:00 |
DateTimeOriginal | 2010:12:05 12:19:35 |
Defringe | 0 |
DigitalZoomRatio | 1 |
ExifImageHeight | 2624 |
ExifImageWidth | 1872 |
Exposure | +1.15 |
ExposureCompensation | 0 |
ExposureMode | Auto |
ExposureProgram | Not Defined |
ExposureTime | 1/200 |
FillLight | 15 |
Flash | No Flash |
FlashFired | False |
FlashFunction | False |
FlashMode | Unknown |
FlashRedEyeMode | False |
FlashReturn | No return detection |
FNumber | 7.1 |
FocalLength | 26.0 mm |
FocalLength35efl | 26.0 mm (35 mm equivalent: 39.0 mm) |
FocalLengthIn35mmFormat | 39 mm |
FOV | 49.6 deg |
GainControl | None |
GradientBasedCorrActive | true |
GradientBasedCorrAmount | 1.000000 |
GradientBasedCorrBrightness (1) | -0.725000 |
GradientBasedCorrBrightness | 0.250000 |
GradientBasedCorrClarity | 0.500000 |
GradientBasedCorrContrast | 0.000000 |
GradientBasedCorrExposure (1) | 0.000000 |
GradientBasedCorrExposure (2) | 1.000000 |
GradientBasedCorrExposure (3) | 0.700000 |
GradientBasedCorrExposure (4) | 0.550000 |
GradientBasedCorrExposure | 0.625000 |
GradientBasedCorrHue | 225.000000 |
GradientBasedCorrMaskFullX (1) | 0.063576 |
GradientBasedCorrMaskFullX (2) | 0.480773 |
GradientBasedCorrMaskFullX (3) | 0.064279 |
GradientBasedCorrMaskFullX (4) | 0.546401 |
GradientBasedCorrMaskFullX | 0.942770 |
GradientBasedCorrMaskFullY (1) | 0.464134 |
GradientBasedCorrMaskFullY (2) | 0.966563 |
GradientBasedCorrMaskFullY (3) | 0.430183 |
GradientBasedCorrMaskFullY (4) | 0.045535 |
GradientBasedCorrMaskFullY | 0.556212 |
GradientBasedCorrMaskValue | 1.000000 |
GradientBasedCorrMaskWhat | Mask/Gradient |
GradientBasedCorrMaskZeroX (1) | 0.345195 |
GradientBasedCorrMaskZeroX (2) | 0.481447 |
GradientBasedCorrMaskZeroX (3) | 0.084893 |
GradientBasedCorrMaskZeroX (4) | 0.546034 |
GradientBasedCorrMaskZeroX | 0.928340 |
GradientBasedCorrMaskZeroY (1) | 0.489189 |
GradientBasedCorrMaskZeroY (2) | 0.932436 |
GradientBasedCorrMaskZeroY (3) | 0.431103 |
GradientBasedCorrMaskZeroY (4) | 0.064121 |
GradientBasedCorrMaskZeroY | 0.555568 |
GradientBasedCorrSaturation | 0.000000 |
GradientBasedCorrSharpness | 0.000000 |
GradientBasedCorrWhat | Correction |
GreenHue | +60 |
GreenSaturation | -21 |
HasCrop | True |
HasSettings | True |
HighlightRecovery | 54 |
HueAdjustmentAqua | 0 |
HueAdjustmentBlue | 0 |
HueAdjustmentGreen | 0 |
HueAdjustmentMagenta | 0 |
HueAdjustmentOrange | 0 |
HueAdjustmentPurple | 0 |
HueAdjustmentRed | 0 |
HueAdjustmentYellow | 0 |
HyperfocalDistance | 4.75 m |
ImageHeight | 2624 |
ImageNumber | 1952 |
ImageSize | 1872x2624 |
ImageWidth | 1872 |
ISO | 200 |
Lens | 18.0-55.0 mm f/3.5-5.6 |
LensInfo | 18-55mm f/3.5-5.6 |
LightSource | Unknown |
LightValue | 12.3 |
LuminanceAdjustmentAqua | 0 |
LuminanceAdjustmentBlue | +83 |
LuminanceAdjustmentGreen | 0 |
LuminanceAdjustmentMagenta | 0 |
LuminanceAdjustmentOrange | 0 |
LuminanceAdjustmentPurple | 0 |
LuminanceAdjustmentRed | 0 |
LuminanceAdjustmentYellow | 0 |
LuminanceSmoothing | 0 |
Make | NIKON CORPORATION |
MaxApertureValue | 4.0 |
Megapixels | 4.9 |
MeteringMode | Multi-segment |
Model | NIKON D40 |
ModifyDate (1) | 2010:12:08 22:30:14+01:00 |
ModifyDate | 2010:12:08 22:30:14 |
ParametricDarks | -3 |
ParametricHighlights | 0 |
ParametricHighlightSplit | 75 |
ParametricLights | 0 |
ParametricMidtoneSplit | 50 |
ParametricShadows | -14 |
ParametricShadowSplit | 25 |
PostCropVignetteAmount | 0 |
ProfileDescription | sRGB IEC61966-2.1 |
RedHue | 0 |
RedSaturation | 0 |
Saturation (2) | -60 |
Saturation | Normal |
SaturationAdjustmentAqua | 0 |
SaturationAdjustmentBlue | +2 |
SaturationAdjustmentGreen | 0 |
SaturationAdjustmentMagenta | 0 |
SaturationAdjustmentOrange | 0 |
SaturationAdjustmentPurple | 0 |
SaturationAdjustmentRed | 0 |
SaturationAdjustmentYellow | 0 |
ScaleFactor35efl | 1.5 |
SceneCaptureType | Standard |
SceneType | Directly photographed |
SensingMethod | One-chip color area |
SerialNumber | 6505057 |
Shadows | 51 |
ShadowTint | 0 |
SharpenDetail | 50 |
SharpenEdgeMasking | 0 |
SharpenRadius | +0.8 |
Sharpness (2) | 40 |
Sharpness | Normal |
ShutterSpeed | 1/200 |
ShutterSpeedValue | 1/200 |
Software | Ver.1.11 |
SplitToningBalance | 0 |
SplitToningHighlightHue | 0 |
SplitToningHighlightSaturation | 0 |
SplitToningShadowHue | 0 |
SplitToningShadowSaturation | 0 |
SubjectDistanceRange | Unknown |
Tint | -74 |
ToneCurve | 0, 0, 255, 255 |
ToneCurveName | Linear |
Version | 5.3 |
Vibrance | 0 |
VignetteAmount | 0 |
WhiteBalance (2) | Custom |
WhiteBalance | Auto |