Felt | Verdi |
AlreadyApplied | True |
Aperture | 4.0 |
ApertureValue | 4.0 |
BitsPerSample | 8 |
BlueHue | 0 |
BlueSaturation | 0 |
Brightness | +53 |
By-line | Åsmund Breivik |
CameraProfile | Embedded |
ChromaticAberrationB | 0 |
ChromaticAberrationR | 0 |
CircleOfConfusion | 0.020 mm |
Clarity | +31 |
ColorComponents | 3 |
ColorNoiseReduction | 25 |
ColorNoiseReductionDetail | 50 |
ColorTemperature | 8514 |
Contrast (2) | -24 |
Contrast | High |
ConvertToGrayscale | False |
Copyright | (C) Asmund Breivik |
CopyrightFlag | True |
CopyrightNotice | © Åsmund Breivik |
CreateDate (1) | 2010:12:05 14:08:33+01:00 |
CreateDate | 2010:12:05 14:08:33 |
Creator | Åsmund Breivik |
CreatorAddress | Jermannvegen 22 |
CreatorCity | Aukra |
CreatorCountry | Norway |
CreatorPostalCode | 6480-N |
CreatorTool | Adobe Photoshop Lightroom |
CreatorWorkEmail | aasmund74@gmail.com |
CreatorWorkTelephone | +47 90582281 |
CropAngle | 0 |
CropBottom | 0.793532 |
CropConstrainToWarp | 0 |
CropHeight | 2355 |
CropLeft | 0.046129 |
CropRight | 0.902801 |
CropTop | 0.072139 |
CropUnit | pixels |
CropWidth | 4222 |
CustomRendered | Normal |
DateTimeDigitized | 2010:12:05 14:08:33+01:00 |
DateTimeOriginal (1) | 2010:12:05 14:08:33+01:00 |
DateTimeOriginal | 2010:12:05 14:08:33 |
Defringe | 0 |
ExifImageHeight | 2355 |
ExifImageWidth | 4222 |
Exposure | +0.41 |
ExposureCompensation | 0 |
ExposureMode | Auto |
ExposureProgram | Aperture-priority AE |
ExposureTime | 1/1600 |
FillLight | 21 |
Flash | Off, Did not fire |
FlashFired | False |
FlashFunction | False |
FlashMode | Off |
FlashRedEyeMode | False |
FlashReturn | No return detection |
FNumber | 4.0 |
FocalLength | 250.0 mm |
FocalLength35efl | 250.0 mm (35 mm equivalent: 375.0 mm) |
FocalLengthIn35mmFormat | 375 mm |
FOV | 5.5 deg |
GradientBasedCorrActive | true |
GradientBasedCorrAmount | 1.000000 |
GradientBasedCorrBrightness | 0.195000 |
GradientBasedCorrClarity | 0.805000 |
GradientBasedCorrContrast | 0.439000 |
GradientBasedCorrExposure | 0.415000 |
GradientBasedCorrHue | 0.000000 |
GradientBasedCorrMaskFullX | 0.431097 |
GradientBasedCorrMaskFullY | 0.047016 |
GradientBasedCorrMaskValue | 1.000000 |
GradientBasedCorrMaskWhat | Mask/Gradient |
GradientBasedCorrMaskZeroX | 0.431097 |
GradientBasedCorrMaskZeroY | 0.513588 |
GradientBasedCorrSaturation (1) | 0.463000 |
GradientBasedCorrSaturation | 0.000000 |
GradientBasedCorrSharpness | 0.561000 |
GradientBasedCorrWhat | Correction |
GrainAmount | 0 |
GreenHue | 0 |
GreenSaturation | 0 |
HasCrop | True |
HasSettings | True |
HighlightRecovery | 33 |
HueAdjustmentAqua | -20 |
HueAdjustmentBlue | +43 |
HueAdjustmentGreen | -9 |
HueAdjustmentMagenta | 0 |
HueAdjustmentOrange | 0 |
HueAdjustmentPurple | 0 |
HueAdjustmentRed | 0 |
HueAdjustmentYellow | -2 |
HyperfocalDistance | 780.05 m |
ImageHeight | 2355 |
ImageSize | 4222x2355 |
ImageWidth | 4222 |
ISO | 800 |
LensID (1) | 8 227 |
LensID | smc PENTAX-DA* 60-250mm F4 [IF] SDM |
LensManualDistortionAmount | 0 |
LensProfileEnable | 0 |
LensProfileSetup | LensDefaults |
LightValue | 11.6 |
LuminanceAdjustmentAqua | 0 |
LuminanceAdjustmentBlue | 0 |
LuminanceAdjustmentGreen | 0 |
LuminanceAdjustmentMagenta | 0 |
LuminanceAdjustmentOrange | 0 |
LuminanceAdjustmentPurple | 0 |
LuminanceAdjustmentRed | 0 |
LuminanceAdjustmentYellow | 0 |
LuminanceNoiseReductionContrast | 0 |
LuminanceNoiseReductionDetail | 50 |
LuminanceSmoothing | 41 |
Make | PENTAX |
Marked | True |
Megapixels | 9.9 |
MeteringMode | Multi-segment |
Model | PENTAX K-5 |
ModifyDate (1) | 2010:12:06 10:28:43+01:00 |
ModifyDate | 2010:12:06 10:28:43 |
PaintCorrectionActive | true |
PaintCorrectionAmount | 1.000000 |
PaintCorrectionBrightness | -0.049000 |
PaintCorrectionClarity | 0.366000 |
PaintCorrectionContrast | 0.000000 |
PaintCorrectionExposure | 0.000000 |
PaintCorrectionHue | 0.000000 |
PaintCorrectionMaskCenterWeight | 0.000000 |
PaintCorrectionMaskFlow | 1.000000 |
PaintCorrectionMaskRadius | 0.051712 |
PaintCorrectionMaskValue | 1.000000 |
PaintCorrectionMaskWhat | Mask/Paint |
PaintCorrectionSaturation (1) | 0.171000 |
PaintCorrectionSaturation | 0.000000 |
PaintCorrectionSharpness | 0.000000 |
PaintCorrectionWhat | Correction |
ParametricDarks | 0 |
ParametricHighlights | -9 |
ParametricHighlightSplit | 75 |
ParametricLights | -1 |
ParametricMidtoneSplit | 50 |
ParametricShadows | +3 |
ParametricShadowSplit | 25 |
PerspectiveHorizontal | 0 |
PerspectiveRotate | 0.0 |
PerspectiveScale | 100 |
PerspectiveVertical | 0 |
PostCropVignetteAmount | -38 |
PostCropVignetteFeather | 50 |
PostCropVignetteHighlightContrast | 0 |
PostCropVignetteMidpoint | 50 |
PostCropVignetteRoundness | 0 |
PostCropVignetteStyle | 1 |
ProcessVersion | 5.7 |
ProfileDescription | sRGB IEC61966-2.1 |
RedHue | 0 |
RedSaturation | 0 |
Rights | © Åsmund Breivik |
Saturation (2) | +6 |
Saturation | Normal |
SaturationAdjustmentAqua | +43 |
SaturationAdjustmentBlue | +48 |
SaturationAdjustmentGreen | -4 |
SaturationAdjustmentMagenta | 0 |
SaturationAdjustmentOrange | 0 |
SaturationAdjustmentPurple | 0 |
SaturationAdjustmentRed | 0 |
SaturationAdjustmentYellow | 0 |
ScaleFactor35efl | 1.5 |
SceneCaptureType | Standard |
SensingMethod | One-chip color area |
SensitivityType | Unknown |
Shadows | 3 |
ShadowTint | 0 |
SharpenDetail | 66 |
SharpenEdgeMasking | 43 |
SharpenRadius | +2.0 |
Sharpness (2) | 74 |
Sharpness | Hard |
ShutterSpeed | 1/1600 |
ShutterSpeedValue | 1/1600 |
Software | K-5 Ver 1.00 |
SplitToningBalance | 0 |
SplitToningHighlightHue | 0 |
SplitToningHighlightSaturation | 0 |
SplitToningShadowHue | 0 |
SplitToningShadowSaturation | 0 |
SubjectDistanceRange | Distant |
Tint | -2 |
ToneCurve | 0, 0, 32, 22, 64, 56, 128, 128, 192, 196, 255, 255 |
ToneCurveName | Medium Contrast |
UsageTerms | All rights reserved |
Version | 6.2 |
Vibrance | 0 |
VignetteAmount | 0 |
WhiteBalance (2) | Custom |
WhiteBalance | Auto |