Felt | Verdi |
AlreadyApplied | True |
Aperture | 2.0 |
ApertureValue | 2.0 |
Artist | Lars Soe Eriksen |
BitsPerSample | 8 |
BlueHue | 0 |
BlueSaturation | 0 |
Brightness | +21 |
By-line | Lars Soe Eriksen |
CameraProfile | Adobe Standard |
ChromaticAberrationB | 0 |
ChromaticAberrationR | 0 |
CircleOfConfusion | 0.030 mm |
Clarity | 0 |
ColorComponents | 3 |
ColorNoiseReduction | 25 |
ColorTemperature | 4976 |
Contrast | +25 |
ConvertToGrayscale | True |
CreateDate (1) | 2009:05:02 17:27:12+02:00 |
CreateDate | 2009:05:02 17:27:12 |
Creator | Lars Soe Eriksen |
CreatorTool | Adobe Photoshop Lightroom |
CropAngle | 0 |
CropBottom | 0.970311 |
CropHeight | 683 |
CropLeft | 0.023174 |
CropRight | 0.959352 |
CropTop | 0.034133 |
CropUnit | pixels |
CropWidth | 1024 |
CustomRendered | Normal |
DateTimeDigitized | 2009:05:02 17:27:12+02:00 |
DateTimeOriginal (1) | 2009:05:02 17:27:12+02:00 |
DateTimeOriginal | 2009:05:02 17:27:12 |
Defringe | 0 |
ExifImageHeight | 1024 |
ExifImageWidth | 683 |
Exposure | 0.00 |
ExposureCompensation | 0 |
ExposureMode | Auto |
ExposureProgram | Aperture-priority AE |
ExposureTime | 1/2000 |
FillLight | 26 |
Firmware | 1.1.1 |
Flash | Off, Did not fire |
FlashCompensation | 0 |
FlashFired | False |
FlashFunction | False |
FlashMode | Off |
FlashRedEyeMode | False |
FlashReturn | No return detection |
FNumber | 2.0 |
FocalLength | 35.0 mm |
FocalLength35efl | 35.0 mm (35 mm equivalent: 35.1 mm) |
FOV | 54.3 deg |
GrayMixerAqua | +12 |
GrayMixerBlue | +20 |
GrayMixerGreen | -38 |
GrayMixerMagenta | +32 |
GrayMixerOrange | -10 |
GrayMixerPurple | +25 |
GrayMixerRed | +12 |
GrayMixerYellow | -7 |
GreenHue | 0 |
GreenSaturation | 0 |
HasCrop | True |
HasSettings | True |
HighlightRecovery | 0 |
HyperfocalDistance | 20.43 m |
ImageHeight | 1024 |
ImageNumber | 6 |
ImageSize | 683x1024 |
ImageWidth | 683 |
ISO | 200 |
Lens | EF35mm f/2 |
LensInfo | 35mm f/? |
LightValue | 12.0 |
LuminanceSmoothing | 0 |
Make | Canon |
MaxApertureValue | 2.0 |
Megapixels | 0.699 |
MeteringMode | Multi-segment |
Model | Canon EOS 5D |
ModifyDate (1) | 2010:02:08 22:39:31+01:00 |
ModifyDate | 2010:02:08 22:39:31 |
OwnerName | Lars Soe Eriksen |
ParametricDarks | -17 |
ParametricHighlights | -17 |
ParametricHighlightSplit | 75 |
ParametricLights | +10 |
ParametricMidtoneSplit | 50 |
ParametricShadows | +26 |
ParametricShadowSplit | 25 |
PostCropVignetteAmount | -33 |
PostCropVignetteFeather | 33 |
PostCropVignetteMidpoint | 67 |
PostCropVignetteRoundness | 0 |
ProfileDescription | sRGB IEC61966-2.1 |
RedHue | 0 |
RedSaturation | 0 |
ScaleFactor35efl | 1.0 |
SceneCaptureType | Standard |
SerialNumber | 530206639 |
Shadows | 2 |
ShadowTint | 0 |
SharpenDetail | 25 |
SharpenEdgeMasking | 0 |
SharpenRadius | +1.0 |
Sharpness | 25 |
ShutterSpeed | 1/2000 |
ShutterSpeedValue | 1/2000 |
SplitToningBalance | 0 |
SplitToningHighlightHue | 39 |
SplitToningHighlightSaturation | 15 |
SplitToningShadowHue | 37 |
SplitToningShadowSaturation | 32 |
Tint | +11 |
ToneCurve | 0, 0, 32, 22, 64, 56, 128, 128, 192, 196, 255, 255 |
ToneCurveName | Medium Contrast |
Version | 5.5 |
VignetteAmount | 0 |
WhiteBalance (2) | Custom |
WhiteBalance | Auto |