Felt | Verdi |
AlreadyApplied | True |
Aperture | 5.6 |
ApertureValue | 5.6 |
Artist | Trond Hovland Olsen |
BitsPerSample | 8 |
BlueHue | 0 |
BlueSaturation | 0 |
Brightness | +50 |
By-line | Trond Hovland Olsen |
CameraProfile | Adobe Standard |
ChromaticAberrationB | 0 |
ChromaticAberrationR | 0 |
CircleOfConfusion | 0.023 mm |
Clarity | +10 |
ColorComponents | 3 |
ColorNoiseReduction | 25 |
ColorTemperature | 6286 |
Contrast | +25 |
ConvertToGrayscale | False |
Copyright | Trond Hovland Olsen |
CopyrightFlag | True |
CopyrightNotice | Trond Hovland Olsen |
CreateDate (1) | 2009:12:31 10:02:16.40+01:00 |
CreateDate | 2009:12:31 10:02:16 |
Creator | Trond Hovland Olsen |
CreatorAddress | Kattenerget 3B |
CreatorCity | Skien |
CreatorPostalCode | 3721 |
CreatorTool | Adobe Photoshop Lightroom |
CreatorWorkEmail | trohovla@online.no |
CreatorWorkTelephone | +47 97 16 73 52 |
CropAngle | 0 |
CropBottom | 0.944353 |
CropHeight | 643 |
CropLeft | 0.002181 |
CropRight | 1 |
CropTop | 0.00491 |
CropUnit | pixels |
CropWidth | 1024 |
CustomRendered | Normal |
DateTimeDigitized | 2009:12:31 10:02:16.40+01:00 |
DateTimeOriginal (1) | 2009:12:31 10:02:16.40+01:00 |
DateTimeOriginal | 2009:12:31 10:02:16 |
Defringe | 0 |
ExifImageHeight | 643 |
ExifImageWidth | 1024 |
Exposure | +0.29 |
ExposureCompensation | 0 |
ExposureMode | Auto |
ExposureProgram | Aperture-priority AE |
ExposureTime | 1/640 |
FillLight | 0 |
Firmware | 1.2.5 |
Flash | No Flash |
FlashCompensation | 0 |
FlashFired | False |
FlashFunction | False |
FlashMode | Unknown |
FlashRedEyeMode | False |
FlashReturn | No return detection |
FNumber | 5.6 |
FocalLength | 500.0 mm |
FocalLength35efl | 500.0 mm (35 mm equivalent: 640.7 mm) |
FOV | 3.2 deg |
GreenHue | 0 |
GreenSaturation | 0 |
HasCrop | True |
HasSettings | True |
HierarchicalSubject | Anatidae, And, Aves, Aythya fuligula, Fugl, NO-NATURFOTO_ver07/05/2009_@NATURFOKUS|Natur|Dyr, NO-NATURFOTO_ver07/05/2009_@NATURFOKUS|Natur|Dyr|Fugler, NO-NATURFOTO_ver07/05/2009_@NATURFOKUS|Natur|Dyr|Fugler|Andefugler, NO-NATURFOTO_ver07/05/2009_@NATURFOKUS|Natur|Dyr|Fugler|Andefugler|Ender, NO-NATURFOTO_ver07/05/2009_@NATURFOKUS|Natur|Dyr|Fugler|Andefugler|Ender|Dykkender, NO-NATURFOTO_ver07/05/2009_@NATURFOKUS|Natur|Dyr|Fugler|Andefugler|Ender|Dykkender|Toppand, NO-NATURFOTO_ver07/05/2009_@NATURFOKUS|TID|Årstid, Natur, Sesong, Vinter |
HighlightRecovery | 0 |
HueAdjustmentAqua | 0 |
HueAdjustmentBlue | 0 |
HueAdjustmentGreen | 0 |
HueAdjustmentMagenta | 0 |
HueAdjustmentOrange | 0 |
HueAdjustmentPurple | 0 |
HueAdjustmentRed | 0 |
HueAdjustmentYellow | 0 |
HyperfocalDistance | 1903.90 m |
ImageHeight | 643 |
ImageNumber | 0 |
ImageSize | 1024x643 |
ImageWidth | 1024 |
ISO | 400 |
Keywords | Anatidae, And, Andefugler, Aves, Aythya fuligula, Dykkender, Dyr, Ender, Fugl, Fugler, NO-NATURFOTO_ver07/05/2009_@NATURFOKUS, Natur, Sesong, TID, Toppand, Vinter, Årstid |
Lens | EF500mm f/4L IS USM |
LensInfo | 500mm f/? |
LightValue | 12.3 |
LuminanceAdjustmentAqua | 0 |
LuminanceAdjustmentBlue | 0 |
LuminanceAdjustmentGreen | 0 |
LuminanceAdjustmentMagenta | 0 |
LuminanceAdjustmentOrange | 0 |
LuminanceAdjustmentPurple | 0 |
LuminanceAdjustmentRed | 0 |
LuminanceAdjustmentYellow | 0 |
LuminanceSmoothing | 0 |
Make | Canon |
Marked | True |
MaxApertureValue | 4.0 |
Megapixels | 0.658 |
MeteringMode | Multi-segment |
Model | Canon EOS-1D Mark III |
ModifyDate (1) | 2010:01:13 21:21:54+01:00 |
ModifyDate | 2010:01:13 21:21:54 |
Orientation | Horizontal (normal) |
ParametricDarks | -17 |
ParametricHighlights | 0 |
ParametricHighlightSplit | 75 |
ParametricLights | +14 |
ParametricMidtoneSplit | 50 |
ParametricShadows | 0 |
ParametricShadowSplit | 25 |
PostCropVignetteAmount | 0 |
ProfileDescription | sRGB IEC61966-2.1 |
RedHue | 0 |
RedSaturation | 0 |
Rights | Trond Hovland Olsen |
Saturation | +5 |
SaturationAdjustmentAqua | 0 |
SaturationAdjustmentBlue | 0 |
SaturationAdjustmentGreen | 0 |
SaturationAdjustmentMagenta | 0 |
SaturationAdjustmentOrange | 0 |
SaturationAdjustmentPurple | 0 |
SaturationAdjustmentRed | 0 |
SaturationAdjustmentYellow | 0 |
SavedSettingsName | Import |
SavedSettingsParametersBlueHue | 0 |
SavedSettingsParametersBlueSaturation | 0 |
SavedSettingsParametersBrightness | 0 |
SavedSettingsParametersCameraProfile | Embedded |
SavedSettingsParametersChromaticAberrationB | 0 |
SavedSettingsParametersChromaticAberrationR | 0 |
SavedSettingsParametersClarity | 0 |
SavedSettingsParametersColorNoiseReduction | 0 |
SavedSettingsParametersContrast | 0 |
SavedSettingsParametersConvertToGrayscale | False |
SavedSettingsParametersDefringe | 0 |
SavedSettingsParametersExposure | 0.00 |
SavedSettingsParametersFillLight | 0 |
SavedSettingsParametersGreenHue | 0 |
SavedSettingsParametersGreenSaturation | 0 |
SavedSettingsParametersHighlightRecovery | 0 |
SavedSettingsParametersHueAdjustmentAqua | 0 |
SavedSettingsParametersHueAdjustmentBlue | 0 |
SavedSettingsParametersHueAdjustmentGreen | 0 |
SavedSettingsParametersHueAdjustmentMagenta | 0 |
SavedSettingsParametersHueAdjustmentOrange | 0 |
SavedSettingsParametersHueAdjustmentPurple | 0 |
SavedSettingsParametersHueAdjustmentRed | 0 |
SavedSettingsParametersHueAdjustmentYellow | 0 |
SavedSettingsParametersIncrementalTemperature | 0 |
SavedSettingsParametersIncrementalTint | 0 |
SavedSettingsParametersLuminanceAdjustmentAqua | 0 |
SavedSettingsParametersLuminanceAdjustmentBlue | 0 |
SavedSettingsParametersLuminanceAdjustmentGreen | 0 |
SavedSettingsParametersLuminanceAdjustmentMagenta | 0 |
SavedSettingsParametersLuminanceAdjustmentOrange | 0 |
SavedSettingsParametersLuminanceAdjustmentPurple | 0 |
SavedSettingsParametersLuminanceAdjustmentRed | 0 |
SavedSettingsParametersLuminanceAdjustmentYellow | 0 |
SavedSettingsParametersLuminanceSmoothing | 0 |
SavedSettingsParametersParametricDarks | 0 |
SavedSettingsParametersParametricHighlights | 0 |
SavedSettingsParametersParametricHighlightSplit | 75 |
SavedSettingsParametersParametricLights | 0 |
SavedSettingsParametersParametricMidtoneSplit | 50 |
SavedSettingsParametersParametricShadows | 0 |
SavedSettingsParametersParametricShadowSplit | 25 |
SavedSettingsParametersPostCropVignetteAmount | 0 |
SavedSettingsParametersRedHue | 0 |
SavedSettingsParametersRedSaturation | 0 |
SavedSettingsParametersSaturation | 0 |
SavedSettingsParametersSaturationAdjustmentAqua | 0 |
SavedSettingsParametersSaturationAdjustmentBlue | 0 |
SavedSettingsParametersSaturationAdjustmentGreen | 0 |
SavedSettingsParametersSaturationAdjustmentMagenta | 0 |
SavedSettingsParametersSaturationAdjustmentOrange | 0 |
SavedSettingsParametersSaturationAdjustmentPurple | 0 |
SavedSettingsParametersSaturationAdjustmentRed | 0 |
SavedSettingsParametersSaturationAdjustmentYellow | 0 |
SavedSettingsParametersShadows | 0 |
SavedSettingsParametersShadowTint | 0 |
SavedSettingsParametersSharpenDetail | 25 |
SavedSettingsParametersSharpenEdgeMasking | 0 |
SavedSettingsParametersSharpenRadius | +1.0 |
SavedSettingsParametersSharpness | 0 |
SavedSettingsParametersSplitToningBalance | 0 |
SavedSettingsParametersSplitToningHighlightHue | 0 |
SavedSettingsParametersSplitToningHighlightSaturation | 0 |
SavedSettingsParametersSplitToningShadowHue | 0 |
SavedSettingsParametersSplitToningShadowSaturation | 0 |
SavedSettingsParametersToneCurve | 0, 0, 255, 255 |
SavedSettingsParametersToneCurveName | Linear |
SavedSettingsParametersVersion | 5.2 |
SavedSettingsParametersVibrance | 0 |
SavedSettingsParametersVignetteAmount | 0 |
SavedSettingsParametersWhiteBalance | As Shot |
SavedSettingsType | Snapshot |
ScaleFactor35efl | 1.3 |
SceneCaptureType | Standard |
SerialNumber | 581543 |
Shadows | 27 |
ShadowTint | 0 |
SharpenDetail | 50 |
SharpenEdgeMasking | 0 |
SharpenRadius | +0.8 |
Sharpness | 40 |
ShutterSpeed | 1/640 |
ShutterSpeedValue | 1/640 |
SplitToningBalance | 0 |
SplitToningHighlightHue | 0 |
SplitToningHighlightSaturation | 0 |
SplitToningShadowHue | 0 |
SplitToningShadowSaturation | 0 |
Subject | Anatidae, And, Andefugler, Aves, Aythya fuligula, Dykkender, Dyr, Ender, Fugl, Fugler, NO-NATURFOTO_ver07/05/2009_@NATURFOKUS, Natur, Sesong, TID, Toppand, Vinter, Årstid |
Tint | +10 |
ToneCurve | 0, 0, 32, 22, 64, 56, 128, 128, 192, 196, 255, 255 |
ToneCurveName | Medium Contrast |
Version | 5.2 |
Vibrance | +21 |
VignetteAmount | +7 |
VignetteMidpoint | 50 |
WhiteBalance (2) | Custom |
WhiteBalance | Auto |