Felt | Verdi |
AlreadyApplied | True |
Aperture | 8.0 |
ApertureValue | 8.0 |
Artist | Eric Fagerheim |
AuthorsPosition | photographer |
BitsPerSample | 8 |
BlueHue | +11 |
BlueSaturation | -21 |
Brightness | +36 |
By-line | Eric Fagerheim |
By-lineTitle | photographer |
CameraProfile | Embedded |
Caption-Abstract | Eric Fagerheim |
ChromaticAberrationB | 0 |
ChromaticAberrationR | 0 |
CircleOfConfusion | 0.020 mm |
Clarity | 0 |
ColorComponents | 3 |
ColorNoiseReduction | 25 |
ColorSpace | sRGB |
Contrast (2) | +32 |
Contrast | Normal |
ConvertToGrayscale | True |
Copyright | Eric Fagerheim |
CopyrightFlag | True |
CopyrightNotice | Eric Fagerheim |
CreateDate (1) | 2009:10:03 15:49:32+02:00 |
CreateDate | 2009:10:03 15:49:32 |
Creator | Eric Fagerheim |
CreatorCity | Trondheim |
CreatorCountry | Norway |
CreatorTool | Adobe Photoshop Lightroom |
CreatorWorkTelephone | +92440401 |
CreatorWorkURL | http://www.fotofashon.no |
CropAngle | 1.04927 |
CropBottom | 0.918838 |
CropHeight | 800 |
CropLeft | 0.02485 |
CropRight | 0.97515 |
CropTop | 0.005552 |
CropUnit | pixels |
CropWidth | 575 |
CustomRendered | Normal |
DateTimeDigitized | 2009:10:03 15:49:32+02:00 |
DateTimeOriginal (1) | 2009:10:03 15:49:32+02:00 |
DateTimeOriginal | 2009:10:03 15:49:32 |
Defringe | 0 |
Description | Eric Fagerheim |
ExifImageHeight | 800 |
ExifImageWidth | 575 |
Exposure | 0.00 |
ExposureCompensation | +1/2 |
ExposureMode | Manual |
ExposureProgram | Manual |
ExposureTime | 1/60 |
FillLight | 0 |
Flash | Off, Did not fire |
FlashFired | False |
FlashFunction | False |
FlashMode | Off |
FlashRedEyeMode | False |
FlashReturn | No return detection |
FNumber | 8.0 |
FocalLength | 50.0 mm |
FocalLength35efl | 50.0 mm (35 mm equivalent: 75.0 mm) |
FocalLengthIn35mmFormat | 75 mm |
Format | application/vnd.adobe.photoshop |
FOV | 27.0 deg |
GrayMixerAqua | -10 |
GrayMixerBlue | +19 |
GrayMixerGreen | -9 |
GrayMixerMagenta | +30 |
GrayMixerOrange | -7 |
GrayMixerPurple | +25 |
GrayMixerRed | -5 |
GrayMixerYellow | -29 |
GreenHue | +16 |
GreenSaturation | +51 |
HasCrop | True |
HasSettings | True |
HighlightRecovery | 0 |
HyperfocalDistance | 15.60 m |
ImageDescription | Eric Fagerheim |
ImageHeight | 800 |
ImageSize | 575x800 |
ImageWidth | 575 |
IncrementalTemperature | 0 |
IncrementalTint | 0 |
ISO | 100 |
Keywords | baby, barn, barne fotograf, beauty, bilde, bilder, bryllup, bryllupsfotograf, eric fagerheim, fashion, flink fotograf, foto, fotofashion, fotograf trondheim, konfirmasjon, lokasjon, modell, modell fotograf, prortrett, studio, susannn westermann, topp fotograf, ute |
Label | fotofashion |
Lens | smc PENTAX-DA* 16-50mm F2.8 ED AL [IF] SDM |
LensID (1) | 8 242 |
LensID | smc PENTAX-DA* 16-50mm F2.8 ED AL [IF] SDM |
LensInfo | 16-50mm f/2.8 |
LightValue | 11.9 |
LuminanceSmoothing | 0 |
Make | PENTAX |
Marked | True |
Megapixels | 0.460 |
MeteringMode | Multi-segment |
Model | PENTAX K20D |
ModifyDate (1) | 2009:10:04 17:36:27+02:00 |
ModifyDate | 2009:10:04 17:36:27 |
ParametricDarks | -10 |
ParametricHighlights | 0 |
ParametricHighlightSplit | 75 |
ParametricLights | 0 |
ParametricMidtoneSplit | 50 |
ParametricShadows | -10 |
ParametricShadowSplit | 25 |
PostCropVignetteAmount | 0 |
ProfileDescription | sRGB IEC61966-2.1 |
RedHue | +23 |
RedSaturation | +10 |
Rights | Eric Fagerheim |
Saturation | Normal |
ScaleFactor35efl | 1.5 |
SceneCaptureType | Standard |
SensingMethod | One-chip color area |
Shadows | 2 |
ShadowTint | +4 |
SharpenDetail | 25 |
SharpenEdgeMasking | 0 |
SharpenRadius | +1.0 |
Sharpness (2) | 25 |
Sharpness | Hard |
ShutterSpeed | 1/60 |
ShutterSpeedValue | 1/60 |
Software | Adobe Photoshop Lightroom |
SplitToningBalance | 0 |
SplitToningHighlightHue | 11 |
SplitToningHighlightSaturation | 1 |
SplitToningShadowHue | 353 |
SplitToningShadowSaturation | 6 |
Subject | baby, barn, barne fotograf, beauty, bilde, bilder, bryllup, bryllupsfotograf, eric fagerheim, fashion, flink fotograf, foto, fotofashion, fotograf trondheim, konfirmasjon, lokasjon, modell, modell fotograf, prortrett, studio, susannn westermann, topp fotograf, ute |
SubjectDistanceRange | Close |
ToneCurve | 0, 0, 255, 255 |
ToneCurveName | Linear |
URL | http://www.fotofashion.no |
Version | 5.4 |
VignetteAmount | -100 |
VignetteMidpoint | 40 |
WebStatement | http://www.fotofashion.no |
WhiteBalance (2) | As Shot |
WhiteBalance | Auto |