Felt | Verdi |
AlreadyApplied | True |
Aperture | 4.0 |
ApertureValue | 4.0 |
BitsPerSample | 8 |
BlueHue | 0 |
BlueSaturation | 0 |
Brightness | +50 |
CameraProfile | ACR 4.4 |
ChromaticAberrationB | 0 |
ChromaticAberrationR | 0 |
CircleOfConfusion | 0.030 mm |
Clarity | 0 |
ColorComponents | 1 |
ColorNoiseReduction | 88 |
ColorTemperature | 6200 |
Contrast | +14 |
ConvertToGrayscale | True |
CreateDate (1) | 2008:07:05 06:41:01+02:00 |
CreateDate | 2008:07:05 06:41:01 |
CreatorTool | Adobe Photoshop Lightroom |
CustomRendered | Normal |
DateTimeDigitized | 2008:07:05 06:41:01+02:00 |
DateTimeOriginal (1) | 2008:07:05 06:41:01+02:00 |
DateTimeOriginal | 2008:07:05 06:41:01 |
Defringe | 0 |
ExifImageHeight | 683 |
ExifImageWidth | 1024 |
Exposure | +1.28 |
ExposureCompensation | 0 |
ExposureMode | Auto |
ExposureProgram | Aperture-priority AE |
ExposureTime | 1/10 |
FillLight | 0 |
Firmware | 1.1.0 |
Flash | Off, Did not fire |
FlashCompensation | 0 |
FlashFired | False |
FlashFunction | False |
FlashMode | Off |
FlashRedEyeMode | False |
FlashReturn | No return detection |
FNumber | 4.0 |
FocalLength | 28.0 mm |
FocalLength35efl | 28.0 mm (35 mm equivalent: 28.1 mm) |
FOV | 65.4 deg |
GradientBasedCorrActive | true |
GradientBasedCorrAmount | 1.000000 |
GradientBasedCorrBrightness | 0.000000 |
GradientBasedCorrClarity | 0.000000 |
GradientBasedCorrContrast | -0.929412 |
GradientBasedCorrExposure | 0.000000 |
GradientBasedCorrHue | 195.000000 |
GradientBasedCorrMaskFullX | 0.756672 |
GradientBasedCorrMaskFullY | 0.446408 |
GradientBasedCorrMaskValue | 1.000000 |
GradientBasedCorrMaskWhat | Mask/Gradient |
GradientBasedCorrMaskZeroX | 0.455259 |
GradientBasedCorrMaskZeroY | 0.493522 |
GradientBasedCorrSaturation | 0.000000 |
GradientBasedCorrSharpness | 0.000000 |
GradientBasedCorrWhat | Correction |
GrayMixerAqua | -36 |
GrayMixerBlue | -19 |
GrayMixerGreen | -40 |
GrayMixerMagenta | +4 |
GrayMixerOrange | -21 |
GrayMixerPurple | +2 |
GrayMixerRed | +9 |
GrayMixerYellow | -32 |
GreenHue | 0 |
GreenSaturation | 0 |
HasCrop | False |
HasSettings | True |
HighlightRecovery | 0 |
HyperfocalDistance | 6.54 m |
ImageHeight | 683 |
ImageNumber | 5 |
ImageSize | 1024x683 |
ImageWidth | 1024 |
ISO | 500 |
Keywords | Koster |
Lens | EF24-105mm f/4L IS USM |
LensInfo | 24-105mm f/? |
LightValue | 5.0 |
LuminanceSmoothing | 64 |
Make | Canon |
MaxApertureValue | 4.0 |
Megapixels | 0.699 |
MeteringMode | Multi-segment |
Model | Canon EOS 5D |
ModifyDate (1) | 2009:05:28 11:39:38+02:00 |
ModifyDate | 2009:05:28 11:39:38 |
PaintCorrectionActive | true |
PaintCorrectionAmount | 1.000000 |
PaintCorrectionBrightness | 0.000000 |
PaintCorrectionClarity | 0.000000 |
PaintCorrectionContrast (1) | 0.670588 |
PaintCorrectionContrast (3) | 1.000000 |
PaintCorrectionContrast | 0.000000 |
PaintCorrectionExposure (2) | 0.176471 |
PaintCorrectionExposure (3) | 0.000000 |
PaintCorrectionExposure (5) | 0.082353 |
PaintCorrectionExposure | -0.176471 |
PaintCorrectionHue | 195.000000 |
PaintCorrectionMaskCenterWeight | 0.000000 |
PaintCorrectionMaskFlow | 1.000000 |
PaintCorrectionMaskRadius (1) | 0.432992 |
PaintCorrectionMaskRadius (2) | 0.257833 |
PaintCorrectionMaskRadius (7) | 0.187839 |
PaintCorrectionMaskRadius | 0.109466 |
PaintCorrectionMaskValue | 0.505882 |
PaintCorrectionMaskWhat | Mask/Paint |
PaintCorrectionSaturation | 0.000000 |
PaintCorrectionSharpness | 0.000000 |
PaintCorrectionWhat | Correction |
ParametricDarks | -4 |
ParametricHighlights | +38 |
ParametricHighlightSplit | 75 |
ParametricLights | +2 |
ParametricMidtoneSplit | 50 |
ParametricShadows | 0 |
ParametricShadowSplit | 25 |
PostCropVignetteAmount | 0 |
ProfileDescription | sRGB IEC61966-2.1 |
Rating | 4 |
RedHue | 0 |
RedSaturation | 0 |
ScaleFactor35efl | 1.0 |
SceneCaptureType | Standard |
SerialNumber | 1631102541 |
Shadows | 6 |
ShadowTint | 0 |
SharpenDetail | 25 |
SharpenEdgeMasking | 0 |
SharpenRadius | +1.0 |
Sharpness | 25 |
ShutterSpeed | 1/10 |
ShutterSpeedValue | 1/10 |
SplitToningBalance | 0 |
SplitToningHighlightHue | 0 |
SplitToningHighlightSaturation | 0 |
SplitToningShadowHue | 0 |
SplitToningShadowSaturation | 0 |
Subject | Koster |
Tint | +13 |
ToneCurve | 0, 0, 32, 22, 64, 56, 128, 128, 192, 196, 255, 255 |
ToneCurveName | Medium Contrast |
Version | 5.3 |
VignetteAmount | +23 |
VignetteMidpoint | 50 |
WhiteBalance (2) | Custom |
WhiteBalance | Auto |