Felt | Verdi |
AlreadyApplied | True |
Aperture | 8.0 |
ApertureValue | 8.0 |
Artist | Andre |
BitsPerSample | 8 |
BlueHue | +11 |
BlueSaturation | -21 |
Brightness | 0 |
By-line | Andre |
CameraProfile | Embedded |
ChromaticAberrationB | 0 |
ChromaticAberrationR | 0 |
CircleOfConfusion | 0.019 mm |
Clarity | 0 |
ColorComponents | 3 |
ColorNoiseReduction | 25 |
ColorSpace | Uncalibrated |
Contrast | 0 |
ConvertToGrayscale | False |
CreateDate (1) | 2009:05:07 15:54:52.93+02:00 |
CreateDate | 2009:05:07 15:54:52 |
Creator | Andre |
CreatorTool | Adobe Photoshop Lightroom |
CropAngle | 0 |
CropBottom | 1 |
CropHeight | 262 |
CropLeft | 0 |
CropRight | 0.914972 |
CropTop | 0.085028 |
CropUnit | pixels |
CropWidth | 1280 |
CustomRendered | Normal |
DateTimeDigitized | 2009:05:07 15:54:52.93+02:00 |
DateTimeOriginal (1) | 2009:05:07 15:54:52.93+02:00 |
DateTimeOriginal | 2009:05:07 15:54:52 |
Defringe | 0 |
ExifImageHeight | 262 |
ExifImageWidth | 1280 |
Exposure | +0.95 |
ExposureCompensation | 0 |
ExposureMode | Manual |
ExposureProgram | Manual |
ExposureTime | 1/400 |
FillLight | 48 |
Firmware | 1.0.4 |
Flash | Off, Did not fire |
FlashCompensation | 0 |
FlashFired | False |
FlashFunction | False |
FlashMode | Off |
FlashRedEyeMode | False |
FlashReturn | No return detection |
FNumber | 8.0 |
FocalLength | 50.0 mm |
FocalLength35efl | 50.0 mm (35 mm equivalent: 80.9 mm) |
Format | image/tiff |
FOV | 25.1 deg |
GreenHue | +16 |
GreenSaturation | +51 |
HasCrop | True |
HasSettings | True |
HighlightRecovery | 25 |
HueAdjustmentAqua | +62 |
HueAdjustmentBlue | 0 |
HueAdjustmentGreen | 0 |
HueAdjustmentMagenta | 0 |
HueAdjustmentOrange | 0 |
HueAdjustmentPurple | +100 |
HueAdjustmentRed | 0 |
HueAdjustmentYellow | 0 |
HyperfocalDistance | 16.84 m |
ImageHeight | 262 |
ImageNumber | 0 |
ImageSize | 1280x262 |
ImageWidth | 1280 |
IncrementalTemperature | 0 |
IncrementalTint | 0 |
ISO | 100 |
Keywords | skole oppgave oslo 7/5 |
Label | Red |
Lens | 17-50mm |
LensInfo | 17-50mm f/? |
LightValue | 14.6 |
LuminanceAdjustmentAqua | -100 |
LuminanceAdjustmentBlue | -100 |
LuminanceAdjustmentGreen | -100 |
LuminanceAdjustmentMagenta | -100 |
LuminanceAdjustmentOrange | -100 |
LuminanceAdjustmentPurple | -100 |
LuminanceAdjustmentRed | -100 |
LuminanceAdjustmentYellow | -100 |
LuminanceSmoothing | 0 |
Make | Canon |
MaxApertureValue | 2.8 |
Megapixels | 0.335 |
MeteringMode | Multi-segment |
Model | Canon EOS 40D |
ModifyDate (1) | 2009:05:08 22:40:34+02:00 |
ModifyDate | 2009:05:08 22:40:34 |
OwnerName | Andre |
ParametricDarks | -20 |
ParametricHighlights | +60 |
ParametricHighlightSplit | 75 |
ParametricLights | +10 |
ParametricMidtoneSplit | 50 |
ParametricShadows | -60 |
ParametricShadowSplit | 25 |
PostCropVignetteAmount | 0 |
ProfileDescription | sRGB IEC61966-2.1 |
Rating | 4 |
RedHue | +23 |
RedSaturation | +10 |
Saturation | -12 |
SaturationAdjustmentAqua | +50 |
SaturationAdjustmentBlue | +81 |
SaturationAdjustmentGreen | +10 |
SaturationAdjustmentMagenta | 0 |
SaturationAdjustmentOrange | +13 |
SaturationAdjustmentPurple | +23 |
SaturationAdjustmentRed | 0 |
SaturationAdjustmentYellow | +23 |
ScaleFactor35efl | 1.6 |
SceneCaptureType | Standard |
SerialNumber | 630333389 |
Shadows | 25 |
ShadowTint | +4 |
SharpenDetail | 20 |
SharpenEdgeMasking | 70 |
SharpenRadius | +1.2 |
Sharpness | 25 |
ShutterSpeed | 1/400 |
ShutterSpeedValue | 1/400 |
Software | Adobe Photoshop CS4 Windows |
SplitToningBalance | 0 |
SplitToningHighlightHue | 0 |
SplitToningHighlightSaturation | 0 |
SplitToningShadowHue | 0 |
SplitToningShadowSaturation | 0 |
Subject | skole oppgave oslo 7/5 |
ToneCurve | 0, 0, 255, 255 |
ToneCurveName | Linear |
Version | 5.3 |
Vibrance | +33 |
VignetteAmount | -100 |
VignetteMidpoint | 40 |
WhiteBalance (2) | As Shot |
WhiteBalance | Auto |