Felt | Verdi |
AlreadyApplied | True |
Aperture | 5.0 |
ApertureValue | 5.0 |
BitsPerSample | 8 |
BlueHue | 0 |
BlueSaturation | -39 |
Brightness | +50 |
CameraProfile | ACR 4.4 |
ChromaticAberrationB | 0 |
ChromaticAberrationR | 0 |
CircleOfConfusion | 0.019 mm |
Clarity | 0 |
ColorComponents | 3 |
ColorMode | RGB |
ColorNoiseReduction | 25 |
ColorSpace (1) | Unknown (-1) |
ColorSpace | Uncalibrated |
ColorTemperature | 5600 |
Contrast | +48 |
ConvertToGrayscale | False |
CopyrightFlag | False |
CreateDate (1) | 2008:08:30 04:51:30+02:00 |
CreateDate | 2008:08:25 00:19:42 |
CreatorTool | Adobe Photoshop CS3 Macintosh |
CustomRendered | Normal |
DateTimeDigitized | 2008:08:25 00:19:42.03+02:00 |
DateTimeOriginal (1) | 2008:08:25 00:19:42.03+02:00 |
DateTimeOriginal | 2008:08:25 00:19:42 |
Defringe | 0 |
ExifImageHeight | 768 |
ExifImageWidth | 513 |
Exposure | 0.00 |
ExposureCompensation | 0 |
ExposureMode | Manual |
ExposureProgram | Manual |
ExposureTime | 1/80 |
FillLight | 0 |
Firmware | 1.0.4 |
Flash | On, Fired |
FlashCompensation | 0 |
FlashFired | True |
FlashFunction | False |
FlashMode | On |
FlashRedEyeMode | False |
FlashReturn | No return detection |
FNumber | 5.0 |
FocalLength | 42.0 mm |
FocalLength35efl | 42.0 mm (35 mm equivalent: 67.8 mm) |
Format | image/jpeg |
FOV | 29.7 deg |
GreenHue | 0 |
GreenSaturation | 0 |
HasCrop | False |
HasSettings | True |
HighlightRecovery | 0 |
HueAdjustmentAqua | 0 |
HueAdjustmentBlue | 0 |
HueAdjustmentGreen | 0 |
HueAdjustmentMagenta | 0 |
HueAdjustmentOrange | 0 |
HueAdjustmentPurple | 0 |
HueAdjustmentRed | 0 |
HueAdjustmentYellow | 0 |
HyperfocalDistance | 18.97 m |
ICCProfileName | Adobe RGB (1998) |
ImageHeight | 768 |
ImageNumber | 0 |
ImageSize | 513x768 |
ImageWidth | 513 |
ISO | 800 |
Lens | EF-S18-55mm f/3.5-5.6 IS |
LensInfo | 18-55mm f/? |
LightValue | 8.0 |
LuminanceAdjustmentAqua | 0 |
LuminanceAdjustmentBlue | 0 |
LuminanceAdjustmentGreen | 0 |
LuminanceAdjustmentMagenta | 0 |
LuminanceAdjustmentOrange | 0 |
LuminanceAdjustmentPurple | 0 |
LuminanceAdjustmentRed | 0 |
LuminanceAdjustmentYellow | 0 |
LuminanceSmoothing | 0 |
Make | Canon |
MaxApertureValue | 5.0 |
Megapixels | 0.394 |
MeteringMode | Multi-segment |
Model | Canon EOS 450D |
ModifyDate (1) | 2008:08:30 04:51:30+02:00 |
ModifyDate | 2008:08:30 04:51:30 |
Orientation | Horizontal (normal) |
ParametricDarks | +49 |
ParametricHighlights | +54 |
ParametricHighlightSplit | 75 |
ParametricLights | +3 |
ParametricMidtoneSplit | 50 |
ParametricShadows | +40 |
ParametricShadowSplit | 25 |
PostCropVignetteAmount | 0 |
ProfileDescription | Adobe RGB (1998) |
Rating | 0 |
RawFileName | IMG_0569.CR2 |
RedHue | 0 |
RedSaturation | 0 |
Saturation | -1 |
SaturationAdjustmentAqua | 0 |
SaturationAdjustmentBlue | 0 |
SaturationAdjustmentGreen | 0 |
SaturationAdjustmentMagenta | 0 |
SaturationAdjustmentOrange | 0 |
SaturationAdjustmentPurple | 0 |
SaturationAdjustmentRed | 0 |
SaturationAdjustmentYellow | 0 |
ScaleFactor35efl | 1.6 |
SceneCaptureType | Standard |
SerialNumber | 680254745 |
Shadows | 5 |
ShadowTint | -8 |
SharpenDetail | 25 |
SharpenEdgeMasking | 0 |
SharpenRadius | +1.0 |
Sharpness | 25 |
ShutterSpeed | 1/80 |
ShutterSpeedValue | 1/80 |
SidecarForExtension | CR2 |
Software | Adobe Photoshop CS3 Macintosh |
SplitToningBalance | 0 |
SplitToningHighlightHue | 0 |
SplitToningHighlightSaturation | 0 |
SplitToningShadowHue | 0 |
SplitToningShadowSaturation | 0 |
Tint | +1 |
ToneCurve | 0, 0, 32, 22, 64, 56, 128, 128, 192, 196, 255, 255 |
ToneCurveName | Medium Contrast |
URL_List | |
Version | 4.5 |
Vibrance | 0 |
VignetteAmount | 0 |
WhiteBalance (2) | As Shot |
WhiteBalance | Auto |