Felt | Verdi |
AlreadyApplied | True |
Aperture | 3.5 |
ApertureValue | 3.5 |
BitsPerSample | 8 |
BlueHue | 0 |
BlueSaturation | 0 |
Brightness | 0 |
CameraProfile | ACR 2.4 |
ChromaticAberrationB | 0 |
ChromaticAberrationR | 0 |
CircleOfConfusion | 0.030 mm |
Clarity | 80 |
ColorComponents | 1 |
ColorSpace | sRGB |
ColorTemperature | 5085 |
Contrast | +23 |
ConvertToGrayscale | True |
CopyrightFlag | False |
CreateDate (1) | 2007:08:22 09:14:36+02:00 |
CreateDate | 2007:08:22 09:14:36 |
CreatorTool | Adobe Photoshop CS Macintosh |
CropAngle | 1.273234 |
CropBottom | 0.898084 |
CropHeight | 783 |
CropLeft | 0.108877 |
CropRight | 0.982394 |
CropTop | 0.000641 |
CropUnit | pixels |
CropWidth | 1200 |
CustomRendered | Normal |
DateTimeDigitized | 2007:08:22 09:14:36+02:00 |
DateTimeOriginal (1) | 2007:08:22 09:14:36+02:00 |
DateTimeOriginal | 2007:08:22 09:14:36 |
Defringe | 0 |
ExifImageHeight | 653 |
ExifImageWidth | 1000 |
Exposure | -0.77 |
ExposureCompensation | 0 |
ExposureMode | Auto |
ExposureProgram | Aperture-priority AE |
ExposureTime | 1/400 |
FillLight | 45 |
Firmware | 1.0.3 |
Flash | Off, Did not fire |
FlashCompensation | 0 |
FlashFired | False |
FlashFunction | False |
FlashMode | Off |
FlashRedEyeMode | False |
FlashReturn | No return detection |
FNumber | 3.5 |
FocalLength | 50.0 mm |
FocalLength35efl | 50.0 mm (35 mm equivalent: 50.1 mm) |
Format | image/jpeg |
FOV | 39.5 deg |
GrayMixerAqua | -20 |
GrayMixerBlue | +4 |
GrayMixerGreen | -23 |
GrayMixerMagenta | +5 |
GrayMixerOrange | -13 |
GrayMixerPurple | +12 |
GrayMixerRed | -5 |
GrayMixerYellow | -17 |
GreenHue | 0 |
GreenSaturation | 0 |
HasCrop | True |
HasSettings | True |
HighlightRecovery | 0 |
HyperfocalDistance | 23.82 m |
ImageHeight (1) | 783 |
ImageHeight | 653 |
ImageNumber | 2 |
ImageSize | 1000x653 |
ImageWidth (1) | 1200 |
ImageWidth | 1000 |
ISO | 800 |
Lens | 50.0 mm |
LensInfo | 50mm f/? |
LightValue | 9.3 |
LuminanceSmoothing | 0 |
Make | Canon |
MaxApertureValue | 1.2 |
Megapixels | 0.653 |
MeteringMode | Unknown |
Model | Canon EOS 5D |
ModifyDate (1) | 2007:09:09 18:50:54+02:00 |
ModifyDate | 2007:09:09 18:50:54 |
Orientation | Horizontal (normal) |
ParametricDarks | +6 |
ParametricHighlights | -13 |
ParametricHighlightSplit | 75 |
ParametricLights | +30 |
ParametricMidtoneSplit | 50 |
ParametricShadows | -51 |
ParametricShadowSplit | 25 |
ProfileDescription | sRGB IEC61966-2.1 |
RedHue | 0 |
RedSaturation | 0 |
ScaleFactor35efl | 1.0 |
SceneCaptureType | Standard |
SerialNumber | 730504271 |
Shadows | 1 |
ShadowTint | 0 |
SharpenDetail | 25 |
SharpenEdgeMasking | 0 |
SharpenRadius | +1.0 |
Sharpness | 78 |
ShutterSpeed | 1/400 |
ShutterSpeedValue | 1/400 |
Software | Adobe Photoshop CS Macintosh |
SplitToningBalance | 0 |
SplitToningHighlightHue | 0 |
SplitToningHighlightSaturation | 0 |
SplitToningShadowHue | 0 |
SplitToningShadowSaturation | 0 |
TimeZoneOffset | 2 2 |
Tint | +4 |
ToneCurve | 0, 0, 32, 22, 64, 56, 128, 128, 192, 196, 255, 255 |
ToneCurveName | Medium Contrast |
URL_List | |
Version | 1.0 |
VignetteAmount | 0 |
WhiteBalance (1) | Custom |
WhiteBalance | Auto |