Felt | Verdi |
AlreadyApplied | True |
BitsPerSample | 8 |
Blacks2012 | 0 |
Clarity2012 | 0 |
ColorComponents | 1 |
ColorGradeBlending | 50 |
ColorGradeGlobalHue | 0 |
ColorGradeGlobalLum | 0 |
ColorGradeGlobalSat | 0 |
ColorGradeHighlightLum | 0 |
ColorGradeMidtoneHue | 0 |
ColorGradeMidtoneLum | 0 |
ColorGradeMidtoneSat | 0 |
ColorGradeShadowLum | 0 |
ColorMode | Grayscale |
ColorSpace | Uncalibrated |
ColorTransform | Unknown (RGB or CMYK) |
Contrast2012 | 0 |
CreateDate | 2021:12:27 15:54:36+01:00 |
CreatorTool | SilverFast 8.8.0 r25 (Jun 25 2021) d6df961 25.06. |
Dehaze | 0 |
ExifImageHeight | 2922 |
ExifImageWidth | 4382 |
Exposure2012 | 0.00 |
Format | image/jpeg |
GrainAmount | 0 |
HasCrop | False |
HasSettings | True |
Highlights2012 | 0 |
ICCProfileName | Gray Gamma 2.2 |
ImageHeight | 2922 |
ImageSize | 4382x2922 |
ImageWidth | 4382 |
LensManualDistortionAmount | 0 |
LensProfileEnable | 0 |
LuminanceSmoothing | 0 |
Make | EPSON |
Megapixels | 12.8 |
Model | Perfection V700/V750 |
ModifyDate (1) | 2021:12:28 10:37:39+01:00 |
ModifyDate | 2021:12:28 10:37:39 |
Orientation | Horizontal (normal) |
OverrideLookVignette | False |
ParametricDarks | +68 |
ParametricHighlights | +44 |
ParametricHighlightSplit | 75 |
ParametricLights | +15 |
ParametricMidtoneSplit | 50 |
ParametricShadows | +50 |
ParametricShadowSplit | 25 |
PerspectiveAspect | 0 |
PerspectiveHorizontal | 0 |
PerspectiveRotate | 0.0 |
PerspectiveScale | 100 |
PerspectiveUpright | 0 |
PerspectiveVertical | 0 |
PerspectiveX | 0.00 |
PerspectiveY | 0.00 |
PostCropVignetteAmount | 0 |
ProcessVersion | 11.0 |
ProfileDescription | Gray Gamma 2.2 |
Rating | 0 |
Shadows2012 | 0 |
SharpenDetail | 25 |
SharpenEdgeMasking | 0 |
SharpenRadius | +1.0 |
Sharpness | 57 |
Software | Adobe Photoshop 21.2 (Macintosh) |
SplitToningBalance | 0 |
SplitToningHighlightHue | 0 |
SplitToningHighlightSaturation | 0 |
SplitToningShadowHue | 0 |
SplitToningShadowSaturation | 0 |
Texture | 0 |
ToneCurveName2012 | Linear |
ToneCurvePV2012 | 0, 0, 255, 255 |
ToneCurvePV2012Blue | 0, 0, 255, 255 |
ToneCurvePV2012Green | 0, 0, 255, 255 |
ToneCurvePV2012Red | 0, 0, 255, 255 |
URL_List | |
Version | 14.1 |
VignetteAmount | 0 |
Whites2012 | 0 |