Felt | Verdi |
AlreadyApplied | True |
Aperture | 4.0 |
ApertureValue | 4.0 |
AutoLateralCA | 1 |
BitsPerSample | 8 |
Blacks2012 | +55 |
BlueHue | 0 |
BlueSaturation | -12 |
BrightnessValue | -10.1234375 |
CameraProfile | Adobe Standard |
CircleOfConfusion | 0.030 mm |
Clarity2012 | -21 |
ColorComponents | 3 |
ColorGradeBlending | 100 |
ColorGradeGlobalHue | 0 |
ColorGradeGlobalLum | 0 |
ColorGradeGlobalSat | 0 |
ColorGradeHighlightLum | 0 |
ColorGradeMidtoneHue | 0 |
ColorGradeMidtoneLum | 0 |
ColorGradeMidtoneSat | 0 |
ColorGradeShadowLum | 0 |
ColorNoiseReduction | 25 |
ColorNoiseReductionDetail | 50 |
ColorNoiseReductionSmoothness | 50 |
ColorSpace | sRGB |
ColorTemperature | 3649 |
ColorTransform | YCbCr |
Contrast | Normal |
Contrast2012 | -39 |
ConvertToGrayscale | False |
CreateDate (1) | 2021:01:10 22:00:21+02:00 |
CreateDate | 2021:01:10 22:00:21 |
CreatorTool | Adobe Photoshop Lightroom Classic 10.0 (Macintosh) |
CropAngle | 0 |
CropBottom | 0.890857 |
CropConstrainToWarp | 1 |
CropLeft | 0.08199 |
CropRight | 0.88841 |
CropTop | 0.084437 |
CustomRendered | Normal |
DateCreated (1) | 2021:01:10 |
DateCreated | 2021:01:10 22:00:21+02:00 |
DateTimeOriginal | 2021:01:10 22:00:21 |
DefringeGreenAmount | 0 |
DefringeGreenHueHi | 60 |
DefringeGreenHueLo | 40 |
DefringePurpleAmount | 0 |
DefringePurpleHueHi | 70 |
DefringePurpleHueLo | 30 |
Dehaze | +58 |
DigitalZoomRatio | 1 |
Exposure2012 | +2.15 |
ExposureCompensation | 0 |
ExposureMode | Manual |
ExposureProgram | Manual |
ExposureTime | 1/50 |
Flash | On, Return not detected |
FNumber | 4.0 |
FocalLength | 11.0 mm |
FocalLength35efl | 11.0 mm (35 mm equivalent: 11.0 mm) |
FocalLengthIn35mmFormat | 11 mm |
Format | image/jpeg |
FOV | 117.1 deg |
GradientBasedCorrActive | true |
GradientBasedCorrAmount | 1.000000 |
GradientBasedCorrBrightness | 0.000000 |
GradientBasedCorrClarity | 0.000000 |
GradientBasedCorrClarity2012 | 0.000000 |
GradientBasedCorrContrast | 0.000000 |
GradientBasedCorrContrast2012 | 0.000000 |
GradientBasedCorrCorrectionRangeMaskColorAmount | 0.500000 |
GradientBasedCorrCorrectionRangeMaskDepthFeather | 0.500000 |
GradientBasedCorrCorrectionRangeMaskDepthMax | 1.000000 |
GradientBasedCorrCorrectionRangeMaskDepthMin | 0.000000 |
GradientBasedCorrCorrectionRangeMaskLumFeather | 0.500000 |
GradientBasedCorrCorrectionRangeMaskLumMax | 1.000000 |
GradientBasedCorrCorrectionRangeMaskLumMin | 0.000000 |
GradientBasedCorrCorrectionRangeMaskType | 0 |
GradientBasedCorrCorrectionRangeMaskVersion | +2 |
GradientBasedCorrDefringe | 0.000000 |
GradientBasedCorrExposure | 0.000000 |
GradientBasedCorrExposure2012 (1) | 0.134108 |
GradientBasedCorrExposure2012 | 0.060373 |
GradientBasedCorrHighlights2012 | 0.000000 |
GradientBasedCorrHue | 240.000000 |
GradientBasedCorrLocalBlacks2012 | 0.000000 |
GradientBasedCorrLocalDehaze | 0.000000 |
GradientBasedCorrLocalHue | 0.000000 |
GradientBasedCorrLocalTexture | 0.000000 |
GradientBasedCorrLocalWhites2012 | 0.000000 |
GradientBasedCorrLuminanceNoise | 0.000000 |
GradientBasedCorrMaskFullX (1) | 0.957844 |
GradientBasedCorrMaskFullX (2) | 0.073914 |
GradientBasedCorrMaskFullX (3) | -0.012140 |
GradientBasedCorrMaskFullX (4) | 0.968288 |
GradientBasedCorrMaskFullX | 0.927252 |
GradientBasedCorrMaskFullY (1) | 0.959095 |
GradientBasedCorrMaskFullY (2) | 0.970592 |
GradientBasedCorrMaskFullY (3) | 0.950779 |
GradientBasedCorrMaskFullY (4) | 0.958775 |
GradientBasedCorrMaskFullY | 0.029600 |
GradientBasedCorrMaskValue | 1.000000 |
GradientBasedCorrMaskWhat | Mask/Gradient |
GradientBasedCorrMaskZeroX (1) | 0.780594 |
GradientBasedCorrMaskZeroX (2) | 0.225504 |
GradientBasedCorrMaskZeroX (3) | 0.087695 |
GradientBasedCorrMaskZeroX (4) | 0.889192 |
GradientBasedCorrMaskZeroX | 0.852334 |
GradientBasedCorrMaskZeroY (1) | 0.804324 |
GradientBasedCorrMaskZeroY (2) | 0.819465 |
GradientBasedCorrMaskZeroY (3) | 0.859718 |
GradientBasedCorrMaskZeroY (4) | 0.845881 |
GradientBasedCorrMaskZeroY | 0.162137 |
GradientBasedCorrMoire | 0.000000 |
GradientBasedCorrSaturation | 0.000000 |
GradientBasedCorrShadows2012 | 0.000000 |
GradientBasedCorrSharpness | 0.000000 |
GradientBasedCorrTemperature (4) | 0.171283 |
GradientBasedCorrTemperature | 0.134683 |
GradientBasedCorrTint | 0.000000 |
GradientBasedCorrWhat | Correction |
GrainAmount | 0 |
GreenHue | 0 |
GreenSaturation | 0 |
HasCrop | True |
HasSettings | True |
Highlights2012 | -100 |
HueAdjustmentAqua | +5 |
HueAdjustmentBlue | -5 |
HueAdjustmentGreen | +15 |
HueAdjustmentMagenta | +10 |
HueAdjustmentOrange | -5 |
HueAdjustmentPurple | +15 |
HueAdjustmentRed | +10 |
HueAdjustmentYellow | +5 |
HyperfocalDistance | 1.01 m |
ImageHeight | 3226 |
ImageSize | 4839x3226 |
ImageWidth | 4839 |
ISO | 160 |
Lens | E 10-18mm F4 OSS |
LensDistortInfo | 33240/32768 -119121102/1073741824 223891669/1073741824 -123864398/1073741824 |
LensInfo | 10-18mm f/4 |
LensManualDistortionAmount | 0 |
LensModel | E 10-18mm F4 OSS |
LensProfileDistortionScale | 200 |
LensProfileEnable | 1 |
LensProfileFilename | SONY (Sony E 10-18mm F4 OSS) - RAW.lcp |
LensProfileIsEmbedded | False |
LensProfileName | Adobe (Sony E 10-18mm F4 OSS) |
LensProfileSetup | Custom |
LensProfileVignettingScale | 82 |
LightSource | Unknown |
LightValue | 9.0 |
LuminanceAdjustmentAqua | 0 |
LuminanceAdjustmentBlue | 0 |
LuminanceAdjustmentGreen | -10 |
LuminanceAdjustmentMagenta | +15 |
LuminanceAdjustmentOrange | +10 |
LuminanceAdjustmentPurple | +15 |
LuminanceAdjustmentRed | +10 |
LuminanceAdjustmentYellow | -5 |
LuminanceSmoothing | 0 |
Make | SONY |
MaxApertureValue | 4.0 |
Megapixels | 15.6 |
MeteringMode | Multi-segment |
Model | ILCE-7M3 |
ModifyDate (1) | 2021:01:12 17:27:19+01:00 |
ModifyDate | 2021:01:12 17:27:19 |
OverrideLookVignette | False |
ParametricDarks | 0 |
ParametricHighlights | 0 |
ParametricHighlightSplit | 75 |
ParametricLights | 0 |
ParametricMidtoneSplit | 50 |
ParametricShadows | 0 |
ParametricShadowSplit | 25 |
PerspectiveAspect | -50 |
PerspectiveHorizontal | 0 |
PerspectiveRotate | 0.0 |
PerspectiveScale | 87 |
PerspectiveUpright | 0 |
PerspectiveVertical | 0 |
PerspectiveX | 0.00 |
PerspectiveY | 0.00 |
PostCropVignetteAmount | 0 |
PreservedFileName | _DSC1116.ARW |
ProcessVersion | 11.0 |
ProfileDescription | sRGB IEC61966-2.1 |
RecommendedExposureIndex | 160 |
RedHue | +5 |
RedSaturation | -10 |
Saturation (1) | +5 |
Saturation | Normal |
SaturationAdjustmentAqua | -35 |
SaturationAdjustmentBlue | -10 |
SaturationAdjustmentGreen | -35 |
SaturationAdjustmentMagenta | -5 |
SaturationAdjustmentOrange | -5 |
SaturationAdjustmentPurple | -25 |
SaturationAdjustmentRed | -10 |
SaturationAdjustmentYellow | -3 |
ScaleFactor35efl | 1.0 |
SceneCaptureType | Standard |
SceneType | Directly photographed |
SensitivityType | Recommended Exposure Index |
Shadows2012 | 0 |
ShadowTint | -4 |
SharpenDetail | 25 |
SharpenEdgeMasking | 0 |
SharpenRadius | +1.0 |
Sharpness (1) | 25 |
Sharpness | Normal |
ShutterSpeed | 1/50 |
ShutterSpeedValue | 1/50 |
Software | Adobe Photoshop Lightroom Classic 10.0 (Macintosh) |
SplitToningBalance | -88 |
SplitToningHighlightHue | 170 |
SplitToningHighlightSaturation | 10 |
SplitToningShadowHue | 0 |
SplitToningShadowSaturation | 0 |
Texture | +50 |
Tint | +3 |
ToneCurveName2012 | Custom |
ToneCurvePV2012 | 0, 8, 255, 252 |
ToneCurvePV2012Blue | 0, 0, 55, 38, 121, 127, 201, 214, 255, 255 |
ToneCurvePV2012Green | 0, 0, 58, 38, 120, 128, 177, 192, 255, 255 |
ToneCurvePV2012Red | 0, 0, 56, 36, 119, 127, 175, 192, 220, 230, 255, 255 |
Version | 13.0 |
Vibrance | 0 |
VignetteAmount | 0 |
WhiteBalance (1) | Custom |
WhiteBalance | Auto |
Whites2012 | -100 |