Felt | Verdi |
AlreadyApplied | True |
Aperture | 7.1 |
ApertureValue | 7.1 |
ApproximateFocusDistance | 4294967295 |
Artist | BENTEJAKLIN |
AutoLateralCA | 1 |
AutoWhiteVersion | 134348800 |
BitsPerSample | 8 |
Blacks2012 | 0 |
BlueHue | 0 |
BlueSaturation | +24 |
By-line | BENTEJAKLIN |
CameraProfile | Adobe Standard |
CircGradBasedCorrActive | true |
CircGradBasedCorrAmount | 1.000000 |
CircGradBasedCorrBrightness | 0.000000 |
CircGradBasedCorrClarity2012 (2) | 0.241380 |
CircGradBasedCorrClarity2012 (3) | 0.310340 |
CircGradBasedCorrClarity2012 (4) | 0.195400 |
CircGradBasedCorrClarity2012 | 0.218390 |
CircGradBasedCorrContrast2012 | 0.000000 |
CircGradBasedCorrDefringe | 0.000000 |
CircGradBasedCorrExposure2012 (1) | 0.103500 |
CircGradBasedCorrExposure2012 (2) | 0.172500 |
CircGradBasedCorrExposure2012 (4) | 0.149500 |
CircGradBasedCorrExposure2012 | 0.126500 |
CircGradBasedCorrHighlights2012 | 0.000000 |
CircGradBasedCorrHue | 0.000000 |
CircGradBasedCorrLocalBlacks2012 | 0.000000 |
CircGradBasedCorrLocalDehaze | 0.000000 |
CircGradBasedCorrLocalWhites2012 | 0.000000 |
CircGradBasedCorrLuminanceNoise | 0.000000 |
CircGradBasedCorrMaskAngle (4) | 0.000000 |
CircGradBasedCorrMaskAngle | 5.725250 |
CircGradBasedCorrMaskBottom (1) | 0.534860 |
CircGradBasedCorrMaskBottom (2) | 0.599649 |
CircGradBasedCorrMaskBottom (3) | 0.484207 |
CircGradBasedCorrMaskBottom (4) | 0.499520 |
CircGradBasedCorrMaskBottom | 0.434842 |
CircGradBasedCorrMaskFeather | +50 |
CircGradBasedCorrMaskFlipped | true |
CircGradBasedCorrMaskLeft (1) | -0.043135 |
CircGradBasedCorrMaskLeft (2) | -0.021676 |
CircGradBasedCorrMaskLeft (3) | 0.464498 |
CircGradBasedCorrMaskLeft (4) | 0.352510 |
CircGradBasedCorrMaskLeft | 0.830774 |
CircGradBasedCorrMaskMidpoint | +50 |
CircGradBasedCorrMaskRight (1) | 0.160723 |
CircGradBasedCorrMaskRight (2) | 0.149994 |
CircGradBasedCorrMaskRight (3) | 0.538262 |
CircGradBasedCorrMaskRight (4) | 0.412863 |
CircGradBasedCorrMaskRight | 0.937794 |
CircGradBasedCorrMaskRoundness | 0 |
CircGradBasedCorrMaskTop (1) | 0.336958 |
CircGradBasedCorrMaskTop (2) | 0.524258 |
CircGradBasedCorrMaskTop (3) | 0.430019 |
CircGradBasedCorrMaskTop (4) | 0.440621 |
CircGradBasedCorrMaskTop | 0.373365 |
CircGradBasedCorrMaskValue | 1.000000 |
CircGradBasedCorrMaskVersion | +2 |
CircGradBasedCorrMaskWhat | Mask/CircularGradient |
CircGradBasedCorrMoire | 0.000000 |
CircGradBasedCorrSaturation (5) | 0.310340 |
CircGradBasedCorrSaturation (9) | 0.195400 |
CircGradBasedCorrSaturation | 0.000000 |
CircGradBasedCorrShadows2012 (2) | 0.000000 |
CircGradBasedCorrShadows2012 (3) | 0.218390 |
CircGradBasedCorrShadows2012 (4) | 0.126440 |
CircGradBasedCorrShadows2012 | 0.195400 |
CircGradBasedCorrSharpness | 0.000000 |
CircGradBasedCorrTemperature | 0.000000 |
CircGradBasedCorrTint | 0.000000 |
CircGradBasedCorrWhat | Correction |
Clarity2012 | 0 |
ColorComponents | 3 |
ColorNoiseReduction | 25 |
ColorNoiseReductionDetail | 50 |
ColorNoiseReductionSmoothness | 50 |
ColorSpace | sRGB |
ColorTemperature | 7000 |
ColorTransform | YCbCr |
Contrast2012 | +12 |
ConvertToGrayscale | False |
CreateDate (1) | 2018:10:15 16:41:34.651 |
CreateDate | 2018:10:15 16:41:34 |
Creator | BENTEJAKLIN |
CreatorTool | Adobe Photoshop Lightroom 6.12 (Windows) |
CropAngle | 0 |
CropBottom | 0.867052 |
CropConstrainToWarp | 0 |
CropLeft | 0.046053 |
CropRight | 0.932566 |
CropTop | 0.121387 |
CustomRendered | Normal |
DateCreated (1) | 2018:10:15 |
DateCreated | 2018:10:15 16:40:27.62 |
DateTimeOriginal | 2018:10:15 16:41:34 |
DefringeGreenAmount | 0 |
DefringeGreenHueHi | 60 |
DefringeGreenHueLo | 40 |
DefringePurpleAmount | 0 |
DefringePurpleHueHi | 70 |
DefringePurpleHueLo | 30 |
Dehaze | +14 |
DistortionCorrectionAlreadyApplied | True |
Exposure2012 | 0.00 |
ExposureCompensation | 0 |
ExposureMode | Manual |
ExposureProgram | Manual |
ExposureTime | 2 |
Firmware | 1.0.4 |
Flash | Off, Did not fire |
FlashCompensation | 0 |
FNumber | 7.1 |
FocalLength | 24.0 mm |
FocalLength35efl | 24.0 mm |
Format | image/jpeg |
GradientBasedCorrActive | true |
GradientBasedCorrAmount | 1.000000 |
GradientBasedCorrBrightness | 0.000000 |
GradientBasedCorrClarity2012 | 0.000000 |
GradientBasedCorrContrast2012 | 0.195400 |
GradientBasedCorrDefringe | 0.000000 |
GradientBasedCorrExposure2012 | -0.149500 |
GradientBasedCorrHighlights2012 | -0.632180 |
GradientBasedCorrHue | 0.000000 |
GradientBasedCorrLocalBlacks2012 | 0.000000 |
GradientBasedCorrLocalDehaze | 0.000000 |
GradientBasedCorrLocalWhites2012 | 0.000000 |
GradientBasedCorrLuminanceNoise | 0.000000 |
GradientBasedCorrMaskFullX | 0.701215 |
GradientBasedCorrMaskFullY | 0.368764 |
GradientBasedCorrMaskValue | 1.000000 |
GradientBasedCorrMaskWhat | Mask/Gradient |
GradientBasedCorrMaskZeroX | 0.694509 |
GradientBasedCorrMaskZeroY | 0.445333 |
GradientBasedCorrMoire | 0.000000 |
GradientBasedCorrSaturation | 0.000000 |
GradientBasedCorrShadows2012 | 0.000000 |
GradientBasedCorrSharpness | 0.000000 |
GradientBasedCorrTemperature | 0.000000 |
GradientBasedCorrTint | 0.000000 |
GradientBasedCorrWhat | Correction |
GrainAmount | 0 |
GreenHue | 0 |
GreenSaturation | +5 |
HasCrop | True |
HasSettings | True |
Highlights2012 | -38 |
HueAdjustmentAqua | 0 |
HueAdjustmentBlue | 0 |
HueAdjustmentGreen | 0 |
HueAdjustmentMagenta | 0 |
HueAdjustmentOrange | 0 |
HueAdjustmentPurple | 0 |
HueAdjustmentRed | 0 |
HueAdjustmentYellow | 0 |
ImageHeight | 4993 |
ImageNumber | 0 |
ImageSize | 10432x4993 |
ImageWidth | 10432 |
IsMergedPanorama | True |
ISO | 160 |
LateralChromaticAberrationCorrectionAlreadyApplied | True |
Lens | EF24-70mm f/4L IS USM |
LensID (1) | 504 |
LensID | Canon EF 24-70mm f/4L IS USM |
LensInfo | 24-70mm f/? |
LensManualDistortionAmount | 0 |
LensModel | EF24-70mm f/4L IS USM |
LensProfileChromaticAberrationScale | 100 |
LensProfileDistortionScale | 100 |
LensProfileEnable | 0 |
LensProfileFilename | Canon EOS-1Ds Mark III (Canon EF 24-70mm f4L IS USM) - RAW.lcp |
LensProfileName | Adobe (Canon EF 24-70mm f/4 L IS USM) |
LensProfileSetup | LensDefaults |
LensProfileVignettingScale | 100 |
LensSerialNumber | 5303001492 |
LightValue | 4.0 |
LuminanceAdjustmentAqua | -4 |
LuminanceAdjustmentBlue | +49 |
LuminanceAdjustmentGreen | 0 |
LuminanceAdjustmentMagenta | 0 |
LuminanceAdjustmentOrange | +29 |
LuminanceAdjustmentPurple | 0 |
LuminanceAdjustmentRed | 0 |
LuminanceAdjustmentYellow | +4 |
LuminanceNoiseReductionContrast | 0 |
LuminanceNoiseReductionDetail | 50 |
LuminanceSmoothing | 24 |
Make | Canon |
MaxApertureValue | 4.0 |
Megapixels | 52.1 |
MeteringMode | Multi-segment |
Model | Canon EOS 5D Mark IV |
ModifyDate (1) | 2018:10:15 19:23:38+02:00 |
ModifyDate | 2018:10:15 19:23:38 |
ParametricDarks | +22 |
ParametricHighlights | +36 |
ParametricHighlightSplit | 75 |
ParametricLights | +7 |
ParametricMidtoneSplit | 50 |
ParametricShadows | +9 |
ParametricShadowSplit | 25 |
PerspectiveAspect | 0 |
PerspectiveHorizontal | 0 |
PerspectiveRotate | 0.0 |
PerspectiveScale | 100 |
PerspectiveUpright | 0 |
PerspectiveVertical | 0 |
PerspectiveX | 0.00 |
PerspectiveY | 0.00 |
PostCropVignetteAmount | 0 |
ProcessVersion | 6.7 |
ProfileDescription | sRGB IEC61966-2.1 |
RecommendedExposureIndex | 160 |
RedHue | 0 |
RedSaturation | +33 |
Saturation | 0 |
SaturationAdjustmentAqua | 0 |
SaturationAdjustmentBlue | 0 |
SaturationAdjustmentGreen | 0 |
SaturationAdjustmentMagenta | 0 |
SaturationAdjustmentOrange | 0 |
SaturationAdjustmentPurple | 0 |
SaturationAdjustmentRed | 0 |
SaturationAdjustmentYellow | 0 |
SceneCaptureType | Standard |
SensitivityType | Recommended Exposure Index |
SerialNumber | 203056001853 |
Shadows2012 | 0 |
ShadowTint | 0 |
SharpenDetail | 25 |
SharpenEdgeMasking | 0 |
SharpenRadius | +1.5 |
Sharpness | 52 |
ShutterSpeed | 2 |
ShutterSpeedValue | 2 |
Software | Adobe Photoshop Lightroom 6.12 (Windows) |
SplitToningBalance | 0 |
SplitToningHighlightHue | 0 |
SplitToningHighlightSaturation | 0 |
SplitToningShadowHue | 0 |
SplitToningShadowSaturation | 0 |
Tint | +3 |
ToneCurve | 0, 0, 255, 255 |
ToneCurveBlue | 0, 0, 255, 255 |
ToneCurveGreen | 0, 0, 255, 255 |
ToneCurveName | Linear |
ToneCurveName2012 | Linear |
ToneCurvePV2012 | 0, 0, 255, 255 |
ToneCurvePV2012Blue | 0, 0, 255, 255 |
ToneCurvePV2012Green | 0, 0, 255, 255 |
ToneCurvePV2012Red | 0, 0, 255, 255 |
ToneCurveRed | 0, 0, 255, 255 |
ToneMapStrength | 0 |
Transformation | Spherical |
Version | 9.12 |
Vibrance | 0 |
VignetteAmount | 0 |
VignetteCorrectionAlreadyApplied | True |
VirtualFocalLength | 0.420817 |
VirtualImageXCenter | 0.459715 |
VirtualImageYCenter | 0.288299 |
WhiteBalance (1) | As Shot |
WhiteBalance | Auto |
Whites2012 | +19 |