Felt | Verdi |
AlreadyApplied | True |
Aperture | 9.0 |
ApertureValue | 9.0 |
ApproximateFocusDistance | 7.5 |
Artist | Vidar Lennart Fredheim |
AutoLateralCA | 1 |
BitsPerSample | 8 |
Blacks2012 | 0 |
BlueHue | 0 |
BlueSaturation | 0 |
By-line | Vidar Lennart Fredheim |
CameraProfile | Adobe Standard |
CFAPattern | [Red,Green][Green,Blue] |
CircleOfConfusion | 0.030 mm |
City | Sørfold |
Clarity2012 | +31 |
ColorComponents | 3 |
ColorNoiseReduction | 25 |
ColorNoiseReductionDetail | 50 |
ColorNoiseReductionSmoothness | 50 |
ColorSpace | sRGB |
ColorTemperature | 6500 |
ColorTransform | YCbCr |
Contrast | Normal |
Contrast2012 | +36 |
ConvertToGrayscale | False |
Copyright | Vidar Lennart Fredheim |
CopyrightNotice | Vidar Lennart Fredheim |
Country | Norway |
Country-PrimaryLocationCode | NO |
Country-PrimaryLocationName | Norway |
CountryCode | NO |
CreateDate (1) | 2018:07:12 16:35:45.48 |
CreateDate | 2018:07:12 16:35:45 |
Creator | Vidar Lennart Fredheim |
CreatorTool | Adobe Photoshop Lightroom Classic 7.5 (Windows) |
CropAngle | -0.227242 |
CropBottom | 0.736742 |
CropConstrainToWarp | 0 |
CropLeft | 0.024588 |
CropRight | 0.994397 |
CropTop | 0.23673 |
CustomRendered | Normal |
DateCreated (1) | 2018:07:12 16:35:45.48 |
DateCreated | 2018:07:12 |
DateTimeOriginal | 2018:07:12 16:35:45 |
DefringeGreenAmount | 0 |
DefringeGreenHueHi | 60 |
DefringeGreenHueLo | 40 |
DefringePurpleAmount | 0 |
DefringePurpleHueHi | 70 |
DefringePurpleHueLo | 30 |
Dehaze | +31 |
DigitalZoomRatio | 1 |
DOF | inf (0.94 m - inf) |
Exposure2012 | -0.20 |
ExposureCompensation | 0 |
ExposureMode | Manual |
ExposureProgram | Manual |
ExposureTime | 1/200 |
Flash | Off, Did not fire |
FNumber | 9.0 |
FocalLength | 17.0 mm |
FocalLength35efl | 17.0 mm (35 mm equivalent: 17.0 mm) |
FocalLengthIn35mmFormat | 17 mm |
Format | image/jpeg |
FOV | 93.3 deg |
GainControl | None |
GPSAltitude (1) | 10 m |
GPSAltitude | 10 m Below Sea Level |
GPSAltitudeRef | Below Sea Level |
GPSLatitude (1) | 67 deg 28' 57.42" |
GPSLatitude | 67 deg 28' 57.42" N |
GPSLatitudeRef | North |
GPSLongitude (1) | 15 deg 27' 26.64" |
GPSLongitude | 15 deg 27' 26.64" E |
GPSLongitudeRef | East |
GPSPosition | 67 deg 28' 57.42" N, 15 deg 27' 26.64" E |
GPSVersionID | 2.2.0.0 |
GrainAmount | 0 |
GreenHue | 0 |
GreenSaturation | 0 |
HasCrop | True |
HasSettings | True |
HierarchicalSubject | 2018, Juli, Røsvik, Sørfold |
Highlights2012 | -88 |
HueAdjustmentAqua | 0 |
HueAdjustmentBlue | 0 |
HueAdjustmentGreen | 0 |
HueAdjustmentMagenta | 0 |
HueAdjustmentOrange | 0 |
HueAdjustmentPurple | 0 |
HueAdjustmentRed | 0 |
HueAdjustmentYellow | 0 |
HyperfocalDistance | 1.07 m |
ImageHeight | 714 |
ImageNumber | 22803 |
ImageSize | 2048x714 |
ImageWidth | 2048 |
ISO | 100 |
Keywords | 2018, Juli, Røsvik, Sørfold |
Lens | TAMRON SP 15-30mm F2.8 Di VC USD A012N |
LensID (1) | 233 |
LensID | Tamron SP 15-30mm f/2.8 Di VC USD (A012) |
LensInfo | 15-30mm f/2.8 |
LensManualDistortionAmount | 0 |
LensModel | TAMRON SP 15-30mm F2.8 Di VC USD A012N |
LensProfileChromaticAberrationScale | 100 |
LensProfileDistortionScale | 100 |
LensProfileEnable | 1 |
LensProfileFilename | NIKON CORPORATION (TAMRON SP 15-30mm F_2.8 Di VC USD A012N) - RAW.lcp |
LensProfileName | Adobe (TAMRON SP 15-30mm F2.8 Di VC USD A012N, NIKON CORPORATION) |
LensProfileSetup | LensDefaults |
LensProfileVignettingScale | 100 |
LightSource | Unknown |
LightValue | 14.0 |
LookAmount | 1.000000 |
LookGroup | Profiles |
LookName | Adobe Color |
LookParametersCameraProfile | Adobe Standard |
LookParametersConvertToGrayscale | False |
LookParametersLookTable | E1095149FDB39D7A057BAB208837E2E1 |
LookParametersProcessVersion | 10.0 |
LookParametersToneCurvePV2012 | 0, 0, 22, 16, 40, 35, 127, 127, 224, 230, 240, 246, 255, 255 |
LookParametersToneCurvePV2012Blue | 0, 0, 255, 255 |
LookParametersToneCurvePV2012Green | 0, 0, 255, 255 |
LookParametersToneCurvePV2012Red | 0, 0, 255, 255 |
LookParametersVersion | 10.5 |
LookSupportsAmount | false |
LookSupportsMonochrome | false |
LookSupportsOutputReferred | false |
LuminanceAdjustmentAqua | 0 |
LuminanceAdjustmentBlue | -13 |
LuminanceAdjustmentGreen | -31 |
LuminanceAdjustmentMagenta | 0 |
LuminanceAdjustmentOrange | -16 |
LuminanceAdjustmentPurple | 0 |
LuminanceAdjustmentRed | -16 |
LuminanceAdjustmentYellow | -22 |
LuminanceSmoothing | 0 |
Make | NIKON CORPORATION |
MaxApertureValue | 2.8 |
Megapixels | 1.5 |
MeteringMode | Multi-segment |
Model | NIKON D750 |
ModifyDate (1) | 2018:08:25 19:51:59+02:00 |
ModifyDate | 2018:08:25 19:51:59 |
Orientation | Horizontal (normal) |
OverrideLookVignette | False |
ParametricDarks | 0 |
ParametricHighlights | 0 |
ParametricHighlightSplit | 75 |
ParametricLights | 0 |
ParametricMidtoneSplit | 50 |
ParametricShadows | 0 |
ParametricShadowSplit | 25 |
PerspectiveAspect | 0 |
PerspectiveHorizontal | 0 |
PerspectiveRotate | 0.0 |
PerspectiveScale | 100 |
PerspectiveUpright | 0 |
PerspectiveVertical | 0 |
PerspectiveX | 0.00 |
PerspectiveY | 0.00 |
PostCropVignetteAmount | 0 |
ProcessVersion | 10.0 |
ProfileDescription | sRGB IEC61966-2.1 |
Province-State | Nordland |
RawFileName | _DSC1782.jpg |
RedHue | 0 |
RedSaturation | 0 |
Rights | Vidar Lennart Fredheim |
Saturation (1) | 0 |
Saturation | Normal |
SaturationAdjustmentAqua | 0 |
SaturationAdjustmentBlue | +22 |
SaturationAdjustmentGreen | +27 |
SaturationAdjustmentMagenta | 0 |
SaturationAdjustmentOrange | +29 |
SaturationAdjustmentPurple | 0 |
SaturationAdjustmentRed | +18 |
SaturationAdjustmentYellow | +16 |
ScaleFactor35efl | 1.0 |
SceneCaptureType | Standard |
SceneType | Directly photographed |
SensingMethod | One-chip color area |
SensitivityType | Recommended Exposure Index |
SerialNumber | 6074507 |
Shadows2012 | +100 |
ShadowTint | 0 |
SharpenDetail | 52 |
SharpenEdgeMasking | 62 |
SharpenRadius | +1.1 |
Sharpness (1) | 64 |
Sharpness | Normal |
ShutterSpeed | 1/200 |
ShutterSpeedValue | 1/200 |
Software | Adobe Photoshop Lightroom Classic 7.5 (Windows) |
SplitToningBalance | 0 |
SplitToningHighlightHue | 0 |
SplitToningHighlightSaturation | 0 |
SplitToningShadowHue | 0 |
SplitToningShadowSaturation | 0 |
State | Nordland |
Subject | 2018, Juli, Røsvik, Sørfold |
SubjectDistanceRange | Unknown |
Tint | +6 |
ToneCurve | 0, 0, 32, 22, 64, 56, 128, 128, 192, 196, 255, 255 |
ToneCurveBlue | 0, 0, 255, 255 |
ToneCurveGreen | 0, 0, 255, 255 |
ToneCurveName | Medium Contrast |
ToneCurveName2012 | Linear |
ToneCurvePV2012 | 0, 0, 255, 255 |
ToneCurvePV2012Blue | 0, 0, 255, 255 |
ToneCurvePV2012Green | 0, 0, 255, 255 |
ToneCurvePV2012Red | 0, 0, 255, 255 |
ToneCurveRed | 0, 0, 255, 255 |
ToneMapStrength | 0 |
Version | 10.5 |
Vibrance | +43 |
VignetteAmount | 0 |
WhiteBalance (1) | Custom |
WhiteBalance | Auto |
Whites2012 | 0 |