Felt | Verdi |
AlreadyApplied | True |
Aperture | 4.5 |
ApertureValue | 4.5 |
ApproximateFocusDistance | 1.5 |
Artist | Roy-Cato Myrvang |
AutoLateralCA | 0 |
BitsPerSample | 8 |
Blacks2012 | -64 |
BlueHue | 0 |
BlueSaturation | 0 |
By-line | Roy-Cato Myrvang |
CameraProfile | Adobe Standard |
CFAPattern | [Red,Green][Green,Blue] |
CircleOfConfusion | 0.030 mm |
Clarity2012 | +13 |
ColorComponents | 3 |
ColorNoiseReduction | 25 |
ColorNoiseReductionDetail | 50 |
ColorTemperature | 8984 |
ColorTransform | YCbCr |
Contrast | Normal |
Contrast2012 | +44 |
ConvertToGrayscale | False |
Copyright | Roy-Cato Myrvang |
CopyrightFlag | True |
CopyrightNotice | Roy-Cato Myrvang |
CreateDate (1) | 2017:11:21 14:15:55.82 |
CreateDate | 2017:11:21 14:15:55 |
Creator | Roy-Cato Myrvang |
CreatorTool | Adobe Photoshop Lightroom 4.4 (Macintosh) |
CropAngle | 0 |
CropBottom | 1 |
CropConstrainToWarp | 0 |
CropHeight | 2504 |
CropLeft | 0.167293 |
CropRight | 0.755635 |
CropTop | 0.115825 |
CropUnit | pixels |
CropWidth | 2504 |
CustomRendered | Normal |
DateCreated (1) | 2017:11:21 |
DateCreated | 2017:11:21 14:15:55.82 |
DateTimeOriginal | 2017:11:21 14:15:55 |
DefringeGreenAmount | 0 |
DefringeGreenHueHi | 60 |
DefringeGreenHueLo | 40 |
DefringePurpleAmount | 0 |
DefringePurpleHueHi | 70 |
DefringePurpleHueLo | 30 |
DigitalZoomRatio | 1 |
DOF | 0.08 m (1.46 - 1.54 m) |
Exposure2012 | +0.05 |
ExposureCompensation | 0 |
ExposureMode | Auto |
ExposureProgram | Aperture-priority AE |
ExposureTime | 1/100 |
Flash | No Flash |
FNumber | 4.5 |
FocalLength | 85.0 mm |
FocalLength35efl | 85.0 mm (35 mm equivalent: 85.0 mm) |
FocalLengthIn35mmFormat | 85 mm |
Format | image/jpeg |
FOV | 23.9 deg |
GainControl | None |
GrainAmount | 23 |
GrainFrequency | 100 |
GrainSize | 34 |
GreenHue | 0 |
GreenSaturation | 0 |
HasCrop | True |
HasExtendedXMP | CCC27A2DF3CF4BD566F7254BDCC3F706 |
HasSettings | True |
Highlights2012 | -70 |
HueAdjustmentAqua | 0 |
HueAdjustmentBlue | 0 |
HueAdjustmentGreen | 0 |
HueAdjustmentMagenta | 0 |
HueAdjustmentOrange | 0 |
HueAdjustmentPurple | 0 |
HueAdjustmentRed | 0 |
HueAdjustmentYellow | 0 |
HyperfocalDistance | 53.44 m |
ImageHeight | 2504 |
ImageNumber | 49054 |
ImageSize | 2504x2504 |
ImageWidth | 2504 |
ISO | 200 |
Lens | 85.0 mm f/1.8 |
LensID (1) | 56 |
LensID | AF Nikkor 85mm f/1.8D |
LensInfo | 85mm f/1.8 |
LensManualDistortionAmount | 0 |
LensModel | 85.0 mm f/1.8 |
LensProfileEnable | 0 |
LensProfileSetup | LensDefaults |
LightSource | Unknown |
LightValue | 10.0 |
LuminanceAdjustmentAqua | 0 |
LuminanceAdjustmentBlue | 0 |
LuminanceAdjustmentGreen | 0 |
LuminanceAdjustmentMagenta | 0 |
LuminanceAdjustmentOrange | 0 |
LuminanceAdjustmentPurple | 0 |
LuminanceAdjustmentRed | 0 |
LuminanceAdjustmentYellow | 0 |
LuminanceNoiseReductionContrast | 0 |
LuminanceNoiseReductionDetail | 50 |
LuminanceSmoothing | 6 |
Make | NIKON CORPORATION |
Marked | True |
MaxApertureValue | 1.7 |
Megapixels | 6.3 |
MeteringMode | Multi-segment |
Model | NIKON D700 |
ModifyDate (1) | 2017:11:26 19:19:46+01:00 |
ModifyDate | 2017:11:26 19:19:46 |
PaintCorrectionActive | true |
PaintCorrectionAmount | 1.000000 |
PaintCorrectionBrightness | 0.000000 |
PaintCorrectionClarity2012 (1) | 0.100000 |
PaintCorrectionClarity2012 (4) | -0.753401 |
PaintCorrectionClarity2012 | 0.000000 |
PaintCorrectionContrast2012 | 0.000000 |
PaintCorrectionDefringe | 0.000000 |
PaintCorrectionExposure2012 (1) | 0.087500 |
PaintCorrectionExposure2012 (2) | 0.062500 |
PaintCorrectionExposure2012 (3) | -0.030147 |
PaintCorrectionExposure2012 (4) | 0.000000 |
PaintCorrectionExposure2012 | 0.100000 |
PaintCorrectionHighlights2012 | 0.000000 |
PaintCorrectionHue (1) | 240.000000 |
PaintCorrectionHue | 233.000000 |
PaintCorrectionLuminanceNoise | 0.000000 |
PaintCorrectionMaskCenterWeight | 0.000000 |
PaintCorrectionMaskFlow | 1.000000 |
PaintCorrectionMaskRadius (1) | 0.004481 |
PaintCorrectionMaskRadius (10) | 0.003409 |
PaintCorrectionMaskRadius (11) | 0.001325 |
PaintCorrectionMaskRadius (17) | 0.002357 |
PaintCorrectionMaskRadius (38) | 0.000413 |
PaintCorrectionMaskRadius (60) | 0.031267 |
PaintCorrectionMaskRadius (63) | 0.026739 |
PaintCorrectionMaskRadius (65) | 0.013635 |
PaintCorrectionMaskRadius (73) | 0.005300 |
PaintCorrectionMaskRadius (75) | 0.009427 |
PaintCorrectionMaskRadius (89) | 0.001571 |
PaintCorrectionMaskRadius | 0.002272 |
PaintCorrectionMaskValue | 1.000000 |
PaintCorrectionMaskWhat | Mask/Paint |
PaintCorrectionMoire | 0.000000 |
PaintCorrectionSaturation (1) | 0.400000 |
PaintCorrectionSaturation (9) | -0.330882 |
PaintCorrectionSaturation | 0.000000 |
PaintCorrectionShadows2012 | 0.000000 |
PaintCorrectionSharpness (4) | 0.265349 |
PaintCorrectionSharpness | 0.000000 |
PaintCorrectionTemperature | 0.000000 |
PaintCorrectionTint | 0.000000 |
PaintCorrectionWhat | Correction |
ParametricDarks | 0 |
ParametricHighlights | 0 |
ParametricHighlightSplit | 75 |
ParametricLights | 0 |
ParametricMidtoneSplit | 50 |
ParametricShadows | 0 |
ParametricShadowSplit | 25 |
PerspectiveHorizontal | 0 |
PerspectiveRotate | 0.0 |
PerspectiveScale | 100 |
PerspectiveVertical | 0 |
PostCropVignetteAmount | 0 |
ProcessVersion | 6.7 |
ProfileDescription | sRGB IEC61966-2.1 |
RedHue | 0 |
RedSaturation | 0 |
Rights | Roy-Cato Myrvang |
Saturation (1) | -100 |
Saturation | Normal |
SaturationAdjustmentAqua | 0 |
SaturationAdjustmentBlue | 0 |
SaturationAdjustmentGreen | 0 |
SaturationAdjustmentMagenta | 0 |
SaturationAdjustmentOrange | 0 |
SaturationAdjustmentPurple | 0 |
SaturationAdjustmentRed | 0 |
SaturationAdjustmentYellow | 0 |
ScaleFactor35efl | 1.0 |
SceneCaptureType | Standard |
SceneType | Directly photographed |
SensingMethod | One-chip color area |
SerialNumber | 2472137 |
Shadows2012 | +57 |
ShadowTint | 0 |
SharpenDetail | 25 |
SharpenEdgeMasking | 0 |
SharpenRadius | +1.2 |
Sharpness (1) | 66 |
Sharpness | Normal |
ShutterSpeed | 1/100 |
ShutterSpeedValue | 1/100 |
Software | Adobe Photoshop Lightroom 4.4 (Macintosh) |
SplitToningBalance | 0 |
SplitToningHighlightHue | 0 |
SplitToningHighlightSaturation | 0 |
SplitToningShadowHue | 0 |
SplitToningShadowSaturation | 0 |
SubjectDistanceRange | Unknown |
Tint | -4 |
ToneCurveName2012 | Custom |
ToneCurvePV2012 | 0, 0, 78, 62, 141, 121, 195, 183, 255, 255 |
ToneCurvePV2012Blue | 0, 0, 255, 255 |
ToneCurvePV2012Green | 0, 0, 255, 255 |
ToneCurvePV2012Red | 0, 0, 255, 255 |
Version | 7.4 |
Vibrance | 0 |
VignetteAmount | 0 |
WhiteBalance (1) | Custom |
WhiteBalance | Auto |
Whites2012 | 0 |