Felt | Verdi |
AlreadyApplied | True |
Aperture | 6.3 |
ApertureValue | 6.3 |
ApproximateFocusDistance | 0.29 |
Artist | Erik Støylen |
AutoLateralCA | 1 |
AutoWhiteVersion | 134348800 |
BitsPerSample | 8 |
Blacks2012 | -21 |
BlueHue | 0 |
BlueSaturation | 0 |
By-line | Erik Støylen |
CameraProfile | Adobe Standard |
CircleOfConfusion | 0.019 mm |
Clarity2012 | +26 |
ColorComponents | 3 |
ColorNoiseReduction | 25 |
ColorNoiseReductionDetail | 50 |
ColorNoiseReductionSmoothness | 50 |
ColorSpace | sRGB |
ColorTemperature | 6150 |
ColorTransform | YCbCr |
Contrast2012 | +17 |
ConvertToGrayscale | False |
Copyright | Erik Støylen |
CopyrightFlag | True |
CopyrightNotice | Erik Støylen |
CreateDate (1) | 2017:06:20 14:27:22.69 |
CreateDate | 2017:06:20 14:27:22 |
Creator | Erik Støylen |
CreatorAddress | Karmøyvegen 567 |
CreatorCity | Håvik |
CreatorCountry | Norway |
CreatorPostalCode | 4265 |
CreatorRegion | Rogaland |
CreatorTool | Adobe Photoshop Lightroom 6.10.1 (Windows) |
CreatorWorkEmail | erik.stoylen@haugnett.no |
CreatorWorkTelephone | 41797587 |
CreatorWorkURL | erikside.com |
CropAngle | 0 |
CropBottom | 0.953211 |
CropConstrainToWarp | 0 |
CropLeft | 0.042727 |
CropRight | 0.924721 |
CropTop | 0.071217 |
CustomRendered | Normal |
DateCreated (1) | 2017:06:20 |
DateCreated | 2017:06:20 14:27:22.69 |
DateTimeOriginal | 2017:06:20 14:27:22 |
DefringeGreenAmount | 0 |
DefringeGreenHueHi | 60 |
DefringeGreenHueLo | 40 |
DefringePurpleAmount | 0 |
DefringePurpleHueHi | 70 |
DefringePurpleHueLo | 30 |
Dehaze | +15 |
DistortionCorrectionAlreadyApplied | True |
DOF | 0.004 m (0.288 - 0.292 m) |
Exposure2012 | 0.00 |
ExposureCompensation | 0 |
ExposureMode | Manual |
ExposureProgram | Manual |
ExposureTime | 1/640 |
Firmware | 1.1.0 |
Flash | Off, Did not fire |
FlashCompensation | 0 |
FNumber | 6.3 |
FocalLength | 60.0 mm |
FocalLength35efl | 60.0 mm (35 mm equivalent: 94.4 mm) |
Format | image/jpeg |
FOV | 21.6 deg |
GrainAmount | 0 |
GreenHue | 0 |
GreenSaturation | 0 |
HasCrop | True |
HasSettings | True |
Highlights2012 | 0 |
HueAdjustmentAqua | 0 |
HueAdjustmentBlue | 0 |
HueAdjustmentGreen | 0 |
HueAdjustmentMagenta | 0 |
HueAdjustmentOrange | 0 |
HueAdjustmentPurple | 0 |
HueAdjustmentRed | 0 |
HueAdjustmentYellow | 0 |
HyperfocalDistance | 29.91 m |
ImageHeight | 1365 |
ImageNumber | 0 |
ImageSize | 2048x1365 |
ImageWidth | 2048 |
ISO | 400 |
Label | Blue |
LateralChromaticAberrationCorrectionAlreadyApplied | True |
Lens | EF-S60mm f/2.8 Macro USM |
LensID (1) | 236 |
LensID | Canon EF-S 60mm f/2.8 Macro USM |
LensInfo | 60mm f/? |
LensManualDistortionAmount | 0 |
LensModel | EF-S60mm f/2.8 Macro USM |
LensProfileChromaticAberrationScale | 100 |
LensProfileDistortionScale | 100 |
LensProfileEnable | 1 |
LensProfileFilename | Canon EOS 7D (Canon EF-S 60mm f2.8 Macro USM) - RAW.lcp |
LensProfileName | Adobe (Canon EF-S 60mm f/2.8 Macro USM) |
LensProfileSetup | LensDefaults |
LensProfileVignettingScale | 100 |
LensSerialNumber | 0000000000 |
LightValue | 12.6 |
LuminanceAdjustmentAqua | 0 |
LuminanceAdjustmentBlue | 0 |
LuminanceAdjustmentGreen | -9 |
LuminanceAdjustmentMagenta | 0 |
LuminanceAdjustmentOrange | 0 |
LuminanceAdjustmentPurple | 0 |
LuminanceAdjustmentRed | -15 |
LuminanceAdjustmentYellow | -7 |
LuminanceSmoothing | 0 |
Make | Canon |
Marked | True |
MaxApertureValue | 2.8 |
Megapixels | 2.8 |
MeteringMode | Spot |
Model | Canon EOS 60D |
ModifyDate (1) | 2017:06:20 16:48:49+02:00 |
ModifyDate | 2017:06:20 16:48:49 |
ParametricDarks | 0 |
ParametricHighlights | 0 |
ParametricHighlightSplit | 75 |
ParametricLights | 0 |
ParametricMidtoneSplit | 50 |
ParametricShadows | 0 |
ParametricShadowSplit | 25 |
PerspectiveAspect | 0 |
PerspectiveHorizontal | 0 |
PerspectiveRotate | 0.0 |
PerspectiveScale | 100 |
PerspectiveUpright | 0 |
PerspectiveVertical | 0 |
PerspectiveX | 0.00 |
PerspectiveY | 0.00 |
PostCropVignetteAmount | 0 |
ProcessVersion | 6.7 |
ProfileDescription | sRGB IEC61966-2.1 |
RecommendedExposureIndex | 400 |
RedHue | 0 |
RedSaturation | 0 |
Rights | Erik Støylen |
Saturation | 0 |
SaturationAdjustmentAqua | 0 |
SaturationAdjustmentBlue | 0 |
SaturationAdjustmentGreen | 0 |
SaturationAdjustmentMagenta | 0 |
SaturationAdjustmentOrange | 0 |
SaturationAdjustmentPurple | 0 |
SaturationAdjustmentRed | 0 |
SaturationAdjustmentYellow | 0 |
ScaleFactor35efl | 1.6 |
SceneCaptureType | Standard |
SensitivityType | Recommended Exposure Index |
SerialNumber | 1480926050 |
Shadows2012 | 0 |
ShadowTint | 0 |
SharpenDetail | 40 |
SharpenEdgeMasking | 64 |
SharpenRadius | +1.4 |
Sharpness | 65 |
ShutterSpeed | 1/640 |
ShutterSpeedValue | 1/640 |
Software | Adobe Photoshop Lightroom 6.10.1 (Windows) |
SplitToningBalance | 0 |
SplitToningHighlightHue | 0 |
SplitToningHighlightSaturation | 0 |
SplitToningShadowHue | 0 |
SplitToningShadowSaturation | 0 |
Tint | +12 |
ToneCurve | 0, 0, 255, 255 |
ToneCurveBlue | 0, 0, 255, 255 |
ToneCurveGreen | 0, 0, 255, 255 |
ToneCurveName | Linear |
ToneCurveName2012 | Custom |
ToneCurvePV2012 | 25, 0, 74, 63, 229, 216, 255, 255 |
ToneCurvePV2012Blue | 0, 0, 255, 255 |
ToneCurvePV2012Green | 0, 0, 255, 255 |
ToneCurvePV2012Red | 0, 0, 255, 255 |
ToneCurveRed | 0, 0, 255, 255 |
ToneMapStrength | 0 |
UsageTerms | Contact owner |
Version | 9.10.1 |
Vibrance | +24 |
VignetteAmount | 0 |
VignetteCorrectionAlreadyApplied | True |
WhiteBalance (1) | As Shot |
WhiteBalance | Manual |
Whites2012 | +55 |