Felt | Verdi |
AlreadyApplied | True |
Aperture | 9.0 |
ApertureValue | 9.0 |
ApproximateFocusDistance | 0.29 |
Artist | Erik Støylen |
AutoLateralCA | 1 |
AutoWhiteVersion | 134348800 |
BitsPerSample | 8 |
Blacks2012 | -4 |
BlueHue | 0 |
BlueSaturation | 0 |
By-line | Erik Støylen |
CameraProfile | Adobe Standard |
CircleOfConfusion | 0.019 mm |
Clarity2012 | +31 |
ColorComponents | 3 |
ColorNoiseReduction | 25 |
ColorNoiseReductionDetail | 50 |
ColorNoiseReductionSmoothness | 50 |
ColorSpace | sRGB |
ColorTemperature | 6150 |
ColorTransform | YCbCr |
Contrast2012 | +12 |
ConvertToGrayscale | False |
Copyright | Erik Støylen |
CopyrightFlag | True |
CopyrightNotice | Erik Støylen |
CreateDate (1) | 2017:06:19 21:12:33.46 |
CreateDate | 2017:06:19 21:12:33 |
Creator | Erik Støylen |
CreatorAddress | Karmøyvegen 567 |
CreatorCity | Håvik |
CreatorCountry | Norway |
CreatorPostalCode | 4265 |
CreatorRegion | Rogaland |
CreatorTool | Adobe Photoshop Lightroom 6.10.1 (Windows) |
CreatorWorkEmail | erik.stoylen@haugnett.no |
CreatorWorkTelephone | 41797587 |
CreatorWorkURL | erikside.com |
CustomRendered | Normal |
DateCreated (1) | 2017:06:19 |
DateCreated | 2017:06:19 21:12:33.46 |
DateTimeOriginal | 2017:06:19 21:12:33 |
DefringeGreenAmount | 0 |
DefringeGreenHueHi | 60 |
DefringeGreenHueLo | 40 |
DefringePurpleAmount | 0 |
DefringePurpleHueHi | 70 |
DefringePurpleHueLo | 30 |
Dehaze | +15 |
DistortionCorrectionAlreadyApplied | True |
DOF | 0.006 m (0.287 - 0.293 m) |
Exposure2012 | 0.00 |
ExposureCompensation | 0 |
ExposureMode | Manual |
ExposureProgram | Manual |
ExposureTime | 1/125 |
Firmware | 1.1.0 |
Flash | On, Fired |
FlashCompensation | -1 |
FNumber | 9.0 |
FocalLength | 60.0 mm |
FocalLength35efl | 60.0 mm (35 mm equivalent: 94.4 mm) |
Format | image/jpeg |
FOV | 21.6 deg |
GrainAmount | 0 |
GreenHue | 0 |
GreenSaturation | 0 |
HasCrop | False |
HasSettings | True |
Highlights2012 | -14 |
HueAdjustmentAqua | 0 |
HueAdjustmentBlue | 0 |
HueAdjustmentGreen | 0 |
HueAdjustmentMagenta | 0 |
HueAdjustmentOrange | 0 |
HueAdjustmentPurple | 0 |
HueAdjustmentRed | 0 |
HueAdjustmentYellow | 0 |
HyperfocalDistance | 20.94 m |
ImageHeight | 1365 |
ImageNumber | 0 |
ImageSize | 2048x1365 |
ImageWidth | 2048 |
ISO | 200 |
Label | Blue |
LateralChromaticAberrationCorrectionAlreadyApplied | True |
Lens | EF-S60mm f/2.8 Macro USM |
LensID (1) | 236 |
LensID | Canon EF-S 60mm f/2.8 Macro USM |
LensInfo | 60mm f/? |
LensManualDistortionAmount | 0 |
LensModel | EF-S60mm f/2.8 Macro USM |
LensProfileChromaticAberrationScale | 100 |
LensProfileDistortionScale | 100 |
LensProfileEnable | 1 |
LensProfileFilename | Canon EOS 7D (Canon EF-S 60mm f2.8 Macro USM) - RAW.lcp |
LensProfileName | Adobe (Canon EF-S 60mm f/2.8 Macro USM) |
LensProfileSetup | LensDefaults |
LensProfileVignettingScale | 100 |
LensSerialNumber | 0000000000 |
LightValue | 12.3 |
LuminanceAdjustmentAqua | 0 |
LuminanceAdjustmentBlue | 0 |
LuminanceAdjustmentGreen | -10 |
LuminanceAdjustmentMagenta | -13 |
LuminanceAdjustmentOrange | 0 |
LuminanceAdjustmentPurple | 0 |
LuminanceAdjustmentRed | -12 |
LuminanceAdjustmentYellow | -2 |
LuminanceSmoothing | 0 |
Make | Canon |
Marked | True |
MaxApertureValue | 2.8 |
Megapixels | 2.8 |
MeteringMode | Spot |
Model | Canon EOS 60D |
ModifyDate (1) | 2017:06:19 22:06:21+02:00 |
ModifyDate | 2017:06:19 22:06:21 |
ParametricDarks | 0 |
ParametricHighlights | 0 |
ParametricHighlightSplit | 75 |
ParametricLights | 0 |
ParametricMidtoneSplit | 50 |
ParametricShadows | 0 |
ParametricShadowSplit | 25 |
PerspectiveAspect | 0 |
PerspectiveHorizontal | 0 |
PerspectiveRotate | 0.0 |
PerspectiveScale | 100 |
PerspectiveUpright | 0 |
PerspectiveVertical | 0 |
PerspectiveX | 0.00 |
PerspectiveY | 0.00 |
PostCropVignetteAmount | 0 |
ProcessVersion | 6.7 |
ProfileDescription | sRGB IEC61966-2.1 |
Rating | 4 |
RecommendedExposureIndex | 200 |
RedHue | 0 |
RedSaturation | 0 |
Rights | Erik Støylen |
Saturation | 0 |
SaturationAdjustmentAqua | 0 |
SaturationAdjustmentBlue | 0 |
SaturationAdjustmentGreen | 0 |
SaturationAdjustmentMagenta | 0 |
SaturationAdjustmentOrange | 0 |
SaturationAdjustmentPurple | 0 |
SaturationAdjustmentRed | 0 |
SaturationAdjustmentYellow | 0 |
ScaleFactor35efl | 1.6 |
SceneCaptureType | Standard |
SensitivityType | Recommended Exposure Index |
SerialNumber | 1480926050 |
Shadows2012 | +14 |
ShadowTint | 0 |
SharpenDetail | 37 |
SharpenEdgeMasking | 67 |
SharpenRadius | +1.4 |
Sharpness | 70 |
ShutterSpeed | 1/125 |
ShutterSpeedValue | 1/125 |
Software | Adobe Photoshop Lightroom 6.10.1 (Windows) |
SplitToningBalance | 0 |
SplitToningHighlightHue | 0 |
SplitToningHighlightSaturation | 0 |
SplitToningShadowHue | 0 |
SplitToningShadowSaturation | 0 |
Tint | +12 |
ToneCurve | 0, 0, 255, 255 |
ToneCurveBlue | 0, 0, 255, 255 |
ToneCurveGreen | 0, 0, 255, 255 |
ToneCurveName | Linear |
ToneCurveName2012 | Custom |
ToneCurvePV2012 | 0, 0, 56, 57, 202, 201, 229, 254 |
ToneCurvePV2012Blue | 0, 0, 255, 255 |
ToneCurvePV2012Green | 0, 0, 255, 255 |
ToneCurvePV2012Red | 0, 0, 255, 255 |
ToneCurveRed | 0, 0, 255, 255 |
ToneMapStrength | 0 |
UsageTerms | Contact owner |
Version | 9.10.1 |
Vibrance | +21 |
VignetteAmount | 0 |
VignetteCorrectionAlreadyApplied | True |
WhiteBalance (1) | As Shot |
WhiteBalance | Manual |
Whites2012 | +9 |