Felt | Verdi |
AlreadyApplied | True |
Aperture | 8.0 |
ApertureValue | 8.0 |
ApproximateFocusDistance | 1.41 |
AutoLateralCA | 0 |
AutoWhiteVersion | 134348800 |
BitsPerSample | 8 |
Blacks2012 | 0 |
BlueHue | 0 |
BlueSaturation | -10 |
CameraProfile | Adobe Standard |
CFAPattern | [Green,Red][Blue,Green] |
CircGradBasedCorrActive | true |
CircGradBasedCorrAmount | 1.000000 |
CircGradBasedCorrBrightness | 0.000000 |
CircGradBasedCorrClarity2012 | -0.025320 |
CircGradBasedCorrContrast2012 | -0.050630 |
CircGradBasedCorrDefringe | 0.000000 |
CircGradBasedCorrExposure2012 | 0.240500 |
CircGradBasedCorrHighlights2012 | 0.088610 |
CircGradBasedCorrHue | 0.000000 |
CircGradBasedCorrLocalBlacks2012 | 0.000000 |
CircGradBasedCorrLocalDehaze | 0.000000 |
CircGradBasedCorrLocalWhites2012 | 0.000000 |
CircGradBasedCorrLuminanceNoise | 0.000000 |
CircGradBasedCorrMaskAngle | -29.610000 |
CircGradBasedCorrMaskBottom | 0.360938 |
CircGradBasedCorrMaskFeather | +50 |
CircGradBasedCorrMaskFlipped | true |
CircGradBasedCorrMaskLeft | 0.147305 |
CircGradBasedCorrMaskMidpoint | +50 |
CircGradBasedCorrMaskRight | 0.876782 |
CircGradBasedCorrMaskRoundness | 0 |
CircGradBasedCorrMaskTop | 0.448012 |
CircGradBasedCorrMaskValue | 1.000000 |
CircGradBasedCorrMaskVersion | +2 |
CircGradBasedCorrMaskWhat | Mask/CircularGradient |
CircGradBasedCorrMoire | 0.000000 |
CircGradBasedCorrSaturation | 0.000000 |
CircGradBasedCorrShadows2012 | 0.341770 |
CircGradBasedCorrSharpness | -0.037970 |
CircGradBasedCorrTemperature | -0.025320 |
CircGradBasedCorrTint | 0.000000 |
CircGradBasedCorrWhat | Correction |
CircleOfConfusion | 0.020 mm |
Clarity2012 | +59 |
ColorComponents | 3 |
ColorNoiseReduction | 25 |
ColorNoiseReductionDetail | 50 |
ColorNoiseReductionSmoothness | 50 |
ColorSpace | sRGB |
ColorTemperature | 6903 |
ColorTransform | YCbCr |
Contrast | Normal |
Contrast2012 | +38 |
ConvertToGrayscale | True |
CreateDate (1) | 2016:08:22 18:46:07.49 |
CreateDate | 2016:08:22 18:46:07 |
CreatorTool | Adobe Photoshop Lightroom 6.6.1 (Windows) |
CropAngle | 0 |
CropBottom | 0.826087 |
CropConstrainToWarp | 0 |
CropLeft | 0.140411 |
CropRight | 0.859589 |
CropTop | 0 |
CustomRendered | Normal |
DateCreated (1) | 2016:08:22 |
DateCreated | 2016:08:22 18:46:07.49 |
DateTimeOriginal | 2016:08:22 18:46:07 |
Dehaze | 0 |
DigitalZoomRatio | 1 |
DOF | 0.25 m (1.30 - 1.54 m) |
Exposure2012 | +1.52 |
ExposureCompensation | 0 |
ExposureMode | Auto |
ExposureProgram | Aperture-priority AE |
ExposureTime | 1/640 |
Flash | No Flash |
FNumber | 8.0 |
FocalLength | 50.0 mm |
FocalLength35efl | 50.0 mm (35 mm equivalent: 75.0 mm) |
FocalLengthIn35mmFormat | 75 mm |
Format | image/jpeg |
FOV | 27.0 deg |
GainControl | Low gain up |
GrainAmount | 0 |
GrayMixerAqua | -15 |
GrayMixerBlue | +18 |
GrayMixerGreen | -29 |
GrayMixerMagenta | +4 |
GrayMixerOrange | -22 |
GrayMixerPurple | +21 |
GrayMixerRed | -12 |
GrayMixerYellow | -26 |
GreenHue | -8 |
GreenSaturation | 0 |
HasCrop | True |
HasSettings | True |
Highlights2012 | +14 |
HyperfocalDistance | 15.60 m |
ImageHeight | 2784 |
ImageNumber | 35062 |
ImageSize | 2141x2784 |
ImageWidth | 2141 |
ISO | 800 |
Lens | 18.0-50.0 mm f/2.8 |
LensID (1) | 246 |
LensID | Sigma 18-50mm F2.8 EX DC Macro |
LensInfo | 18-50mm f/2.8 |
LensManualDistortionAmount | 0 |
LensModel | 18.0-50.0 mm f/2.8 |
LensProfileEnable | 0 |
LensProfileSetup | LensDefaults |
LightSource | Unknown |
LightValue | 12.3 |
LuminanceNoiseReductionContrast | 0 |
LuminanceNoiseReductionDetail | 50 |
LuminanceSmoothing | 7 |
Make | NIKON CORPORATION |
MaxApertureValue | 2.8 |
Megapixels | 6.0 |
MeteringMode | Center-weighted average |
Model | NIKON D200 |
ModifyDate (1) | 2016:09:09 16:53:32+02:00 |
ModifyDate | 2016:09:09 16:53:32 |
ParametricDarks | 0 |
ParametricHighlights | 0 |
ParametricHighlightSplit | 75 |
ParametricLights | 0 |
ParametricMidtoneSplit | 50 |
ParametricShadows | 0 |
ParametricShadowSplit | 25 |
PerspectiveAspect | 0 |
PerspectiveHorizontal | 0 |
PerspectiveRotate | 0.0 |
PerspectiveScale | 100 |
PerspectiveUpright | 0 |
PerspectiveVertical | 0 |
PerspectiveX | 0.00 |
PerspectiveY | 0.00 |
PostCropVignetteAmount | -19 |
PostCropVignetteFeather | 50 |
PostCropVignetteHighlightContrast | 0 |
PostCropVignetteMidpoint | 50 |
PostCropVignetteRoundness | 0 |
PostCropVignetteStyle | 1 |
ProcessVersion | 6.7 |
ProfileDescription | sRGB IEC61966-2.1 |
RedHue | 0 |
RedSaturation | -6 |
Saturation | Normal |
ScaleFactor35efl | 1.5 |
SceneCaptureType | Standard |
SceneType | Directly photographed |
SensingMethod | One-chip color area |
Shadows2012 | -68 |
ShadowTint | 0 |
SharpenDetail | 7 |
SharpenEdgeMasking | 0 |
SharpenRadius | +1.0 |
Sharpness (1) | 27 |
Sharpness | Normal |
ShutterSpeed | 1/640 |
ShutterSpeedValue | 1/640 |
Software | Adobe Photoshop Lightroom 6.6.1 (Windows) |
SplitToningBalance | +6 |
SplitToningHighlightHue | 239 |
SplitToningHighlightSaturation | 0 |
SplitToningShadowHue | 0 |
SplitToningShadowSaturation | 0 |
SubjectDistanceRange | Unknown |
Tint | -1 |
ToneCurve | 0, 0, 255, 255 |
ToneCurveBlue | 0, 0, 255, 255 |
ToneCurveGreen | 0, 0, 255, 255 |
ToneCurveName | Linear |
ToneCurveName2012 | Linear |
ToneCurvePV2012 | 0, 0, 255, 255 |
ToneCurvePV2012Blue | 0, 0, 255, 255 |
ToneCurvePV2012Green | 0, 0, 255, 255 |
ToneCurvePV2012Red | 0, 0, 255, 255 |
ToneCurveRed | 0, 0, 255, 255 |
ToneMapStrength | 0 |
Version | 9.6 |
VignetteAmount | 0 |
WhiteBalance (1) | Custom |
WhiteBalance | Auto |
Whites2012 | -7 |