Felt | Verdi |
AlreadyApplied | True |
Aperture | 9.0 |
ApertureValue | 9.0 |
ApproximateFocusDistance | 4294967295 |
Artist | Bo Valentin |
AutoLateralCA | 1 |
AutoWhiteVersion | 134348800 |
BitsPerSample | 8 |
Blacks2012 | -12 |
BlueHue | 0 |
BlueSaturation | 0 |
By-line | Bo Valentin |
CameraProfile | Adobe Standard |
CFAPattern | [Red,Green][Green,Blue] |
CircleOfConfusion | 0.030 mm |
Clarity2012 | +53 |
ColorComponents | 3 |
ColorNoiseReduction | 25 |
ColorNoiseReductionDetail | 50 |
ColorNoiseReductionSmoothness | 50 |
ColorTemperature | 5050 |
ColorTransform | YCbCr |
Contrast | Normal |
Contrast2012 | +19 |
ConvertToGrayscale | False |
Copyright | Bo Valentin |
CopyrightNotice | Bo Valentin |
CreateDate (1) | 2014:03:22 15:00:39.39 |
CreateDate | 2014:03:22 15:00:39 |
Creator | Bo Valentin |
CreatorTool | Adobe Photoshop Lightroom 5.3 (Macintosh) |
CropAngle | 0 |
CropBottom | 1 |
CropConstrainToWarp | 0 |
CropLeft | 0.018345 |
CropRight | 0.990828 |
CropTop | 0 |
CustomRendered | Normal |
DateCreated (1) | 2014:03:22 |
DateCreated | 2014:03:22 15:00:39.39 |
DateTimeOriginal | 2014:03:22 15:00:39 |
DefringeGreenAmount | 0 |
DefringeGreenHueHi | 60 |
DefringeGreenHueLo | 40 |
DefringePurpleAmount | 0 |
DefringePurpleHueHi | 70 |
DefringePurpleHueLo | 30 |
DigitalZoomRatio | 1 |
DOF | inf (1.48 m - inf) |
Exposure2012 | +0.20 |
ExposureCompensation | 0 |
ExposureMode | Manual |
ExposureProgram | Manual |
ExposureTime | 1/500 |
Flash | No Flash |
FNumber | 9.0 |
FocalLength | 20.0 mm |
FocalLength35efl | 20.0 mm (35 mm equivalent: 20.0 mm) |
FocalLengthIn35mmFormat | 20 mm |
Format | image/jpeg |
FOV | 84.0 deg |
GainControl | None |
GrainAmount | 0 |
GreenHue | 0 |
GreenSaturation | 0 |
HasCrop | True |
HasExtendedXMP | F76411EA834D9FE07E28C0EF93624D29 |
HasSettings | True |
Highlights2012 | -100 |
HueAdjustmentAqua | 0 |
HueAdjustmentBlue | 0 |
HueAdjustmentGreen | 0 |
HueAdjustmentMagenta | 0 |
HueAdjustmentOrange | 0 |
HueAdjustmentPurple | 0 |
HueAdjustmentRed | 0 |
HueAdjustmentYellow | 0 |
HyperfocalDistance | 1.48 m |
ImageHeight | 2832 |
ImageNumber | 32261 |
ImageSize | 4139x2832 |
ImageWidth | 4139 |
ISO | 200 |
Keywords | d3, germany, hamburg, march, nikon, nikon d3, spring |
Lens | 20.0 mm f/1.8 |
LensID (1) | 38 |
LensID | Sigma 20mm F1.8 EX DG Aspherical RF |
LensInfo | 20mm f/1.8 |
LensManualDistortionAmount | 0 |
LensModel | 20.0 mm f/1.8 |
LensProfileChromaticAberrationScale | 100 |
LensProfileDistortionScale | 100 |
LensProfileEnable | 1 |
LensProfileFilename | NIKON CORPORATION (Sigma_20mm_F1.8_EX_DG_AS_RF ) - RAW.lcp |
LensProfileName | Adobe (SIGMA 20mm F1.8 EX DG ASPHERICAL RF, NIKON CORPORATION) |
LensProfileSetup | LensDefaults |
LensProfileVignettingScale | 100 |
LightSource | Unknown |
LightValue | 14.3 |
LuminanceAdjustmentAqua | 0 |
LuminanceAdjustmentBlue | +71 |
LuminanceAdjustmentGreen | 0 |
LuminanceAdjustmentMagenta | 0 |
LuminanceAdjustmentOrange | +76 |
LuminanceAdjustmentPurple | 0 |
LuminanceAdjustmentRed | 0 |
LuminanceAdjustmentYellow | 0 |
LuminanceNoiseReductionContrast | 0 |
LuminanceNoiseReductionDetail | 50 |
LuminanceSmoothing | 16 |
Make | NIKON CORPORATION |
MaxApertureValue | 1.7 |
Megapixels | 11.7 |
MeteringMode | Multi-segment |
Model | NIKON D3 |
ModifyDate (1) | 2014:04:18 03:29:29+02:00 |
ModifyDate | 2014:04:18 03:29:29 |
PaintCorrectionActive | true |
PaintCorrectionAmount | 1.000000 |
PaintCorrectionBrightness | 0.000000 |
PaintCorrectionClarity2012 (2) | 0.000000 |
PaintCorrectionClarity2012 (3) | 1.000000 |
PaintCorrectionClarity2012 (4) | 0.574449 |
PaintCorrectionClarity2012 | 0.591544 |
PaintCorrectionContrast2012 (1) | 0.357353 |
PaintCorrectionContrast2012 (2) | 0.000000 |
PaintCorrectionContrast2012 (4) | 0.449724 |
PaintCorrectionContrast2012 | 0.624081 |
PaintCorrectionDefringe | 0.000000 |
PaintCorrectionExposure2012 (1) | 0.745221 |
PaintCorrectionExposure2012 (2) | 0.211949 |
PaintCorrectionExposure2012 (3) | 0.326103 |
PaintCorrectionExposure2012 (4) | 0.353676 |
PaintCorrectionExposure2012 | 0.374357 |
PaintCorrectionHighlights2012 (1) | 0.878125 |
PaintCorrectionHighlights2012 (3) | 0.000000 |
PaintCorrectionHighlights2012 (4) | 0.705515 |
PaintCorrectionHighlights2012 | 1.000000 |
PaintCorrectionHue | 0.000000 |
PaintCorrectionLuminanceNoise (1) | 0.744393 |
PaintCorrectionLuminanceNoise (2) | 0.400000 |
PaintCorrectionLuminanceNoise (3) | 0.899449 |
PaintCorrectionLuminanceNoise | 0.755699 |
PaintCorrectionMaskCenterWeight | 0.058899 |
PaintCorrectionMaskFlow | 0.327243 |
PaintCorrectionMaskRadius (10) | 0.005047 |
PaintCorrectionMaskRadius (11) | 0.005045 |
PaintCorrectionMaskRadius (12) | 0.004962 |
PaintCorrectionMaskRadius (13) | 0.004920 |
PaintCorrectionMaskRadius (14) | 0.004968 |
PaintCorrectionMaskRadius (2) | 0.003492 |
PaintCorrectionMaskRadius (4) | 0.000683 |
PaintCorrectionMaskRadius (5) | 0.002004 |
PaintCorrectionMaskRadius (6) | 0.005050 |
PaintCorrectionMaskRadius (7) | 0.005061 |
PaintCorrectionMaskRadius (8) | 0.005019 |
PaintCorrectionMaskRadius (9) | 0.005030 |
PaintCorrectionMaskRadius | 0.005062 |
PaintCorrectionMaskValue | 0.446570 |
PaintCorrectionMaskWhat | Mask/Paint |
PaintCorrectionMoire | 0.000000 |
PaintCorrectionSaturation (1) | -1.000000 |
PaintCorrectionSaturation (7) | 0.588787 |
PaintCorrectionSaturation (9) | 1.000000 |
PaintCorrectionSaturation | 0.000000 |
PaintCorrectionShadows2012 (1) | 0.661213 |
PaintCorrectionShadows2012 (2) | 0.834099 |
PaintCorrectionShadows2012 (3) | 0.365074 |
PaintCorrectionShadows2012 (4) | 0.504779 |
PaintCorrectionShadows2012 | 0.834926 |
PaintCorrectionSharpness (1) | 0.577022 |
PaintCorrectionSharpness (3) | 0.000000 |
PaintCorrectionSharpness (4) | 0.479504 |
PaintCorrectionSharpness | 0.271232 |
PaintCorrectionTemperature | 0.000000 |
PaintCorrectionTint | 0.000000 |
PaintCorrectionWhat | Correction |
ParametricDarks | 0 |
ParametricHighlights | 0 |
ParametricHighlightSplit | 75 |
ParametricLights | 0 |
ParametricMidtoneSplit | 50 |
ParametricShadows | 0 |
ParametricShadowSplit | 25 |
PerspectiveAspect | 0 |
PerspectiveHorizontal | 0 |
PerspectiveRotate | 0.0 |
PerspectiveScale | 100 |
PerspectiveUpright | 0 |
PerspectiveVertical | 0 |
PostCropVignetteAmount | 0 |
ProcessVersion | 6.7 |
ProfileDescription | sRGB IEC61966-2.1 |
RedHue | 0 |
RedSaturation | 0 |
Rights | Bo Valentin |
Saturation (1) | -12 |
Saturation | Normal |
SaturationAdjustmentAqua | 0 |
SaturationAdjustmentBlue | 0 |
SaturationAdjustmentGreen | 0 |
SaturationAdjustmentMagenta | 0 |
SaturationAdjustmentOrange | +47 |
SaturationAdjustmentPurple | 0 |
SaturationAdjustmentRed | 0 |
SaturationAdjustmentYellow | 0 |
ScaleFactor35efl | 1.0 |
SceneCaptureType | Standard |
SceneType | Directly photographed |
SensingMethod | One-chip color area |
SerialNumber | 2076505 |
Shadows2012 | +43 |
ShadowTint | 0 |
SharpenDetail | 25 |
SharpenEdgeMasking | 32 |
SharpenRadius | +1.0 |
Sharpness (1) | 63 |
Sharpness | Normal |
ShutterSpeed | 1/500 |
ShutterSpeedValue | 1/500 |
Software | Adobe Photoshop Lightroom 5.3 (Macintosh) |
SplitToningBalance | 0 |
SplitToningHighlightHue | 0 |
SplitToningHighlightSaturation | 0 |
SplitToningShadowHue | 0 |
SplitToningShadowSaturation | 0 |
Subject | d3, germany, hamburg, march, nikon, nikon d3, spring |
SubjectDistanceRange | Unknown |
Tint | -3 |
ToneCurveName2012 | Linear |
ToneCurvePV2012 | 0, 0, 255, 255 |
ToneCurvePV2012Blue | 0, 0, 255, 255 |
ToneCurvePV2012Green | 0, 0, 255, 255 |
ToneCurvePV2012Red | 0, 0, 255, 255 |
Version | 8.3 |
Vibrance | +21 |
VignetteAmount | 0 |
WhiteBalance (1) | As Shot |
WhiteBalance | Auto |
Whites2012 | 0 |