Felt | Verdi |
AlreadyApplied | True |
Aperture | 2.8 |
ApertureValue | 2.8 |
ApproximateFocusDistance | 4294967295 |
AutoLateralCA | 0 |
BitsPerSample | 8 |
Blacks2012 | 0 |
BlueHue | 0 |
BlueSaturation | 0 |
CameraProfile | Adobe Standard |
CircleOfConfusion | 0.031 mm |
Clarity2012 | +81 |
ColorComponents | 3 |
ColorNoiseReduction | 25 |
ColorNoiseReductionDetail | 50 |
ColorTemperature | 5400 |
ColorTransform | YCbCr |
Contrast2012 | +83 |
ConvertToGrayscale | False |
CreateDate (1) | 2013:10:24 13:29:47.95 |
CreateDate | 2013:10:24 13:29:47 |
CreatorTool | Adobe Photoshop Lightroom 4.4 (Windows) |
CropAngle | 0 |
CropBottom | 0.871951 |
CropConstrainToWarp | 0 |
CropHeight | 3265 |
CropLeft | 0.128049 |
CropRight | 1 |
CropTop | 0 |
CropUnit | pixels |
CropWidth | 4897 |
CustomRendered | Normal |
DateCreated (1) | 2013:10:24 |
DateCreated | 2013:10:24 13:29:47.95 |
DateTimeOriginal | 2013:10:24 13:29:47 |
DefringeGreenAmount | 0 |
DefringeGreenHueHi | 60 |
DefringeGreenHueLo | 40 |
DefringePurpleAmount | 0 |
DefringePurpleHueHi | 70 |
DefringePurpleHueLo | 30 |
DOF | inf (127.89 m - inf) |
Exposure2012 | 0.00 |
ExposureCompensation | 0 |
ExposureMode | Auto |
ExposureProgram | Shutter speed priority AE |
ExposureTime | 1/1600 |
Firmware | 2.1.2 |
Flash | Off, Did not fire |
FlashCompensation | 0 |
FNumber | 2.8 |
FocalLength | 105.0 mm |
FocalLength35efl | 105.0 mm (35 mm equivalent: 102.5 mm) |
Format | image/jpeg |
FOV | 19.9 deg |
GradientBasedCorrActive | true |
GradientBasedCorrAmount | 1.000000 |
GradientBasedCorrBrightness | 0.000000 |
GradientBasedCorrClarity2012 | 0.000000 |
GradientBasedCorrContrast2012 (1) | 0.632180 |
GradientBasedCorrContrast2012 | 0.000000 |
GradientBasedCorrDefringe | 0.000000 |
GradientBasedCorrExposure2012 (1) | 0.000000 |
GradientBasedCorrExposure2012 | -0.172500 |
GradientBasedCorrHighlights2012 (1) | -0.747130 |
GradientBasedCorrHighlights2012 | -0.885060 |
GradientBasedCorrHue | 164.000000 |
GradientBasedCorrLuminanceNoise | 0.000000 |
GradientBasedCorrMaskFullX (1) | 0.605220 |
GradientBasedCorrMaskFullX | 0.634915 |
GradientBasedCorrMaskFullY (1) | 0.233938 |
GradientBasedCorrMaskFullY | 0.881255 |
GradientBasedCorrMaskValue | 1.000000 |
GradientBasedCorrMaskWhat | Mask/Gradient |
GradientBasedCorrMaskZeroX (1) | 0.604203 |
GradientBasedCorrMaskZeroX | 0.649093 |
GradientBasedCorrMaskZeroY (1) | 0.979365 |
GradientBasedCorrMaskZeroY | 0.428000 |
GradientBasedCorrMoire | 0.000000 |
GradientBasedCorrSaturation | 0.000000 |
GradientBasedCorrShadows2012 (1) | -0.885060 |
GradientBasedCorrShadows2012 | 0.000000 |
GradientBasedCorrSharpness | 0.000000 |
GradientBasedCorrTemperature | 0.000000 |
GradientBasedCorrTint | 0.000000 |
GradientBasedCorrWhat | Correction |
GrainAmount | 0 |
GreenHue | 0 |
GreenSaturation | 0 |
HasCrop | True |
HasSettings | True |
Highlights2012 | -52 |
HueAdjustmentAqua | 0 |
HueAdjustmentBlue | 0 |
HueAdjustmentGreen | 0 |
HueAdjustmentMagenta | 0 |
HueAdjustmentOrange | 0 |
HueAdjustmentPurple | 0 |
HueAdjustmentRed | 0 |
HueAdjustmentYellow | 0 |
HyperfocalDistance | 127.89 m |
ImageHeight | 3265 |
ImageNumber | 0 |
ImageSize | 4897x3265 |
ImageWidth | 4897 |
ISO | 160 |
Lens | EF70-200mm f/2.8L IS II USM |
LensID (1) | 251 |
LensID | Canon EF 70-200mm f/2.8L IS II USM |
LensInfo | 70-200mm f/? |
LensManualDistortionAmount | 0 |
LensModel | EF70-200mm f/2.8L IS II USM |
LensProfileEnable | 0 |
LensProfileSetup | LensDefaults |
LightValue | 12.9 |
LuminanceAdjustmentAqua | 0 |
LuminanceAdjustmentBlue | +47 |
LuminanceAdjustmentGreen | 0 |
LuminanceAdjustmentMagenta | 0 |
LuminanceAdjustmentOrange | 0 |
LuminanceAdjustmentPurple | 0 |
LuminanceAdjustmentRed | 0 |
LuminanceAdjustmentYellow | 0 |
LuminanceNoiseReductionContrast | 0 |
LuminanceNoiseReductionDetail | 50 |
LuminanceSmoothing | 27 |
Make | Canon |
MaxApertureValue | 2.8 |
Megapixels | 16.0 |
MeteringMode | Multi-segment |
Model | Canon EOS 5D Mark II |
ModifyDate (1) | 2013:11:16 10:22:53+01:00 |
ModifyDate | 2013:11:16 10:22:53 |
PaintCorrectionActive | true |
PaintCorrectionAmount | 1.000000 |
PaintCorrectionBrightness | 0.000000 |
PaintCorrectionClarity2012 (1) | 0.839080 |
PaintCorrectionClarity2012 (4) | 0.770110 |
PaintCorrectionClarity2012 | 0.000000 |
PaintCorrectionContrast2012 (1) | 0.632180 |
PaintCorrectionContrast2012 (3) | 0.724140 |
PaintCorrectionContrast2012 (4) | 0.816090 |
PaintCorrectionContrast2012 | 0.000000 |
PaintCorrectionDefringe | 0.000000 |
PaintCorrectionExposure2012 (1) | -0.103500 |
PaintCorrectionExposure2012 (2) | 0.379250 |
PaintCorrectionExposure2012 (3) | 0.057500 |
PaintCorrectionExposure2012 (4) | -0.172500 |
PaintCorrectionExposure2012 (5) | 0.632250 |
PaintCorrectionExposure2012 | 0.448250 |
PaintCorrectionHighlights2012 (1) | 0.701150 |
PaintCorrectionHighlights2012 (4) | 0.494250 |
PaintCorrectionHighlights2012 | 0.000000 |
PaintCorrectionHue | 164.000000 |
PaintCorrectionLuminanceNoise | 0.000000 |
PaintCorrectionMaskCenterWeight | 0.119121 |
PaintCorrectionMaskFlow | 0.778000 |
PaintCorrectionMaskRadius (14) | 0.138087 |
PaintCorrectionMaskRadius (16) | 0.120405 |
PaintCorrectionMaskRadius (7) | 0.206340 |
PaintCorrectionMaskRadius | 0.179919 |
PaintCorrectionMaskValue | 1.000000 |
PaintCorrectionMaskWhat | Mask/Paint |
PaintCorrectionMoire | 0.000000 |
PaintCorrectionSaturation | 0.000000 |
PaintCorrectionShadows2012 (1) | -0.770110 |
PaintCorrectionShadows2012 (4) | -1.000000 |
PaintCorrectionShadows2012 | 0.000000 |
PaintCorrectionSharpness | 0.000000 |
PaintCorrectionTemperature | 0.000000 |
PaintCorrectionTint | 0.000000 |
PaintCorrectionWhat | Correction |
ParametricDarks | -15 |
ParametricHighlights | +22 |
ParametricHighlightSplit | 75 |
ParametricLights | -11 |
ParametricMidtoneSplit | 50 |
ParametricShadows | 0 |
ParametricShadowSplit | 25 |
PerspectiveHorizontal | 0 |
PerspectiveRotate | 0.0 |
PerspectiveScale | 100 |
PerspectiveVertical | 0 |
PostCropVignetteAmount | 0 |
ProcessVersion | 6.7 |
ProfileDescription | sRGB IEC61966-2.1 |
RedHue | 0 |
RedSaturation | 0 |
Saturation | 0 |
SaturationAdjustmentAqua | 0 |
SaturationAdjustmentBlue | -27 |
SaturationAdjustmentGreen | 0 |
SaturationAdjustmentMagenta | 0 |
SaturationAdjustmentOrange | 0 |
SaturationAdjustmentPurple | 0 |
SaturationAdjustmentRed | 0 |
SaturationAdjustmentYellow | 0 |
ScaleFactor35efl | 1.0 |
SceneCaptureType | Standard |
SerialNumber | 1431023839 |
Shadows2012 | -62 |
ShadowTint | 0 |
SharpenDetail | 0 |
SharpenEdgeMasking | 36 |
SharpenRadius | +1.0 |
Sharpness | 111 |
ShutterSpeed | 1/1600 |
ShutterSpeedValue | 1/1600 |
Software | Adobe Photoshop Lightroom 4.4 (Windows) |
SplitToningBalance | 0 |
SplitToningHighlightHue | 0 |
SplitToningHighlightSaturation | 0 |
SplitToningShadowHue | 0 |
SplitToningShadowSaturation | 0 |
Tint | +3 |
ToneCurveName2012 | Linear |
ToneCurvePV2012 | 0, 0, 255, 255 |
ToneCurvePV2012Blue | 0, 0, 255, 255 |
ToneCurvePV2012Green | 0, 0, 255, 255 |
ToneCurvePV2012Red | 0, 0, 255, 255 |
Version | 7.4 |
Vibrance | +31 |
VignetteAmount | +43 |
VignetteMidpoint | 50 |
WhiteBalance (1) | As Shot |
WhiteBalance | Auto |
Whites2012 | +7 |